Workbook

Sheet Riepilogo
A1: Riepilogo — analisi alternative costo matrimonio
A2: Indicatori calcolati dalle alternative e dalle ipotesi inserite. Tutte le denominazioni di esempio sono fittizie.
A3: Indicatori di decisione
A4: Opzioni registrate | B4: =IF(COUNTIF(Alternative!$A$5:$A$104,"<>")=0,"",COUNTIF(Alternative!$A$5:$A$104,"<>")) | D4: Righe di riferimento | E4: =IF(COUNTIF(Alternative!$A$5:$A$104,"<>")=0,"",COUNTIFS(Alternative!$A$5:$A$104,"<>",Alternative!$B$5:$B$104,"Riferimento"))
A5: Alternative preferite | B5: =IF(COUNTIF(Alternative!$A$5:$A$104,"<>")=0,"",COUNTIFS(Alternative!$A$5:$A$104,"<>",Alternative!$B$5:$B$104,"Alternativa",Alternative!$I$5:$I$104,"Preferita")) | D5: Alternative da valutare | E5: =IF(COUNTIF(Alternative!$A$5:$A$104,"<>")=0,"",COUNTIFS(Alternative!$B$5:$B$104,"Alternativa",Alternative!$I$5:$I$104,"Da valutare")+COUNTIFS(Alternative!$B$5:$B$104,"Alternativa",Alternative!$I$5:$I$104,"In valutazione"))
A6: Costo complessivo riferimenti | B6: =IF(COUNTIFS(Alternative!$B$5:$B$104,"Riferimento",Alternative!$D$5:$D$104,">0",Alternative!$F$5:$F$104,">0")=0,"",IFERROR(SUMIFS(Alternative!$J$5:$J$104,Alternative!$B$5:$B$104,"Riferimento"),"")) | D6: Costo alternative preferite | E6: =IF(COUNTIFS(Alternative!$B$5:$B$104,"Alternativa",Alternative!$I$5:$I$104,"Preferita",Alternative!$J$5:$J$104,">0")=0,"",IFERROR(SUMIFS(Alternative!$J$5:$J$104,Alternative!$B$5:$B$104,"Alternativa",Alternative!$I$5:$I$104,"Preferita"),""))
A7: Risparmio stimato preferite | B7: =IF(COUNTIFS(Alternative!$B$5:$B$104,"Alternativa",Alternative!$I$5:$I$104,"Preferita",Alternative!$K$5:$K$104,">0",Alternative!$J$5:$J$104,">0")=0,"",IFERROR(SUMIFS(Alternative!$L$5:$L$104,Alternative!$B$5:$B$104,"Alternativa",Alternative!$I$5:$I$104,"Preferita"),"")) | D7: Incidenza del risparmio | E7: =IF(OR(B6="",B7=""),"",IFERROR(B7/B6,""))
A8: Budget obiettivo | B8: =IF(ISNUMBER(Parametri!B4),Parametri!B4,"") | D8: Margine rispetto al budget | E8: =IF(COUNT(B8,E6)<2,"",IFERROR(B8-E6,""))
A9: Alternative senza riferimento | B9: =IF(COUNTIF(Alternative!$A$5:$A$104,"<>")=0,"",COUNTIFS(Alternative!$A$5:$A$104,"<>",Alternative!$B$5:$B$104,"Alternativa",Alternative!$D$5:$D$104,">0",Alternative!$F$5:$F$104,">0")-COUNTIFS(Alternative!$A$5:$A$104,"<>",Alternative!$B$5:$B$104,"Alternativa",Alternative!$D$5:$D$104,">0",Alternative!$F$5:$F$104,">0",Alternative!$K$5:$K$104,">0")) | D9: Voci scartate | E9: =IF(COUNTIF(Alternative!$A$5:$A$104,"<>")=0,"",COUNTIFS(Alternative!$A$5:$A$104,"<>",Alternative!$I$5:$I$104,"Scartata"))
A12: Attività | B12: Costo riferimento | C12: Costo preferito | D12: Risparmio | E12: Risparmio % | F12: Esito
A13: =IF(Parametri!D4="","",Parametri!D4) | B13: =IF(COUNTIFS(Alternative!$A$5:$A$104,$A13,Alternative!$B$5:$B$104,"Riferimento",Alternative!$D$5:$D$104,">0",Alternative!$F$5:$F$104,">0")=0,"",IFERROR(SUMIFS(Alternative!$J$5:$J$104,Alternative!$A$5:$A$104,$A13,Alternative!$B$5:$B$104,"Riferimento"),"")) | C13: =IF(COUNTIFS(Alternative!$A$5:$A$104,$A13,Alternative!$B$5:$B$104,"Alternativa",Alternative!$I$5:$I$104,"Preferita",Alternative!$J$5:$J$104,">0")=0,"",IFERROR(SUMIFS(Alternative!$J$5:$J$104,Alternative!$A$5:$A$104,$A13,Alternative!$B$5:$B$104,"Alternativa",Alternative!$I$5:$I$104,"Preferita"),"")) | D13: =IF(COUNT(B13,C13)<2,"",IFERROR(B13-C13,"")) | E13: =IF(COUNT(B13,D13)<2,"",IFERROR(D13/B13,"")) | F13: =IF(AND(B13="",C13=""),"Nessun dato",IF(OR(B13="",C13=""),"Da completare",IF(D13>0,"Costo inferiore",IF(D13<0,"Costo superiore","Parità"))))
A14: =IF(Parametri!D5="","",Parametri!D5) | B14: =IF(COUNTIFS(Alternative!$A$5:$A$104,$A14,Alternative!$B$5:$B$104,"Riferimento",Alternative!$D$5:$D$104,">0",Alternative!$F$5:$F$104,">0")=0,"",IFERROR(SUMIFS(Alternative!$J$5:$J$104,Alternative!$A$5:$A$104,$A14,Alternative!$B$5:$B$104,"Riferimento"),"")) | C14: =IF(COUNTIFS(Alternative!$A$5:$A$104,$A14,Alternative!$B$5:$B$104,"Alternativa",Alternative!$I$5:$I$104,"Preferita",Alternative!$J$5:$J$104,">0")=0,"",IFERROR(SUMIFS(Alternative!$J$5:$J$104,Alternative!$A$5:$A$104,$A14,Alternative!$B$5:$B$104,"Alternativa",Alternative!$I$5:$I$104,"Preferita"),"")) | D14: =IF(COUNT(B14,C14)<2,"",IFERROR(B14-C14,"")) | E14: =IF(COUNT(B14,D14)<2,"",IFERROR(D14/B14,"")) | F14: =IF(AND(B14="",C14=""),"Nessun dato",IF(OR(B14="",C14=""),"Da completare",IF(D14>0,"Costo inferiore",IF(D14<0,"Costo superiore","Parità"))))
A15: =IF(Parametri!D6="","",Parametri!D6) | B15: =IF(COUNTIFS(Alternative!$A$5:$A$104,$A15,Alternative!$B$5:$B$104,"Riferimento",Alternative!$D$5:$D$104,">0",Alternative!$F$5:$F$104,">0")=0,"",IFERROR(SUMIFS(Alternative!$J$5:$J$104,Alternative!$A$5:$A$104,$A15,Alternative!$B$5:$B$104,"Riferimento"),"")) | C15: =IF(COUNTIFS(Alternative!$A$5:$A$104,$A15,Alternative!$B$5:$B$104,"Alternativa",Alternative!$I$5:$I$104,"Preferita",Alternative!$J$5:$J$104,">0")=0,"",IFERROR(SUMIFS(Alternative!$J$5:$J$104,Alternative!$A$5:$A$104,$A15,Alternative!$B$5:$B$104,"Alternativa",Alternative!$I$5:$I$104,"Preferita"),"")) | D15: =IF(COUNT(B15,C15)<2,"",IFERROR(B15-C15,"")) | E15: =IF(COUNT(B15,D15)<2,"",IFERROR(D15/B15,"")) | F15: =IF(AND(B15="",C15=""),"Nessun dato",IF(OR(B15="",C15=""),"Da completare",IF(D15>0,"Costo inferiore",IF(D15<0,"Costo superiore","Parità"))))
A16: =IF(Parametri!D7="","",Parametri!D7) | B16: =IF(COUNTIFS(Alternative!$A$5:$A$104,$A16,Alternative!$B$5:$B$104,"Riferimento",Alternative!$D$5:$D$104,">0",Alternative!$F$5:$F$104,">0")=0,"",IFERROR(SUMIFS(Alternative!$J$5:$J$104,Alternative!$A$5:$A$104,$A16,Alternative!$B$5:$B$104,"Riferimento"),"")) | C16: =IF(COUNTIFS(Alternative!$A$5:$A$104,$A16,Alternative!$B$5:$B$104,"Alternativa",Alternative!$I$5:$I$104,"Preferita",Alternative!$J$5:$J$104,">0")=0,"",IFERROR(SUMIFS(Alternative!$J$5:$J$104,Alternative!$A$5:$A$104,$A16,Alternative!$B$5:$B$104,"Alternativa",Alternative!$I$5:$I$104,"Preferita"),"")) | D16: =IF(COUNT(B16,C16)<2,"",IFERROR(B16-C16,"")) | E16: =IF(COUNT(B16,D16)<2,"",IFERROR(D16/B16,"")) | F16: =IF(AND(B16="",C16=""),"Nessun dato",IF(OR(B16="",C16=""),"Da completare",IF(D16>0,"Costo inferiore",IF(D16<0,"Costo superiore","Parità"))))
A17: =IF(Parametri!D8="","",Parametri!D8) | B17: =IF(COUNTIFS(Alternative!$A$5:$A$104,$A17,Alternative!$B$5:$B$104,"Riferimento",Alternative!$D$5:$D$104,">0",Alternative!$F$5:$F$104,">0")=0,"",IFERROR(SUMIFS(Alternative!$J$5:$J$104,Alternative!$A$5:$A$104,$A17,Alternative!$B$5:$B$104,"Riferimento"),"")) | C17: =IF(COUNTIFS(Alternative!$A$5:$A$104,$A17,Alternative!$B$5:$B$104,"Alternativa",Alternative!$I$5:$I$104,"Preferita",Alternative!$J$5:$J$104,">0")=0,"",IFERROR(SUMIFS(Alternative!$J$5:$J$104,Alternative!$A$5:$A$104,$A17,Alternative!$B$5:$B$104,"Alternativa",Alternative!$I$5:$I$104,"Preferita"),"")) | D17: =IF(COUNT(B17,C17)<2,"",IFERROR(B17-C17,"")) | E17: =IF(COUNT(B17,D17)<2,"",IFERROR(D17/B17,"")) | F17: =IF(AND(B17="",C17=""),"Nessun dato",IF(OR(B17="",C17=""),"Da completare",IF(D17>0,"Costo inferiore",IF(D17<0,"Costo superiore","Parità"))))
A18: =IF(Parametri!D9="","",Parametri!D9) | B18: =IF(COUNTIFS(Alternative!$A$5:$A$104,$A18,Alternative!$B$5:$B$104,"Riferimento",Alternative!$D$5:$D$104,">0",Alternative!$F$5:$F$104,">0")=0,"",IFERROR(SUMIFS(Alternative!$J$5:$J$104,Alternative!$A$5:$A$104,$A18,Alternative!$B$5:$B$104,"Riferimento"),"")) | C18: =IF(COUNTIFS(Alternative!$A$5:$A$104,$A18,Alternative!$B$5:$B$104,"Alternativa",Alternative!$I$5:$I$104,"Preferita",Alternative!$J$5:$J$104,">0")=0,"",IFERROR(SUMIFS(Alternative!$J$5:$J$104,Alternative!$A$5:$A$104,$A18,Alternative!$B$5:$B$104,"Alternativa",Alternative!$I$5:$I$104,"Preferita"),"")) | D18: =IF(COUNT(B18,C18)<2,"",IFERROR(B18-C18,"")) | E18: =IF(COUNT(B18,D18)<2,"",IFERROR(D18/B18,"")) | F18: =IF(AND(B18="",C18=""),"Nessun dato",IF(OR(B18="",C18=""),"Da completare",IF(D18>0,"Costo inferiore",IF(D18<0,"Costo superiore","Parità"))))
A19: =IF(Parametri!D10="","",Parametri!D10) | B19: =IF(COUNTIFS(Alternative!$A$5:$A$104,$A19,Alternative!$B$5:$B$104,"Riferimento",Alternative!$D$5:$D$104,">0",Alternative!$F$5:$F$104,">0")=0,"",IFERROR(SUMIFS(Alternative!$J$5:$J$104,Alternative!$A$5:$A$104,$A19,Alternative!$B$5:$B$104,"Riferimento"),"")) | C19: =IF(COUNTIFS(Alternative!$A$5:$A$104,$A19,Alternative!$B$5:$B$104,"Alternativa",Alternative!$I$5:$I$104,"Preferita",Alternative!$J$5:$J$104,">0")=0,"",IFERROR(SUMIFS(Alternative!$J$5:$J$104,Alternative!$A$5:$A$104,$A19,Alternative!$B$5:$B$104,"Alternativa",Alternative!$I$5:$I$104,"Preferita"),"")) | D19: =IF(COUNT(B19,C19)<2,"",IFERROR(B19-C19,"")) | E19: =IF(COUNT(B19,D19)<2,"",IFERROR(D19/B19,"")) | F19: =IF(AND(B19="",C19=""),"Nessun dato",IF(OR(B19="",C19=""),"Da completare",IF(D19>0,"Costo inferiore",IF(D19<0,"Costo superiore","Parità"))))
A20: =IF(Parametri!D11="","",Parametri!D11) | B20: =IF(COUNTIFS(Alternative!$A$5:$A$104,$A20,Alternative!$B$5:$B$104,"Riferimento",Alternative!$D$5:$D$104,">0",Alternative!$F$5:$F$104,">0")=0,"",IFERROR(SUMIFS(Alternative!$J$5:$J$104,Alternative!$A$5:$A$104,$A20,Alternative!$B$5:$B$104,"Riferimento"),"")) | C20: =IF(COUNTIFS(Alternative!$A$5:$A$104,$A20,Alternative!$B$5:$B$104,"Alternativa",Alternative!$I$5:$I$104,"Preferita",Alternative!$J$5:$J$104,">0")=0,"",IFERROR(SUMIFS(Alternative!$J$5:$J$104,Alternative!$A$5:$A$104,$A20,Alternative!$B$5:$B$104,"Alternativa",Alternative!$I$5:$I$104,"Preferita"),"")) | D20: =IF(COUNT(B20,C20)<2,"",IFERROR(B20-C20,"")) | E20: =IF(COUNT(B20,D20)<2,"",IFERROR(D20/B20,"")) | F20: =IF(AND(B20="",C20=""),"Nessun dato",IF(OR(B20="",C20=""),"Da completare",IF(D20>0,"Costo inferiore",IF(D20<0,"Costo superiore","Parità"))))
A21: =IF(Parametri!D12="","",Parametri!D12) | B21: =IF(COUNTIFS(Alternative!$A$5:$A$104,$A21,Alternative!$B$5:$B$104,"Riferimento",Alternative!$D$5:$D$104,">0",Alternative!$F$5:$F$104,">0")=0,"",IFERROR(SUMIFS(Alternative!$J$5:$J$104,Alternative!$A$5:$A$104,$A21,Alternative!$B$5:$B$104,"Riferimento"),"")) | C21: =IF(COUNTIFS(Alternative!$A$5:$A$104,$A21,Alternative!$B$5:$B$104,"Alternativa",Alternative!$I$5:$I$104,"Preferita",Alternative!$J$5:$J$104,">0")=0,"",IFERROR(SUMIFS(Alternative!$J$5:$J$104,Alternative!$A$5:$A$104,$A21,Alternative!$B$5:$B$104,"Alternativa",Alternative!$I$5:$I$104,"Preferita"),"")) | D21: =IF(COUNT(B21,C21)<2,"",IFERROR(B21-C21,"")) | E21: =IF(COUNT(B21,D21)<2,"",IFERROR(D21/B21,"")) | F21: =IF(AND(B21="",C21=""),"Nessun dato",IF(OR(B21="",C21=""),"Da completare",IF(D21>0,"Costo inferiore",IF(D21<0,"Costo superiore","Parità"))))
A22: =IF(Parametri!D13="","",Parametri!D13) | B22: =IF(COUNTIFS(Alternative!$A$5:$A$104,$A22,Alternative!$B$5:$B$104,"Riferimento",Alternative!$D$5:$D$104,">0",Alternative!$F$5:$F$104,">0")=0,"",IFERROR(SUMIFS(Alternative!$J$5:$J$104,Alternative!$A$5:$A$104,$A22,Alternative!$B$5:$B$104,"Riferimento"),"")) | C22: =IF(COUNTIFS(Alternative!$A$5:$A$104,$A22,Alternative!$B$5:$B$104,"Alternativa",Alternative!$I$5:$I$104,"Preferita",Alternative!$J$5:$J$104,">0")=0,"",IFERROR(SUMIFS(Alternative!$J$5:$J$104,Alternative!$A$5:$A$104,$A22,Alternative!$B$5:$B$104,"Alternativa",Alternative!$I$5:$I$104,"Preferita"),"")) | D22: =IF(COUNT(B22,C22)<2,"",IFERROR(B22-C22,"")) | E22: =IF(COUNT(B22,D22)<2,"",IFERROR(D22/B22,"")) | F22: =IF(AND(B22="",C22=""),"Nessun dato",IF(OR(B22="",C22=""),"Da completare",IF(D22>0,"Costo inferiore",IF(D22<0,"Costo superiore","Parità"))))

Sheet Alternative
A1: Alternative di costo
A2: Compila le celle avorio. Le formule confrontano ogni alternativa con il riferimento della stessa attività.
A3: Gli avvisi evidenziano dati da controllare manualmente; esempi, imprese e referenti sono interamente fittizi.
A4: Attività | B4: Tipo opzione | C4: Data valutazione | D4: Quantità | E4: Unità | F4: Importo unitario | G4: Fornitore | H4: Responsabile | I4: Stato | J4: Costo totale | K4: Costo riferimento | L4: Risparmio | M4: Risparmio %
A5: Location | B5: Riferimento | C5: 46256 | D5: 1 | E5: servizi | F5: 6800 | G5: Spazio Inventato Aurora | H5: Referente Fittizio A | I5: In valutazione | J5: =IF(OR(A5="",NOT(ISNUMBER(D5)),NOT(ISNUMBER(F5))),"",IF(OR(D5<=0,F5<=0),"",IFERROR(D5*F5,""))) | K5: =IF(A5="","",IF(COUNTIFS($A$5:$A$104,A5,$B$5:$B$104,"Riferimento",$D$5:$D$104,">0",$F$5:$F$104,">0")=0,"",IFERROR(SUMIFS($J$5:$J$104,$A$5:$A$104,A5,$B$5:$B$104,"Riferimento"),""))) | L5: =IF(OR(B5<>"Alternativa",COUNT(J5,K5)<2),"",IFERROR(K5-J5,"")) | M5: =IF(COUNT(K5,L5)<2,"",IFERROR(L5/K5,""))
A6: Location | B6: Alternativa | C6: 46257 | D6: 1 | E6: servizi | F6: 4900 | G6: Locanda Fittizia dei Sogni | H6: Referente Fittizio A | I6: Preferita | J6: =IF(OR(A6="",NOT(ISNUMBER(D6)),NOT(ISNUMBER(F6))),"",IF(OR(D6<=0,F6<=0),"",IFERROR(D6*F6,""))) | K6: =IF(A6="","",IF(COUNTIFS($A$5:$A$104,A6,$B$5:$B$104,"Riferimento",$D$5:$D$104,">0",$F$5:$F$104,">0")=0,"",IFERROR(SUMIFS($J$5:$J$104,$A$5:$A$104,A6,$B$5:$B$104,"Riferimento"),""))) | L6: =IF(OR(B6<>"Alternativa",COUNT(J6,K6)<2),"",IFERROR(K6-J6,"")) | M6: =IF(COUNT(K6,L6)<2,"",IFERROR(L6/K6,""))
A7: Catering | B7: Riferimento | C7: 46258 | D7: 80 | E7: persone | F7: 95 | G7: Cucina Immaginaria Uno | H7: Referente Fittizio B | I7: In valutazione | J7: =IF(OR(A7="",NOT(ISNUMBER(D7)),NOT(ISNUMBER(F7))),"",IF(OR(D7<=0,F7<=0),"",IFERROR(D7*F7,""))) | K7: =IF(A7="","",IF(COUNTIFS($A$5:$A$104,A7,$B$5:$B$104,"Riferimento",$D$5:$D$104,">0",$F$5:$F$104,">0")=0,"",IFERROR(SUMIFS($J$5:$J$104,$A$5:$A$104,A7,$B$5:$B$104,"Riferimento"),""))) | L7: =IF(OR(B7<>"Alternativa",COUNT(J7,K7)<2),"",IFERROR(K7-J7,"")) | M7: =IF(COUNT(K7,L7)<2,"",IFERROR(L7/K7,""))
A8: Catering | B8: Alternativa | C8: 46259 | D8: 80 | E8: persone | F8: 72 | G8: Banchetto Fittizio Due | H8: Referente Fittizio B | I8: Preferita | J8: =IF(OR(A8="",NOT(ISNUMBER(D8)),NOT(ISNUMBER(F8))),"",IF(OR(D8<=0,F8<=0),"",IFERROR(D8*F8,""))) | K8: =IF(A8="","",IF(COUNTIFS($A$5:$A$104,A8,$B$5:$B$104,"Riferimento",$D$5:$D$104,">0",$F$5:$F$104,">0")=0,"",IFERROR(SUMIFS($J$5:$J$104,$A$5:$A$104,A8,$B$5:$B$104,"Riferimento"),""))) | L8: =IF(OR(B8<>"Alternativa",COUNT(J8,K8)<2),"",IFERROR(K8-J8,"")) | M8: =IF(COUNT(K8,L8)<2,"",IFERROR(L8/K8,""))
A9: Fiori | B9: Riferimento | C9: 46260 | D9: 1 | E9: servizi | F9: 1800 | G9: Petali Inventati | H9: Referente Fittizio C | I9: In valutazione | J9: =IF(OR(A9="",NOT(ISNUMBER(D9)),NOT(ISNUMBER(F9))),"",IF(OR(D9<=0,F9<=0),"",IFERROR(D9*F9,""))) | K9: =IF(A9="","",IF(COUNTIFS($A$5:$A$104,A9,$B$5:$B$104,"Riferimento",$D$5:$D$104,">0",$F$5:$F$104,">0")=0,"",IFERROR(SUMIFS($J$5:$J$104,$A$5:$A$104,A9,$B$5:$B$104,"Riferimento"),""))) | L9: =IF(OR(B9<>"Alternativa",COUNT(J9,K9)<2),"",IFERROR(K9-J9,"")) | M9: =IF(COUNT(K9,L9)<2,"",IFERROR(L9/K9,""))
A10: Fiori | B10: Alternativa | C10: 46261 | D10: 1 | E10: servizi | F10: 950 | G10: Fiori Fittizi Studio | H10: Referente Fittizio C | I10: Preferita | J10: =IF(OR(A10="",NOT(ISNUMBER(D10)),NOT(ISNUMBER(F10))),"",IF(OR(D10<=0,F10<=0),"",IFERROR(D10*F10,""))) | K10: =IF(A10="","",IF(COUNTIFS($A$5:$A$104,A10,$B$5:$B$104,"Riferimento",$D$5:$D$104,">0",$F$5:$F$104,">0")=0,"",IFERROR(SUMIFS($J$5:$J$104,$A$5:$A$104,A10,$B$5:$B$104,"Riferimento"),""))) | L10: =IF(OR(B10<>"Alternativa",COUNT(J10,K10)<2),"",IFERROR(K10-J10,"")) | M10: =IF(COUNT(K10,L10)<2,"",IFERROR(L10/K10,""))
A11: Musica | B11: Riferimento | C11: 46262 | D11: 6 | E11: ore | F11: 220 | G11: Note Immaginarie | H11: Referente Fittizio D | I11: In valutazione | J11: =IF(OR(A11="",NOT(ISNUMBER(D11)),NOT(ISNUMBER(F11))),"",IF(OR(D11<=0,F11<=0),"",IFERROR(D11*F11,""))) | K11: =IF(A11="","",IF(COUNTIFS($A$5:$A$104,A11,$B$5:$B$104,"Riferimento",$D$5:$D$104,">0",$F$5:$F$104,">0")=0,"",IFERROR(SUMIFS($J$5:$J$104,$A$5:$A$104,A11,$B$5:$B$104,"Riferimento"),""))) | L11: =IF(OR(B11<>"Alternativa",COUNT(J11,K11)<2),"",IFERROR(K11-J11,"")) | M11: =IF(COUNT(K11,L11)<2,"",IFERROR(L11/K11,""))
A12: Musica | B12: Alternativa | C12: 46263 | D12: 5 | E12: ore | F12: 150 | G12: Suoni Fittizi | H12: Referente Fittizio D | I12: Preferita | J12: =IF(OR(A12="",NOT(ISNUMBER(D12)),NOT(ISNUMBER(F12))),"",IF(OR(D12<=0,F12<=0),"",IFERROR(D12*F12,""))) | K12: =IF(A12="","",IF(COUNTIFS($A$5:$A$104,A12,$B$5:$B$104,"Riferimento",$D$5:$D$104,">0",$F$5:$F$104,">0")=0,"",IFERROR(SUMIFS($J$5:$J$104,$A$5:$A$104,A12,$B$5:$B$104,"Riferimento"),""))) | L12: =IF(OR(B12<>"Alternativa",COUNT(J12,K12)<2),"",IFERROR(K12-J12,"")) | M12: =IF(COUNT(K12,L12)<2,"",IFERROR(L12/K12,""))
A13: Trasporto | B13: Riferimento | C13: 46264 | D13: 1 | E13: servizi | F13: 1400 | G13: Viaggi Inventati | H13: Referente Fittizio E | I13: In valutazione | J13: =IF(OR(A13="",NOT(ISNUMBER(D13)),NOT(ISNUMBER(F13))),"",IF(OR(D13<=0,F13<=0),"",IFERROR(D13*F13,""))) | K13: =IF(A13="","",IF(COUNTIFS($A$5:$A$104,A13,$B$5:$B$104,"Riferimento",$D$5:$D$104,">0",$F$5:$F$104,">0")=0,"",IFERROR(SUMIFS($J$5:$J$104,$A$5:$A$104,A13,$B$5:$B$104,"Riferimento"),""))) | L13: =IF(OR(B13<>"Alternativa",COUNT(J13,K13)<2),"",IFERROR(K13-J13,"")) | M13: =IF(COUNT(K13,L13)<2,"",IFERROR(L13/K13,""))
A14: Trasporto | B14: Alternativa | C14: 46265 | D14: 1 | E14: servizi | F14: 650 | G14: Navetta Fittizia | H14: Referente Fittizio E | I14: Preferita | J14: =IF(OR(A14="",NOT(ISNUMBER(D14)),NOT(ISNUMBER(F14))),"",IF(OR(D14<=0,F14<=0),"",IFERROR(D14*F14,""))) | K14: =IF(A14="","",IF(COUNTIFS($A$5:$A$104,A14,$B$5:$B$104,"Riferimento",$D$5:$D$104,">0",$F$5:$F$104,">0")=0,"",IFERROR(SUMIFS($J$5:$J$104,$A$5:$A$104,A14,$B$5:$B$104,"Riferimento"),""))) | L14: =IF(OR(B14<>"Alternativa",COUNT(J14,K14)<2),"",IFERROR(K14-J14,"")) | M14: =IF(COUNT(K14,L14)<2,"",IFERROR(L14/K14,""))
J15: =IF(OR(A15="",NOT(ISNUMBER(D15)),NOT(ISNUMBER(F15))),"",IF(OR(D15<=0,F15<=0),"",IFERROR(D15*F15,""))) | K15: =IF(A15="","",IF(COUNTIFS($A$5:$A$104,A15,$B$5:$B$104,"Riferimento",$D$5:$D$104,">0",$F$5:$F$104,">0")=0,"",IFERROR(SUMIFS($J$5:$J$104,$A$5:$A$104,A15,$B$5:$B$104,"Riferimento"),""))) | L15: =IF(OR(B15<>"Alternativa",COUNT(J15,K15)<2),"",IFERROR(K15-J15,"")) | M15: =IF(COUNT(K15,L15)<2,"",IFERROR(L15/K15,""))
J16: =IF(OR(A16="",NOT(ISNUMBER(D16)),NOT(ISNUMBER(F16))),"",IF(OR(D16<=0,F16<=0),"",IFERROR(D16*F16,""))) | K16: =IF(A16="","",IF(COUNTIFS($A$5:$A$104,A16,$B$5:$B$104,"Riferimento",$D$5:$D$104,">0",$F$5:$F$104,">0")=0,"",IFERROR(SUMIFS($J$5:$J$104,$A$5:$A$104,A16,$B$5:$B$104,"Riferimento"),""))) | L16: =IF(OR(B16<>"Alternativa",COUNT(J16,K16)<2),"",IFERROR(K16-J16,"")) | M16: =IF(COUNT(K16,L16)<2,"",IFERROR(L16/K16,""))
J17: =IF(OR(A17="",NOT(ISNUMBER(D17)),NOT(ISNUMBER(F17))),"",IF(OR(D17<=0,F17<=0),"",IFERROR(D17*F17,""))) | K17: =IF(A17="","",IF(COUNTIFS($A$5:$A$104,A17,$B$5:$B$104,"Riferimento",$D$5:$D$104,">0",$F$5:$F$104,">0")=0,"",IFERROR(SUMIFS($J$5:$J$104,$A$5:$A$104,A17,$B$5:$B$104,"Riferimento"),""))) | L17: =IF(OR(B17<>"Alternativa",COUNT(J17,K17)<2),"",IFERROR(K17-J17,"")) | M17: =IF(COUNT(K17,L17)<2,"",IFERROR(L17/K17,""))
J18: =IF(OR(A18="",NOT(ISNUMBER(D18)),NOT(ISNUMBER(F18))),"",IF(OR(D18<=0,F18<=0),"",IFERROR(D18*F18,""))) | K18: =IF(A18="","",IF(COUNTIFS($A$5:$A$104,A18,$B$5:$B$104,"Riferimento",$D$5:$D$104,">0",$F$5:$F$104,">0")=0,"",IFERROR(SUMIFS($J$5:$J$104,$A$5:$A$104,A18,$B$5:$B$104,"Riferimento"),""))) | L18: =IF(OR(B18<>"Alternativa",COUNT(J18,K18)<2),"",IFERROR(K18-J18,"")) | M18: =IF(COUNT(K18,L18)<2,"",IFERROR(L18/K18,""))
J19: =IF(OR(A19="",NOT(ISNUMBER(D19)),NOT(ISNUMBER(F19))),"",IF(OR(D19<=0,F19<=0),"",IFERROR(D19*F19,""))) | K19: =IF(A19="","",IF(COUNTIFS($A$5:$A$104,A19,$B$5:$B$104,"Riferimento",$D$5:$D$104,">0",$F$5:$F$104,">0")=0,"",IFERROR(SUMIFS($J$5:$J$104,$A$5:$A$104,A19,$B$5:$B$104,"Riferimento"),""))) | L19: =IF(OR(B19<>"Alternativa",COUNT(J19,K19)<2),"",IFERROR(K19-J19,"")) | M19: =IF(COUNT(K19,L19)<2,"",IFERROR(L19/K19,""))
J20: =IF(OR(A20="",NOT(ISNUMBER(D20)),NOT(ISNUMBER(F20))),"",IF(OR(D20<=0,F20<=0),"",IFERROR(D20*F20,""))) | K20: =IF(A20="","",IF(COUNTIFS($A$5:$A$104,A20,$B$5:$B$104,"Riferimento",$D$5:$D$104,">0",$F$5:$F$104,">0")=0,"",IFERROR(SUMIFS($J$5:$J$104,$A$5:$A$104,A20,$B$5:$B$104,"Riferimento"),""))) | L20: =IF(OR(B20<>"Alternativa",COUNT(J20,K20)<2),"",IFERROR(K20-J20,"")) | M20: =IF(COUNT(K20,L20)<2,"",IFERROR(L20/K20,""))
J21: =IF(OR(A21="",NOT(ISNUMBER(D21)),NOT(ISNUMBER(F21))),"",IF(OR(D21<=0,F21<=0),"",IFERROR(D21*F21,""))) | K21: =IF(A21="","",IF(COUNTIFS($A$5:$A$104,A21,$B$5:$B$104,"Riferimento",$D$5:$D$104,">0",$F$5:$F$104,">0")=0,"",IFERROR(SUMIFS($J$5:$J$104,$A$5:$A$104,A21,$B$5:$B$104,"Riferimento"),""))) | L21: =IF(OR(B21<>"Alternativa",COUNT(J21,K21)<2),"",IFERROR(K21-J21,"")) | M21: =IF(COUNT(K21,L21)<2,"",IFERROR(L21/K21,""))
J22: =IF(OR(A22="",NOT(ISNUMBER(D22)),NOT(ISNUMBER(F22))),"",IF(OR(D22<=0,F22<=0),"",IFERROR(D22*F22,""))) | K22: =IF(A22="","",IF(COUNTIFS($A$5:$A$104,A22,$B$5:$B$104,"Riferimento",$D$5:$D$104,">0",$F$5:$F$104,">0")=0,"",IFERROR(SUMIFS($J$5:$J$104,$A$5:$A$104,A22,$B$5:$B$104,"Riferimento"),""))) | L22: =IF(OR(B22<>"Alternativa",COUNT(J22,K22)<2),"",IFERROR(K22-J22,"")) | M22: =IF(COUNT(K22,L22)<2,"",IFERROR(L22/K22,""))
J23: =IF(OR(A23="",NOT(ISNUMBER(D23)),NOT(ISNUMBER(F23))),"",IF(OR(D23<=0,F23<=0),"",IFERROR(D23*F23,""))) | K23: =IF(A23="","",IF(COUNTIFS($A$5:$A$104,A23,$B$5:$B$104,"Riferimento",$D$5:$D$104,">0",$F$5:$F$104,">0")=0,"",IFERROR(SUMIFS($J$5:$J$104,$A$5:$A$104,A23,$B$5:$B$104,"Riferimento"),""))) | L23: =IF(OR(B23<>"Alternativa",COUNT(J23,K23)<2),"",IFERROR(K23-J23,"")) | M23: =IF(COUNT(K23,L23)<2,"",IFERROR(L23/K23,""))
J24: =IF(OR(A24="",NOT(ISNUMBER(D24)),NOT(ISNUMBER(F24))),"",IF(OR(D24<=0,F24<=0),"",IFERROR(D24*F24,""))) | K24: =IF(A24="","",IF(COUNTIFS($A$5:$A$104,A24,$B$5:$B$104,"Riferimento",$D$5:$D$104,">0",$F$5:$F$104,">0")=0,"",IFERROR(SUMIFS($J$5:$J$104,$A$5:$A$104,A24,$B$5:$B$104,"Riferimento"),""))) | L24: =IF(OR(B24<>"Alternativa",COUNT(J24,K24)<2),"",IFERROR(K24-J24,"")) | M24: =IF(COUNT(K24,L24)<2,"",IFERROR(L24/K24,""))
J25: =IF(OR(A25="",NOT(ISNUMBER(D25)),NOT(ISNUMBER(F25))),"",IF(OR(D25<=0,F25<=0),"",IFERROR(D25*F25,""))) | K25: =IF(A25="","",IF(COUNTIFS($A$5:$A$104,A25,$B$5:$B$104,"Riferimento",$D$5:$D$104,">0",$F$5:$F$104,">0")=0,"",IFERROR(SUMIFS($J$5:$J$104,$A$5:$A$104,A25,$B$5:$B$104,"Riferimento"),""))) | L25: =IF(OR(B25<>"Alternativa",COUNT(J25,K25)<2),"",IFERROR(K25-J25,"")) | M25: =IF(COUNT(K25,L25)<2,"",IFERROR(L25/K25,""))
J26: =IF(OR(A26="",NOT(ISNUMBER(D26)),NOT(ISNUMBER(F26))),"",IF(OR(D26<=0,F26<=0),"",IFERROR(D26*F26,""))) | K26: =IF(A26="","",IF(COUNTIFS($A$5:$A$104,A26,$B$5:$B$104,"Riferimento",$D$5:$D$104,">0",$F$5:$F$104,">0")=0,"",IFERROR(SUMIFS($J$5:$J$104,$A$5:$A$104,A26,$B$5:$B$104,"Riferimento"),""))) | L26: =IF(OR(B26<>"Alternativa",COUNT(J26,K26)<2),"",IFERROR(K26-J26,"")) | M26: =IF(COUNT(K26,L26)<2,"",IFERROR(L26/K26,""))
... J104: =IF(OR(A104="",NOT(ISNUMBER(D104)),NOT(ISNUMBER(F104))),"",IF(OR(D104<=0,F104<=0),"",IFERROR(D104*F104,""))) | K104: =IF(A104="","",IF(COUNTIFS($A$5:$A$104,A104,$B$5:$B$104,"Riferimento",$D$5:$D$104,">0",$F$5:$F$104,">0")=0,"",IFERROR(SUMIFS($J$5:$J$104,$A$5:$A$104,A104,$B$5:$B$104,"Riferimento"),""))) | L104: =IF(OR(B104<>"Alternativa",COUNT(J104,K104)<2),"",IFERROR(K104-J104,"")) | M104: =IF(COUNT(K104,L104)<2,"",IFERROR(L104/K104,""))

Sheet Parametri
A1: Parametri — analisi alternative costo matrimonio
A2: Modifica le ipotesi e gli elenchi avorio prima di valutare le alternative. Tutti gli esempi sono fittizi.
A3: Ipotesi modificabile | B3: Valore | D3: Attività | E3: Unità | F3: Tipo opzione | G3: Stato
A4: Budget obiettivo | B4: 15000 | D4: Location | E4: persone | F4: Riferimento | G4: Da valutare
A5: Data del matrimonio | B5: 46576 | D5: Catering | E5: ore | F5: Alternativa | G5: In valutazione
A6: Prima data di valutazione ammessa | B6: 46096 | D6: Fiori | E6: pezzi | G6: Preferita
A7: Ultima data di valutazione ammessa | B7: 46576 | D7: Musica | E7: servizi | G7: Scartata
A8: Quantità massima per voce | B8: 500 | D8: Trasporto
A9: Importo unitario massimo | B9: 25000 | D9: Foto e video
A10: Soglia di risparmio significativa | B10: 0.1 | D10: Abiti
D11: Torta
A12: Controllo umano | D12: Partecipazioni
A13: Le soglie sono ipotesi organizzative modificabili e non costituiscono preventivi, prezzi garantiti o valutazioni fiscali. | D13: Bomboniere
