Workbook

Sheet Riepilogo
A1: Bambini invitati matrimonio — riepilogo calcolato
A3: Indicatore | B3: Valore | D3: Fascia di età confermata | E3: Bambini
A4: Bambini registrati | B4: =COUNTIF(Bambini!$B$4:$B$103,"<>") | D4: =Parametri!$L$4 | E4: =IF(COUNTIF(Bambini!$B$4:$B$103,"<>")=0,"",COUNTIFS(Bambini!$E$4:$E$103,$D4,Bambini!$F$4:$F$103,"Confermato"))
A5: Bambini confermati | B5: =COUNTIFS(Bambini!$B$4:$B$103,"<>",Bambini!$F$4:$F$103,"Confermato") | D5: =Parametri!$L$5 | E5: =IF(COUNTIF(Bambini!$B$4:$B$103,"<>")=0,"",COUNTIFS(Bambini!$E$4:$E$103,$D5,Bambini!$F$4:$F$103,"Confermato"))
A6: Bambini da confermare | B6: =COUNTIFS(Bambini!$B$4:$B$103,"<>",Bambini!$F$4:$F$103,"Da confermare") | D6: =Parametri!$L$6 | E6: =IF(COUNTIF(Bambini!$B$4:$B$103,"<>")=0,"",COUNTIFS(Bambini!$E$4:$E$103,$D6,Bambini!$F$4:$F$103,"Confermato"))
A7: Bambini che non partecipano | B7: =COUNTIFS(Bambini!$B$4:$B$103,"<>",Bambini!$F$4:$F$103,"Non partecipa") | D7: =Parametri!$L$7 | E7: =IF(COUNTIF(Bambini!$B$4:$B$103,"<>")=0,"",COUNTIFS(Bambini!$E$4:$E$103,$D7,Bambini!$F$4:$F$103,"Confermato"))
A8: Seggioloni da prevedere | B8: =COUNTIFS(Bambini!$F$4:$F$103,"Confermato",Bambini!$H$4:$H$103,"Sì")
A9: Assistenza dedicata richiesta | B9: =COUNTIFS(Bambini!$F$4:$F$103,"Confermato",Bambini!$I$4:$I$103,"Animazione")+COUNTIFS(Bambini!$F$4:$F$103,"Confermato",Bambini!$I$4:$I$103,"Baby-sitter")
A10: Importi previsti servizi | B10: =IF(COUNT('Attività'!$G$4:$G$103)=0,"",SUM('Attività'!$G$4:$G$103)) | D10: Menu confermato | E10: Bambini
A11: Margine su budget indicativo | B11: =IF(B10="","",IFERROR(Parametri!$B$9-B10,"")) | D11: =Parametri!$E$4 | E11: =IF(COUNTIF(Bambini!$B$4:$B$103,"<>")=0,"",COUNTIFS(Bambini!$G$4:$G$103,$D11,Bambini!$F$4:$F$103,"Confermato"))
A12: Costo medio per confermato | B12: =IF(OR(B10="",B5=0),"",IFERROR(B10/B5,"")) | D12: =Parametri!$E$5 | E12: =IF(COUNTIF(Bambini!$B$4:$B$103,"<>")=0,"",COUNTIFS(Bambini!$G$4:$G$103,$D12,Bambini!$F$4:$F$103,"Confermato"))
A13: Attività non chiuse | B13: =COUNTIFS('Attività'!$B$4:$B$103,"<>",'Attività'!$J$4:$J$103,"<>Completata",'Attività'!$J$4:$J$103,"<>Annullata") | D13: =Parametri!$E$6 | E13: =IF(COUNTIF(Bambini!$B$4:$B$103,"<>")=0,"",COUNTIFS(Bambini!$G$4:$G$103,$D13,Bambini!$F$4:$F$103,"Confermato"))
A14: Attività con importo da completare | B14: =COUNTIFS('Attività'!$B$4:$B$103,"<>",'Attività'!$G$4:$G$103,"") | D14: =Parametri!$E$7 | E14: =IF(COUNTIF(Bambini!$B$4:$B$103,"<>")=0,"",COUNTIFS(Bambini!$G$4:$G$103,$D14,Bambini!$F$4:$F$103,"Confermato"))

Sheet Bambini
A1: Bambini invitati — registro operativo con esempi fittizi
A3: ID invitato | B3: Bambino/a fittizio/a | C3: Data di nascita | D3: Età al matrimonio | E3: Fascia di età | F3: Conferma | G3: Menu | H3: Seggiolone | I3: Assistenza | J3: Responsabile fittizio | K3: Note operative
A4: BF-001 | B4: Bambina Fittizia 01 | C4: 44634 | D4: =IF(OR(B4="",C4=""),"",IFERROR(DATEDIF(C4,Parametri!$B$4,"Y"),"")) | E4: =IF(D4="","",IFERROR(VLOOKUP(D4,Parametri!$K$4:$L$7,2,TRUE),"")) | F4: Confermato | G4: Bambini | H4: No | I4: Con famiglia | J4: Adulto Fittizio A | K4: Posto vicino al responsabile.
A5: BF-002 | B5: Bambino Fittizio 02 | C5: 45667 | D5: =IF(OR(B5="",C5=""),"",IFERROR(DATEDIF(C5,Parametri!$B$4,"Y"),"")) | E5: =IF(D5="","",IFERROR(VLOOKUP(D5,Parametri!$K$4:$L$7,2,TRUE),"")) | F5: Confermato | G5: Baby | H5: Sì | I5: Baby-sitter | J5: Adulto Fittizio B | K5: Verificare il seggiolone scelto.
A6: BF-003 | B6: Bambina Fittizia 03 | C6: 45463 | D6: =IF(OR(B6="",C6=""),"",IFERROR(DATEDIF(C6,Parametri!$B$4,"Y"),"")) | E6: =IF(D6="","",IFERROR(VLOOKUP(D6,Parametri!$K$4:$L$7,2,TRUE),"")) | F6: Confermato | G6: Bambini | H6: No | I6: Animazione | J6: Adulto Fittizio C | K6: Partecipa al laboratorio fittizio.
A7: BF-004 | B7: Bambino Fittizio 04 | C7: 44367 | D7: =IF(OR(B7="",C7=""),"",IFERROR(DATEDIF(C7,Parametri!$B$4,"Y"),"")) | E7: =IF(D7="","",IFERROR(VLOOKUP(D7,Parametri!$K$4:$L$7,2,TRUE),"")) | F7: Da confermare | G7: Da definire | H7: Da definire | I7: Da definire | J7: Adulto Fittizio D | K7: Richiede controllo umano.
A8: BF-005 | B8: Bambina Fittizia 05 | C8: 42774 | D8: =IF(OR(B8="",C8=""),"",IFERROR(DATEDIF(C8,Parametri!$B$4,"Y"),"")) | E8: =IF(D8="","",IFERROR(VLOOKUP(D8,Parametri!$K$4:$L$7,2,TRUE),"")) | F8: Confermato | G8: Standard | H8: No | I8: Nessuna | J8: Adulto Fittizio E
A9: BF-006 | B9: Bambino Fittizio 06 | C9: 42096 | D9: =IF(OR(B9="",C9=""),"",IFERROR(DATEDIF(C9,Parametri!$B$4,"Y"),"")) | E9: =IF(D9="","",IFERROR(VLOOKUP(D9,Parametri!$K$4:$L$7,2,TRUE),"")) | F9: Non partecipa | G9: Da definire | H9: No | I9: Nessuna | J9: Adulto Fittizio F
A10: BF-007 | B10: Bambina Fittizia 07 | C10: 40179 | D10: =IF(OR(B10="",C10=""),"",IFERROR(DATEDIF(C10,Parametri!$B$4,"Y"),"")) | E10: =IF(D10="","",IFERROR(VLOOKUP(D10,Parametri!$K$4:$L$7,2,TRUE),"")) | F10: Confermato | G10: Standard | H10: No | I10: Nessuna | J10: Adulto Fittizio G
A11: BF-008 | B11: Bambino Fittizio 08 | C11: 46147 | D11: =IF(OR(B11="",C11=""),"",IFERROR(DATEDIF(C11,Parametri!$B$4,"Y"),"")) | E11: =IF(D11="","",IFERROR(VLOOKUP(D11,Parametri!$K$4:$L$7,2,TRUE),"")) | F11: Confermato | G11: Baby | H11: Sì | I11: Con famiglia | J11: Adulto Fittizio H | K11: Prevedere spazio per passeggino.
D12: =IF(OR(B12="",C12=""),"",IFERROR(DATEDIF(C12,Parametri!$B$4,"Y"),"")) | E12: =IF(D12="","",IFERROR(VLOOKUP(D12,Parametri!$K$4:$L$7,2,TRUE),""))
D13: =IF(OR(B13="",C13=""),"",IFERROR(DATEDIF(C13,Parametri!$B$4,"Y"),"")) | E13: =IF(D13="","",IFERROR(VLOOKUP(D13,Parametri!$K$4:$L$7,2,TRUE),""))
D14: =IF(OR(B14="",C14=""),"",IFERROR(DATEDIF(C14,Parametri!$B$4,"Y"),"")) | E14: =IF(D14="","",IFERROR(VLOOKUP(D14,Parametri!$K$4:$L$7,2,TRUE),""))
D15: =IF(OR(B15="",C15=""),"",IFERROR(DATEDIF(C15,Parametri!$B$4,"Y"),"")) | E15: =IF(D15="","",IFERROR(VLOOKUP(D15,Parametri!$K$4:$L$7,2,TRUE),""))
D16: =IF(OR(B16="",C16=""),"",IFERROR(DATEDIF(C16,Parametri!$B$4,"Y"),"")) | E16: =IF(D16="","",IFERROR(VLOOKUP(D16,Parametri!$K$4:$L$7,2,TRUE),""))
D17: =IF(OR(B17="",C17=""),"",IFERROR(DATEDIF(C17,Parametri!$B$4,"Y"),"")) | E17: =IF(D17="","",IFERROR(VLOOKUP(D17,Parametri!$K$4:$L$7,2,TRUE),""))
D18: =IF(OR(B18="",C18=""),"",IFERROR(DATEDIF(C18,Parametri!$B$4,"Y"),"")) | E18: =IF(D18="","",IFERROR(VLOOKUP(D18,Parametri!$K$4:$L$7,2,TRUE),""))
D19: =IF(OR(B19="",C19=""),"",IFERROR(DATEDIF(C19,Parametri!$B$4,"Y"),"")) | E19: =IF(D19="","",IFERROR(VLOOKUP(D19,Parametri!$K$4:$L$7,2,TRUE),""))
D20: =IF(OR(B20="",C20=""),"",IFERROR(DATEDIF(C20,Parametri!$B$4,"Y"),"")) | E20: =IF(D20="","",IFERROR(VLOOKUP(D20,Parametri!$K$4:$L$7,2,TRUE),""))
D21: =IF(OR(B21="",C21=""),"",IFERROR(DATEDIF(C21,Parametri!$B$4,"Y"),"")) | E21: =IF(D21="","",IFERROR(VLOOKUP(D21,Parametri!$K$4:$L$7,2,TRUE),""))
D22: =IF(OR(B22="",C22=""),"",IFERROR(DATEDIF(C22,Parametri!$B$4,"Y"),"")) | E22: =IF(D22="","",IFERROR(VLOOKUP(D22,Parametri!$K$4:$L$7,2,TRUE),""))
D23: =IF(OR(B23="",C23=""),"",IFERROR(DATEDIF(C23,Parametri!$B$4,"Y"),"")) | E23: =IF(D23="","",IFERROR(VLOOKUP(D23,Parametri!$K$4:$L$7,2,TRUE),""))
... D103: =IF(OR(B103="",C103=""),"",IFERROR(DATEDIF(C103,Parametri!$B$4,"Y"),"")) | E103: =IF(D103="","",IFERROR(VLOOKUP(D103,Parametri!$K$4:$L$7,2,TRUE),""))

Sheet Attività
A1: Attività e servizi per bambini — esempi fittizi
A3: ID attività | B3: Attività o servizio fittizio | C3: Data attività | D3: Quantità | E3: Unità | F3: Tariffa unitaria | G3: Importo previsto | H3: Fornitore fittizio | I3: Responsabile fittizio | J3: Stato | K3: Note operative
A4: AF-001 | B4: Animazione fittizia Arcobaleno | C4: 46558 | D4: 6 | E4: ore | F4: 75 | G4: =IF(OR(D4="",F4=""),"",IFERROR(D4*F4,"")) | H4: Impresa Fittizia Girasole | I4: Referente Fittizio 01 | J4: Confermato | K4: Durata e contenuti da ricontrollare.
A5: AF-002 | B5: Assistenza fittizia Ninna | C5: 46558 | D5: 4 | E5: ore | F5: 32.5 | G5: =IF(OR(D5="",F5=""),"",IFERROR(D5*F5,"")) | H5: Servizi Fittizi Nuvola | I5: Referente Fittizio 02 | J5: Richiesto | K5: Stima indicativa, non costituisce accordo.
A6: AF-003 | B6: Noleggio fittizio seggioloni | C6: 46558 | D6: 3 | E6: pezzi | F6: 18 | G6: =IF(OR(D6="",F6=""),"",IFERROR(D6*F6,"")) | H6: Noleggi Fittizi Cometa | I6: Referente Fittizio 03 | J6: Da pianificare | K6: Verificare quantità dopo le conferme.
A7: AF-004 | B7: Sopralluogo fittizio area bambini | C7: 46276 | D7: 2 | E7: ore | F7: 25 | G7: =IF(OR(D7="",F7=""),"",IFERROR(D7*F7,"")) | H7: Studio Fittizio Coriandolo | I7: Referente Fittizio 04 | J7: Completata | K7: Esempio fittizio di attività chiusa.
G8: =IF(OR(D8="",F8=""),"",IFERROR(D8*F8,""))
G9: =IF(OR(D9="",F9=""),"",IFERROR(D9*F9,""))
G10: =IF(OR(D10="",F10=""),"",IFERROR(D10*F10,""))
G11: =IF(OR(D11="",F11=""),"",IFERROR(D11*F11,""))
G12: =IF(OR(D12="",F12=""),"",IFERROR(D12*F12,""))
G13: =IF(OR(D13="",F13=""),"",IFERROR(D13*F13,""))
G14: =IF(OR(D14="",F14=""),"",IFERROR(D14*F14,""))
G15: =IF(OR(D15="",F15=""),"",IFERROR(D15*F15,""))
G16: =IF(OR(D16="",F16=""),"",IFERROR(D16*F16,""))
G17: =IF(OR(D17="",F17=""),"",IFERROR(D17*F17,""))
G18: =IF(OR(D18="",F18=""),"",IFERROR(D18*F18,""))
G19: =IF(OR(D19="",F19=""),"",IFERROR(D19*F19,""))
... G103: =IF(OR(D103="",F103=""),"",IFERROR(D103*F103,""))

Sheet Parametri
A1: Parametri modificabili — valori indicativi
A3: Ipotesi | B3: Valore | D3: Conferma | E3: Menu | F3: Seggiolone | G3: Assistenza | H3: Stato attività | I3: Unità | K3: Età iniziale | L3: Fascia di età
A4: Data matrimonio | B4: 46558 | D4: Da confermare | E4: Baby | F4: Sì | G4: Nessuna | H4: Da pianificare | I4: persone | K4: 0 | L4: 0–2 anni
A5: Data nascita minima | B5: 40179 | D5: Confermato | E5: Bambini | F5: No | G5: Con famiglia | H5: Richiesto | I5: ore | K5: 3 | L5: 3–5 anni
A6: Inizio pianificazione | B6: 46276 | D6: Non partecipa | E6: Standard | F6: Da definire | G6: Animazione | H6: Confermato | I6: pezzi | K6: 6 | L6: 6–11 anni
A7: Quantità massima per attività | B7: 200 | E7: Da definire | G7: Baby-sitter | H7: Completata | I7: servizio | K7: 12 | L7: 12–17 anni
A8: Tariffa unitaria massima | B8: 1000 | G8: Da definire | H8: Annullata
A9: Budget indicativo servizi bambini | B9: 3000
