Workbook

Sheet Riepilogo
A1: Budget matrimonio Excel
A2: Indicatori calcolati dal registro Budget e dalle ipotesi modificabili nel foglio Parametri.
A4: Budget obiettivo | B4: =IFERROR(Parametri!$B$3,"") | D4: Riserva pianificata | E4: =IF(OR(B4="",Parametri!$B$4=""),"",IFERROR(B4*Parametri!$B$4,"")) | G4: Disponibile per spese | H4: =IF(OR(B4="",E4=""),"",IFERROR(B4-E4,""))
A6: Totale previsto | B6: =IF(COUNTIF(Budget!$B$6:$B$105,"<>")=0,"",IFERROR(SUMIFS(Budget!$I$6:$I$105,Budget!$E$6:$E$105,"<>Annullato"),"")) | D6: Totale effettivo | E6: =IF(COUNTIFS(Budget!$J$6:$J$105,"<>",Budget!$E$6:$E$105,"<>Annullato")=0,"",IFERROR(SUMIFS(Budget!$J$6:$J$105,Budget!$E$6:$E$105,"<>Annullato"),"")) | G6: Impegno di controllo | H6: =IF(COUNTIF(Budget!$B$6:$B$105,"<>")=0,"",IFERROR(SUM(Budget!$K$6:$K$105),""))
A8: Residuo disponibile | B8: =IF(OR(H4="",H6=""),"",IFERROR(H4-H6,"")) | D8: Tetti categorie | E8: =IF(COUNT(Parametri!$B$13:$B$20)=0,"",IFERROR(SUM(Parametri!$B$13:$B$20),"")) | G8: Margine sui tetti | H8: =IF(OR(H4="",E8=""),"",IFERROR(H4-E8,""))
A10: Voci registrate | B10: =COUNTIF(Budget!$B$6:$B$105,"<>") | D10: Voci oltre previsione | E10: =COUNTIF(Budget!$L$6:$L$105,">0") | G10: Giorni all’evento | H10: =IF(Parametri!$B$5="","",IF(Parametri!$B$5<TODAY(),0,Parametri!$B$5-TODAY()))
A13: Categoria | B13: Tetto | C13: Previsto | D13: Impegno di controllo | E13: Residuo sul tetto
A14: =IF(Parametri!A13="","",Parametri!A13) | B14: =IFERROR(VLOOKUP(A14,Parametri!$A$13:$B$20,2,FALSE),"") | C14: =IF(COUNTIFS(Budget!$A$6:$A$105,A14,Budget!$E$6:$E$105,"<>Annullato")=0,"",IFERROR(SUMIFS(Budget!$I$6:$I$105,Budget!$A$6:$A$105,A14,Budget!$E$6:$E$105,"<>Annullato"),"")) | D14: =IF(COUNTIFS(Budget!$A$6:$A$105,A14,Budget!$E$6:$E$105,"<>Annullato")=0,"",IFERROR(SUMIF(Budget!$A$6:$A$105,A14,Budget!$K$6:$K$105),"")) | E14: =IF(OR(B14="",D14=""),"",IFERROR(B14-D14,""))
A15: =IF(Parametri!A14="","",Parametri!A14) | B15: =IFERROR(VLOOKUP(A15,Parametri!$A$13:$B$20,2,FALSE),"") | C15: =IF(COUNTIFS(Budget!$A$6:$A$105,A15,Budget!$E$6:$E$105,"<>Annullato")=0,"",IFERROR(SUMIFS(Budget!$I$6:$I$105,Budget!$A$6:$A$105,A15,Budget!$E$6:$E$105,"<>Annullato"),"")) | D15: =IF(COUNTIFS(Budget!$A$6:$A$105,A15,Budget!$E$6:$E$105,"<>Annullato")=0,"",IFERROR(SUMIF(Budget!$A$6:$A$105,A15,Budget!$K$6:$K$105),"")) | E15: =IF(OR(B15="",D15=""),"",IFERROR(B15-D15,""))
A16: =IF(Parametri!A15="","",Parametri!A15) | B16: =IFERROR(VLOOKUP(A16,Parametri!$A$13:$B$20,2,FALSE),"") | C16: =IF(COUNTIFS(Budget!$A$6:$A$105,A16,Budget!$E$6:$E$105,"<>Annullato")=0,"",IFERROR(SUMIFS(Budget!$I$6:$I$105,Budget!$A$6:$A$105,A16,Budget!$E$6:$E$105,"<>Annullato"),"")) | D16: =IF(COUNTIFS(Budget!$A$6:$A$105,A16,Budget!$E$6:$E$105,"<>Annullato")=0,"",IFERROR(SUMIF(Budget!$A$6:$A$105,A16,Budget!$K$6:$K$105),"")) | E16: =IF(OR(B16="",D16=""),"",IFERROR(B16-D16,""))
A17: =IF(Parametri!A16="","",Parametri!A16) | B17: =IFERROR(VLOOKUP(A17,Parametri!$A$13:$B$20,2,FALSE),"") | C17: =IF(COUNTIFS(Budget!$A$6:$A$105,A17,Budget!$E$6:$E$105,"<>Annullato")=0,"",IFERROR(SUMIFS(Budget!$I$6:$I$105,Budget!$A$6:$A$105,A17,Budget!$E$6:$E$105,"<>Annullato"),"")) | D17: =IF(COUNTIFS(Budget!$A$6:$A$105,A17,Budget!$E$6:$E$105,"<>Annullato")=0,"",IFERROR(SUMIF(Budget!$A$6:$A$105,A17,Budget!$K$6:$K$105),"")) | E17: =IF(OR(B17="",D17=""),"",IFERROR(B17-D17,""))
A18: =IF(Parametri!A17="","",Parametri!A17) | B18: =IFERROR(VLOOKUP(A18,Parametri!$A$13:$B$20,2,FALSE),"") | C18: =IF(COUNTIFS(Budget!$A$6:$A$105,A18,Budget!$E$6:$E$105,"<>Annullato")=0,"",IFERROR(SUMIFS(Budget!$I$6:$I$105,Budget!$A$6:$A$105,A18,Budget!$E$6:$E$105,"<>Annullato"),"")) | D18: =IF(COUNTIFS(Budget!$A$6:$A$105,A18,Budget!$E$6:$E$105,"<>Annullato")=0,"",IFERROR(SUMIF(Budget!$A$6:$A$105,A18,Budget!$K$6:$K$105),"")) | E18: =IF(OR(B18="",D18=""),"",IFERROR(B18-D18,""))
A19: =IF(Parametri!A18="","",Parametri!A18) | B19: =IFERROR(VLOOKUP(A19,Parametri!$A$13:$B$20,2,FALSE),"") | C19: =IF(COUNTIFS(Budget!$A$6:$A$105,A19,Budget!$E$6:$E$105,"<>Annullato")=0,"",IFERROR(SUMIFS(Budget!$I$6:$I$105,Budget!$A$6:$A$105,A19,Budget!$E$6:$E$105,"<>Annullato"),"")) | D19: =IF(COUNTIFS(Budget!$A$6:$A$105,A19,Budget!$E$6:$E$105,"<>Annullato")=0,"",IFERROR(SUMIF(Budget!$A$6:$A$105,A19,Budget!$K$6:$K$105),"")) | E19: =IF(OR(B19="",D19=""),"",IFERROR(B19-D19,""))
A20: =IF(Parametri!A19="","",Parametri!A19) | B20: =IFERROR(VLOOKUP(A20,Parametri!$A$13:$B$20,2,FALSE),"") | C20: =IF(COUNTIFS(Budget!$A$6:$A$105,A20,Budget!$E$6:$E$105,"<>Annullato")=0,"",IFERROR(SUMIFS(Budget!$I$6:$I$105,Budget!$A$6:$A$105,A20,Budget!$E$6:$E$105,"<>Annullato"),"")) | D20: =IF(COUNTIFS(Budget!$A$6:$A$105,A20,Budget!$E$6:$E$105,"<>Annullato")=0,"",IFERROR(SUMIF(Budget!$A$6:$A$105,A20,Budget!$K$6:$K$105),"")) | E20: =IF(OR(B20="",D20=""),"",IFERROR(B20-D20,""))
A21: =IF(Parametri!A20="","",Parametri!A20) | B21: =IFERROR(VLOOKUP(A21,Parametri!$A$13:$B$20,2,FALSE),"") | C21: =IF(COUNTIFS(Budget!$A$6:$A$105,A21,Budget!$E$6:$E$105,"<>Annullato")=0,"",IFERROR(SUMIFS(Budget!$I$6:$I$105,Budget!$A$6:$A$105,A21,Budget!$E$6:$E$105,"<>Annullato"),"")) | D21: =IF(COUNTIFS(Budget!$A$6:$A$105,A21,Budget!$E$6:$E$105,"<>Annullato")=0,"",IFERROR(SUMIF(Budget!$A$6:$A$105,A21,Budget!$K$6:$K$105),"")) | E21: =IF(OR(B21="",D21=""),"",IFERROR(B21-D21,""))
A22: Totale | B22: =IF(COUNT(B14:B21)=0,"",SUM(B14:B21)) | C22: =IF(COUNT(C14:C21)=0,"",SUM(C14:C21)) | D22: =IF(COUNT(D14:D21)=0,"",SUM(D14:D21)) | E22: =IF(OR(B22="",D22=""),"",IFERROR(B22-D22,""))

Sheet Budget
A1: Registro del budget
A2: Compila le celle crema. Gli esempi, i referenti e le imprese indicati sono interamente fittizi.
A3: Soglia avviso | B3: =IFERROR(Parametri!$B$6,"") | D3: Quantità massima | E3: =IFERROR(Parametri!$B$9,"") | G3: Data minima | H3: =IFERROR(Parametri!$B$7,"") | I3: Data massima | J3: =IFERROR(Parametri!$B$8,"") | K3: Importo massimo | L3: =IFERROR(Parametri!$B$10,"")
A5: Categoria | B5: Voce o attività | C5: Fornitore | D5: Responsabile | E5: Stato | F5: Data prevista | G5: Quantità | H5: Costo unitario previsto | I5: Importo previsto | J5: Importo effettivo | K5: Importo di controllo | L5: Scostamento
A6: Location | B6: Affitto dello spazio | C6: Impresa fittizia Villa di Carta | D6: Referente fittizio A | E6: Confermato | F6: 46550 | G6: 1 | H6: 6500 | I6: =IF(OR(G6="",H6=""),"",IFERROR(G6*H6,"")) | J6: 6650 | K6: =IF(B6="","",IF(E6="Annullato",0,IF(J6<>"",J6,IF(I6<>"",I6,"")))) | L6: =IF(OR(I6="",J6="",E6="Annullato"),"",IFERROR(J6-I6,""))
A7: Ristorazione | B7: Menu per gli ospiti | C7: Impresa fittizia Sapori Immaginari | D7: Referente fittizio B | E7: Confermato | F7: 46550 | G7: 90 | H7: 105 | I7: =IF(OR(G7="",H7=""),"",IFERROR(G7*H7,"")) | J7: 9600 | K7: =IF(B7="","",IF(E7="Annullato",0,IF(J7<>"",J7,IF(I7<>"",I7,"")))) | L7: =IF(OR(I7="",J7="",E7="Annullato"),"",IFERROR(J7-I7,""))
A8: Abbigliamento | B8: Abito da cerimonia | C8: Atelier fittizio Ago di Luna | D8: Referente fittizio C | E8: Confermato | F8: 46495 | G8: 1 | H8: 2200 | I8: =IF(OR(G8="",H8=""),"",IFERROR(G8*H8,"")) | J8: 2250 | K8: =IF(B8="","",IF(E8="Annullato",0,IF(J8<>"",J8,IF(I8<>"",I8,"")))) | L8: =IF(OR(I8="",J8="",E8="Annullato"),"",IFERROR(J8-I8,""))
A9: Fotografia e video | B9: Servizio fotografico | C9: Studio fittizio Foto Nuvola | D9: Referente fittizio D | E9: Saldato | F9: 46550 | G9: 1 | H9: 2100 | I9: =IF(OR(G9="",H9=""),"",IFERROR(G9*H9,"")) | J9: 2050 | K9: =IF(B9="","",IF(E9="Annullato",0,IF(J9<>"",J9,IF(I9<>"",I9,"")))) | L9: =IF(OR(I9="",J9="",E9="Annullato"),"",IFERROR(J9-I9,""))
A10: Musica | B10: Accompagnamento musicale | C10: Ensemble fittizio Note di Gesso | D10: Referente fittizio A | E10: Confermato | F10: 46550 | G10: 5 | H10: 180 | I10: =IF(OR(G10="",H10=""),"",IFERROR(G10*H10,"")) | J10: 950 | K10: =IF(B10="","",IF(E10="Annullato",0,IF(J10<>"",J10,IF(I10<>"",I10,"")))) | L10: =IF(OR(I10="",J10="",E10="Annullato"),"",IFERROR(J10-I10,""))
A11: Fiori e allestimenti | B11: Allestimento floreale | C11: Laboratorio fittizio Petali di Carta | D11: Referente fittizio B | E11: Confermato | F11: 46549 | G11: 1 | H11: 1600 | I11: =IF(OR(G11="",H11=""),"",IFERROR(G11*H11,"")) | J11: 1700 | K11: =IF(B11="","",IF(E11="Annullato",0,IF(J11<>"",J11,IF(I11<>"",I11,"")))) | L11: =IF(OR(I11="",J11="",E11="Annullato"),"",IFERROR(J11-I11,""))
A12: Trasporti | B12: Noleggio mezzi | C12: Noleggio fittizio Ruote di Tela | D12: Referente fittizio C | E12: Saldato | F12: 46550 | G12: 2 | H12: 250 | I12: =IF(OR(G12="",H12=""),"",IFERROR(G12*H12,"")) | J12: 500 | K12: =IF(B12="","",IF(E12="Annullato",0,IF(J12<>"",J12,IF(I12<>"",I12,"")))) | L12: =IF(OR(I12="",J12="",E12="Annullato"),"",IFERROR(J12-I12,""))
A13: Cancelleria e bomboniere | B13: Inviti cartacei | C13: Tipografia fittizia Inchiostro Rosa | D13: Referente fittizio D | E13: Confermato | F13: 46433 | G13: 90 | H13: 4.5 | I13: =IF(OR(G13="",H13=""),"",IFERROR(G13*H13,"")) | J13: 420 | K13: =IF(B13="","",IF(E13="Annullato",0,IF(J13<>"",J13,IF(I13<>"",I13,"")))) | L13: =IF(OR(I13="",J13="",E13="Annullato"),"",IFERROR(J13-I13,""))
A14: Ristorazione | B14: Torta celebrativa | C14: Pasticceria fittizia Dolce Bozza | D14: Referente fittizio A | E14: Preventivato | F14: 46550 | G14: 1 | H14: 650 | I14: =IF(OR(G14="",H14=""),"",IFERROR(G14*H14,"")) | K14: =IF(B14="","",IF(E14="Annullato",0,IF(J14<>"",J14,IF(I14<>"",I14,"")))) | L14: =IF(OR(I14="",J14="",E14="Annullato"),"",IFERROR(J14-I14,""))
A15: Location | B15: Supporto luci | C15: Servizi fittizi Luce Provvisoria | D15: Referente fittizio B | E15: Da valutare | F15: 46549 | G15: 1 | H15: 450 | I15: =IF(OR(G15="",H15=""),"",IFERROR(G15*H15,"")) | K15: =IF(B15="","",IF(E15="Annullato",0,IF(J15<>"",J15,IF(I15<>"",I15,"")))) | L15: =IF(OR(I15="",J15="",E15="Annullato"),"",IFERROR(J15-I15,""))
A16: Cancelleria e bomboniere | B16: Prova segnaposto | C16: Bottega fittizia Piccole Comparse | D16: Referente fittizio C | E16: Annullato | F16: 46466 | G16: 10 | H16: 2 | I16: =IF(OR(G16="",H16=""),"",IFERROR(G16*H16,"")) | K16: =IF(B16="","",IF(E16="Annullato",0,IF(J16<>"",J16,IF(I16<>"",I16,"")))) | L16: =IF(OR(I16="",J16="",E16="Annullato"),"",IFERROR(J16-I16,""))
I17: =IF(OR(G17="",H17=""),"",IFERROR(G17*H17,"")) | K17: =IF(B17="","",IF(E17="Annullato",0,IF(J17<>"",J17,IF(I17<>"",I17,"")))) | L17: =IF(OR(I17="",J17="",E17="Annullato"),"",IFERROR(J17-I17,""))
I18: =IF(OR(G18="",H18=""),"",IFERROR(G18*H18,"")) | K18: =IF(B18="","",IF(E18="Annullato",0,IF(J18<>"",J18,IF(I18<>"",I18,"")))) | L18: =IF(OR(I18="",J18="",E18="Annullato"),"",IFERROR(J18-I18,""))
I19: =IF(OR(G19="",H19=""),"",IFERROR(G19*H19,"")) | K19: =IF(B19="","",IF(E19="Annullato",0,IF(J19<>"",J19,IF(I19<>"",I19,"")))) | L19: =IF(OR(I19="",J19="",E19="Annullato"),"",IFERROR(J19-I19,""))
I20: =IF(OR(G20="",H20=""),"",IFERROR(G20*H20,"")) | K20: =IF(B20="","",IF(E20="Annullato",0,IF(J20<>"",J20,IF(I20<>"",I20,"")))) | L20: =IF(OR(I20="",J20="",E20="Annullato"),"",IFERROR(J20-I20,""))
I21: =IF(OR(G21="",H21=""),"",IFERROR(G21*H21,"")) | K21: =IF(B21="","",IF(E21="Annullato",0,IF(J21<>"",J21,IF(I21<>"",I21,"")))) | L21: =IF(OR(I21="",J21="",E21="Annullato"),"",IFERROR(J21-I21,""))
I22: =IF(OR(G22="",H22=""),"",IFERROR(G22*H22,"")) | K22: =IF(B22="","",IF(E22="Annullato",0,IF(J22<>"",J22,IF(I22<>"",I22,"")))) | L22: =IF(OR(I22="",J22="",E22="Annullato"),"",IFERROR(J22-I22,""))
I23: =IF(OR(G23="",H23=""),"",IFERROR(G23*H23,"")) | K23: =IF(B23="","",IF(E23="Annullato",0,IF(J23<>"",J23,IF(I23<>"",I23,"")))) | L23: =IF(OR(I23="",J23="",E23="Annullato"),"",IFERROR(J23-I23,""))
I24: =IF(OR(G24="",H24=""),"",IFERROR(G24*H24,"")) | K24: =IF(B24="","",IF(E24="Annullato",0,IF(J24<>"",J24,IF(I24<>"",I24,"")))) | L24: =IF(OR(I24="",J24="",E24="Annullato"),"",IFERROR(J24-I24,""))
I25: =IF(OR(G25="",H25=""),"",IFERROR(G25*H25,"")) | K25: =IF(B25="","",IF(E25="Annullato",0,IF(J25<>"",J25,IF(I25<>"",I25,"")))) | L25: =IF(OR(I25="",J25="",E25="Annullato"),"",IFERROR(J25-I25,""))
I26: =IF(OR(G26="",H26=""),"",IFERROR(G26*H26,"")) | K26: =IF(B26="","",IF(E26="Annullato",0,IF(J26<>"",J26,IF(I26<>"",I26,"")))) | L26: =IF(OR(I26="",J26="",E26="Annullato"),"",IFERROR(J26-I26,""))
I27: =IF(OR(G27="",H27=""),"",IFERROR(G27*H27,"")) | K27: =IF(B27="","",IF(E27="Annullato",0,IF(J27<>"",J27,IF(I27<>"",I27,"")))) | L27: =IF(OR(I27="",J27="",E27="Annullato"),"",IFERROR(J27-I27,""))
I28: =IF(OR(G28="",H28=""),"",IFERROR(G28*H28,"")) | K28: =IF(B28="","",IF(E28="Annullato",0,IF(J28<>"",J28,IF(I28<>"",I28,"")))) | L28: =IF(OR(I28="",J28="",E28="Annullato"),"",IFERROR(J28-I28,""))
... I105: =IF(OR(G105="",H105=""),"",IFERROR(G105*H105,"")) | K105: =IF(B105="","",IF(E105="Annullato",0,IF(J105<>"",J105,IF(I105<>"",I105,"")))) | L105: =IF(OR(I105="",J105="",E105="Annullato"),"",IFERROR(J105-I105,""))

Sheet Parametri
A1: Parametri del budget
A2: Modifica le celle crema per adattare ipotesi e limiti. Nessun valore costituisce un prezzo garantito.
A3: Budget obiettivo | B3: 32000 | C3: €
A4: Riserva sul budget | B4: 0.1 | C4: 0%–50%
A5: Data dell’evento | B5: 46550 | C5: data
A6: Soglia avviso scostamento | B6: 250 | C6: €
A7: Data minima registrabile | B7: 46023 | C7: data
A8: Data massima registrabile | B8: 49674 | C8: data
A9: Quantità massima per voce | B9: 500 | C9: unità
A10: Importo massimo per campo | B10: 50000 | C10: €
A12: Categoria | B12: Tetto modificabile | D12: Stati disponibili
A13: Location | B13: 7000 | D13: Da valutare
A14: Ristorazione | B14: 12000 | D14: Preventivato
A15: Abbigliamento | B15: 3000 | D15: Confermato
A16: Fotografia e video | B16: 2500 | D16: Saldato
A17: Musica | B17: 1200 | D17: Annullato
A18: Fiori e allestimenti | B18: 1800
A19: Trasporti | B19: 600
A20: Cancelleria e bomboniere | B20: 700
