Workbook

Sheet Riepilogo
A1: Riepilogo del budget matrimonio per categoria
A3: Indicatore | B3: Valore
A4: Budget complessivo | B4: =IF(COUNT(Parametri!$B$10:$B$109)=0,"",IFERROR(SUM(Parametri!$B$10:$B$109),""))
A5: Totale pianificato | B5: =IF(COUNT(Budget!$F$5:$F$104)=0,"",IFERROR(SUMIF(Budget!$I$5:$I$104,"<>"&Parametri!$E$6,Budget!$F$5:$F$104),""))
A6: Totale confermato | B6: =IF(COUNT(Budget!$F$5:$F$104)=0,"",IFERROR(SUMIF(Budget!$I$5:$I$104,Parametri!$E$5,Budget!$F$5:$F$104),""))
A7: Residuo complessivo | B7: =IF(OR(B4="",B5=""),"",IFERROR(B4-B5,""))
A8: Utilizzo complessivo | B8: =IFERROR(B5/B4,"")
A9: Voci attive | B9: =IF(COUNTA(Budget!$A$5:$A$104)=0,"",COUNTIFS(Budget!$A$5:$A$104,"<>",Budget!$I$5:$I$104,"<>"&Parametri!$E$6))
A10: Categorie oltre massimale | B10: =IF(COUNTA(A13:A112)=0,"",COUNTIF(G13:G112,"Superato"))
A12: Categoria | B12: Massimale | C12: Pianificato | D12: Confermato | E12: Residuo | F12: Utilizzo | G12: Esito
A13: =IF(Parametri!A10="","",Parametri!A10) | B13: =IF(A13="","",IFERROR(VLOOKUP(A13,Parametri!$A$10:$B$109,2,FALSE),"")) | C13: =IF(A13="","",IF(COUNTIFS(Budget!$A$5:$A$104,A13,Budget!$F$5:$F$104,">=0")=0,"",IFERROR(SUMIFS(Budget!$F$5:$F$104,Budget!$A$5:$A$104,A13,Budget!$I$5:$I$104,"<>"&Parametri!$E$6),""))) | D13: =IF(C13="","",IFERROR(SUMIFS(Budget!$F$5:$F$104,Budget!$A$5:$A$104,A13,Budget!$I$5:$I$104,Parametri!$E$5),"")) | E13: =IF(OR(B13="",C13=""),"",IFERROR(B13-C13,"")) | F13: =IFERROR(C13/B13,"") | G13: =IF(A13="","",IF(B13="","Massimale mancante",IF(C13="","Nessun importo",IF(C13>B13,"Superato",IF(IFERROR(C13/B13,0)>=Parametri!$B$5,"Vicino al limite","Nei limiti")))))
A14: =IF(Parametri!A11="","",Parametri!A11) | B14: =IF(A14="","",IFERROR(VLOOKUP(A14,Parametri!$A$10:$B$109,2,FALSE),"")) | C14: =IF(A14="","",IF(COUNTIFS(Budget!$A$5:$A$104,A14,Budget!$F$5:$F$104,">=0")=0,"",IFERROR(SUMIFS(Budget!$F$5:$F$104,Budget!$A$5:$A$104,A14,Budget!$I$5:$I$104,"<>"&Parametri!$E$6),""))) | D14: =IF(C14="","",IFERROR(SUMIFS(Budget!$F$5:$F$104,Budget!$A$5:$A$104,A14,Budget!$I$5:$I$104,Parametri!$E$5),"")) | E14: =IF(OR(B14="",C14=""),"",IFERROR(B14-C14,"")) | F14: =IFERROR(C14/B14,"") | G14: =IF(A14="","",IF(B14="","Massimale mancante",IF(C14="","Nessun importo",IF(C14>B14,"Superato",IF(IFERROR(C14/B14,0)>=Parametri!$B$5,"Vicino al limite","Nei limiti")))))
A15: =IF(Parametri!A12="","",Parametri!A12) | B15: =IF(A15="","",IFERROR(VLOOKUP(A15,Parametri!$A$10:$B$109,2,FALSE),"")) | C15: =IF(A15="","",IF(COUNTIFS(Budget!$A$5:$A$104,A15,Budget!$F$5:$F$104,">=0")=0,"",IFERROR(SUMIFS(Budget!$F$5:$F$104,Budget!$A$5:$A$104,A15,Budget!$I$5:$I$104,"<>"&Parametri!$E$6),""))) | D15: =IF(C15="","",IFERROR(SUMIFS(Budget!$F$5:$F$104,Budget!$A$5:$A$104,A15,Budget!$I$5:$I$104,Parametri!$E$5),"")) | E15: =IF(OR(B15="",C15=""),"",IFERROR(B15-C15,"")) | F15: =IFERROR(C15/B15,"") | G15: =IF(A15="","",IF(B15="","Massimale mancante",IF(C15="","Nessun importo",IF(C15>B15,"Superato",IF(IFERROR(C15/B15,0)>=Parametri!$B$5,"Vicino al limite","Nei limiti")))))
A16: =IF(Parametri!A13="","",Parametri!A13) | B16: =IF(A16="","",IFERROR(VLOOKUP(A16,Parametri!$A$10:$B$109,2,FALSE),"")) | C16: =IF(A16="","",IF(COUNTIFS(Budget!$A$5:$A$104,A16,Budget!$F$5:$F$104,">=0")=0,"",IFERROR(SUMIFS(Budget!$F$5:$F$104,Budget!$A$5:$A$104,A16,Budget!$I$5:$I$104,"<>"&Parametri!$E$6),""))) | D16: =IF(C16="","",IFERROR(SUMIFS(Budget!$F$5:$F$104,Budget!$A$5:$A$104,A16,Budget!$I$5:$I$104,Parametri!$E$5),"")) | E16: =IF(OR(B16="",C16=""),"",IFERROR(B16-C16,"")) | F16: =IFERROR(C16/B16,"") | G16: =IF(A16="","",IF(B16="","Massimale mancante",IF(C16="","Nessun importo",IF(C16>B16,"Superato",IF(IFERROR(C16/B16,0)>=Parametri!$B$5,"Vicino al limite","Nei limiti")))))
A17: =IF(Parametri!A14="","",Parametri!A14) | B17: =IF(A17="","",IFERROR(VLOOKUP(A17,Parametri!$A$10:$B$109,2,FALSE),"")) | C17: =IF(A17="","",IF(COUNTIFS(Budget!$A$5:$A$104,A17,Budget!$F$5:$F$104,">=0")=0,"",IFERROR(SUMIFS(Budget!$F$5:$F$104,Budget!$A$5:$A$104,A17,Budget!$I$5:$I$104,"<>"&Parametri!$E$6),""))) | D17: =IF(C17="","",IFERROR(SUMIFS(Budget!$F$5:$F$104,Budget!$A$5:$A$104,A17,Budget!$I$5:$I$104,Parametri!$E$5),"")) | E17: =IF(OR(B17="",C17=""),"",IFERROR(B17-C17,"")) | F17: =IFERROR(C17/B17,"") | G17: =IF(A17="","",IF(B17="","Massimale mancante",IF(C17="","Nessun importo",IF(C17>B17,"Superato",IF(IFERROR(C17/B17,0)>=Parametri!$B$5,"Vicino al limite","Nei limiti")))))
A18: =IF(Parametri!A15="","",Parametri!A15) | B18: =IF(A18="","",IFERROR(VLOOKUP(A18,Parametri!$A$10:$B$109,2,FALSE),"")) | C18: =IF(A18="","",IF(COUNTIFS(Budget!$A$5:$A$104,A18,Budget!$F$5:$F$104,">=0")=0,"",IFERROR(SUMIFS(Budget!$F$5:$F$104,Budget!$A$5:$A$104,A18,Budget!$I$5:$I$104,"<>"&Parametri!$E$6),""))) | D18: =IF(C18="","",IFERROR(SUMIFS(Budget!$F$5:$F$104,Budget!$A$5:$A$104,A18,Budget!$I$5:$I$104,Parametri!$E$5),"")) | E18: =IF(OR(B18="",C18=""),"",IFERROR(B18-C18,"")) | F18: =IFERROR(C18/B18,"") | G18: =IF(A18="","",IF(B18="","Massimale mancante",IF(C18="","Nessun importo",IF(C18>B18,"Superato",IF(IFERROR(C18/B18,0)>=Parametri!$B$5,"Vicino al limite","Nei limiti")))))
A19: =IF(Parametri!A16="","",Parametri!A16) | B19: =IF(A19="","",IFERROR(VLOOKUP(A19,Parametri!$A$10:$B$109,2,FALSE),"")) | C19: =IF(A19="","",IF(COUNTIFS(Budget!$A$5:$A$104,A19,Budget!$F$5:$F$104,">=0")=0,"",IFERROR(SUMIFS(Budget!$F$5:$F$104,Budget!$A$5:$A$104,A19,Budget!$I$5:$I$104,"<>"&Parametri!$E$6),""))) | D19: =IF(C19="","",IFERROR(SUMIFS(Budget!$F$5:$F$104,Budget!$A$5:$A$104,A19,Budget!$I$5:$I$104,Parametri!$E$5),"")) | E19: =IF(OR(B19="",C19=""),"",IFERROR(B19-C19,"")) | F19: =IFERROR(C19/B19,"") | G19: =IF(A19="","",IF(B19="","Massimale mancante",IF(C19="","Nessun importo",IF(C19>B19,"Superato",IF(IFERROR(C19/B19,0)>=Parametri!$B$5,"Vicino al limite","Nei limiti")))))
A20: =IF(Parametri!A17="","",Parametri!A17) | B20: =IF(A20="","",IFERROR(VLOOKUP(A20,Parametri!$A$10:$B$109,2,FALSE),"")) | C20: =IF(A20="","",IF(COUNTIFS(Budget!$A$5:$A$104,A20,Budget!$F$5:$F$104,">=0")=0,"",IFERROR(SUMIFS(Budget!$F$5:$F$104,Budget!$A$5:$A$104,A20,Budget!$I$5:$I$104,"<>"&Parametri!$E$6),""))) | D20: =IF(C20="","",IFERROR(SUMIFS(Budget!$F$5:$F$104,Budget!$A$5:$A$104,A20,Budget!$I$5:$I$104,Parametri!$E$5),"")) | E20: =IF(OR(B20="",C20=""),"",IFERROR(B20-C20,"")) | F20: =IFERROR(C20/B20,"") | G20: =IF(A20="","",IF(B20="","Massimale mancante",IF(C20="","Nessun importo",IF(C20>B20,"Superato",IF(IFERROR(C20/B20,0)>=Parametri!$B$5,"Vicino al limite","Nei limiti")))))
A21: =IF(Parametri!A18="","",Parametri!A18) | B21: =IF(A21="","",IFERROR(VLOOKUP(A21,Parametri!$A$10:$B$109,2,FALSE),"")) | C21: =IF(A21="","",IF(COUNTIFS(Budget!$A$5:$A$104,A21,Budget!$F$5:$F$104,">=0")=0,"",IFERROR(SUMIFS(Budget!$F$5:$F$104,Budget!$A$5:$A$104,A21,Budget!$I$5:$I$104,"<>"&Parametri!$E$6),""))) | D21: =IF(C21="","",IFERROR(SUMIFS(Budget!$F$5:$F$104,Budget!$A$5:$A$104,A21,Budget!$I$5:$I$104,Parametri!$E$5),"")) | E21: =IF(OR(B21="",C21=""),"",IFERROR(B21-C21,"")) | F21: =IFERROR(C21/B21,"") | G21: =IF(A21="","",IF(B21="","Massimale mancante",IF(C21="","Nessun importo",IF(C21>B21,"Superato",IF(IFERROR(C21/B21,0)>=Parametri!$B$5,"Vicino al limite","Nei limiti")))))
A22: =IF(Parametri!A19="","",Parametri!A19) | B22: =IF(A22="","",IFERROR(VLOOKUP(A22,Parametri!$A$10:$B$109,2,FALSE),"")) | C22: =IF(A22="","",IF(COUNTIFS(Budget!$A$5:$A$104,A22,Budget!$F$5:$F$104,">=0")=0,"",IFERROR(SUMIFS(Budget!$F$5:$F$104,Budget!$A$5:$A$104,A22,Budget!$I$5:$I$104,"<>"&Parametri!$E$6),""))) | D22: =IF(C22="","",IFERROR(SUMIFS(Budget!$F$5:$F$104,Budget!$A$5:$A$104,A22,Budget!$I$5:$I$104,Parametri!$E$5),"")) | E22: =IF(OR(B22="",C22=""),"",IFERROR(B22-C22,"")) | F22: =IFERROR(C22/B22,"") | G22: =IF(A22="","",IF(B22="","Massimale mancante",IF(C22="","Nessun importo",IF(C22>B22,"Superato",IF(IFERROR(C22/B22,0)>=Parametri!$B$5,"Vicino al limite","Nei limiti")))))
A23: =IF(Parametri!A20="","",Parametri!A20) | B23: =IF(A23="","",IFERROR(VLOOKUP(A23,Parametri!$A$10:$B$109,2,FALSE),"")) | C23: =IF(A23="","",IF(COUNTIFS(Budget!$A$5:$A$104,A23,Budget!$F$5:$F$104,">=0")=0,"",IFERROR(SUMIFS(Budget!$F$5:$F$104,Budget!$A$5:$A$104,A23,Budget!$I$5:$I$104,"<>"&Parametri!$E$6),""))) | D23: =IF(C23="","",IFERROR(SUMIFS(Budget!$F$5:$F$104,Budget!$A$5:$A$104,A23,Budget!$I$5:$I$104,Parametri!$E$5),"")) | E23: =IF(OR(B23="",C23=""),"",IFERROR(B23-C23,"")) | F23: =IFERROR(C23/B23,"") | G23: =IF(A23="","",IF(B23="","Massimale mancante",IF(C23="","Nessun importo",IF(C23>B23,"Superato",IF(IFERROR(C23/B23,0)>=Parametri!$B$5,"Vicino al limite","Nei limiti")))))
A24: =IF(Parametri!A21="","",Parametri!A21) | B24: =IF(A24="","",IFERROR(VLOOKUP(A24,Parametri!$A$10:$B$109,2,FALSE),"")) | C24: =IF(A24="","",IF(COUNTIFS(Budget!$A$5:$A$104,A24,Budget!$F$5:$F$104,">=0")=0,"",IFERROR(SUMIFS(Budget!$F$5:$F$104,Budget!$A$5:$A$104,A24,Budget!$I$5:$I$104,"<>"&Parametri!$E$6),""))) | D24: =IF(C24="","",IFERROR(SUMIFS(Budget!$F$5:$F$104,Budget!$A$5:$A$104,A24,Budget!$I$5:$I$104,Parametri!$E$5),"")) | E24: =IF(OR(B24="",C24=""),"",IFERROR(B24-C24,"")) | F24: =IFERROR(C24/B24,"") | G24: =IF(A24="","",IF(B24="","Massimale mancante",IF(C24="","Nessun importo",IF(C24>B24,"Superato",IF(IFERROR(C24/B24,0)>=Parametri!$B$5,"Vicino al limite","Nei limiti")))))
... A112: =IF(Parametri!A109="","",Parametri!A109) | B112: =IF(A112="","",IFERROR(VLOOKUP(A112,Parametri!$A$10:$B$109,2,FALSE),"")) | C112: =IF(A112="","",IF(COUNTIFS(Budget!$A$5:$A$104,A112,Budget!$F$5:$F$104,">=0")=0,"",IFERROR(SUMIFS(Budget!$F$5:$F$104,Budget!$A$5:$A$104,A112,Budget!$I$5:$I$104,"<>"&Parametri!$E$6),""))) | D112: =IF(C112="","",IFERROR(SUMIFS(Budget!$F$5:$F$104,Budget!$A$5:$A$104,A112,Budget!$I$5:$I$104,Parametri!$E$5),"")) | E112: =IF(OR(B112="",C112=""),"",IFERROR(B112-C112,"")) | F112: =IFERROR(C112/B112,"") | G112: =IF(A112="","",IF(B112="","Massimale mancante",IF(C112="","Nessun importo",IF(C112>B112,"Superato",IF(IFERROR(C112/B112,0)>=Parametri!$B$5,"Vicino al limite","Nei limiti")))))

Sheet Budget
A1: Registro delle voci del budget matrimonio per categoria
A2: Le celle color crema sono modificabili; gli avvisi richiedono una verifica umana.
A4: Categoria | B4: Attività | C4: Data prevista | D4: Quantità (persone/unità) | E4: Importo unitario | F4: Importo totale | G4: Fornitore | H4: Responsabile | I4: Stato
A5: Location | B5: Acconto spazio dimostrativo fittizio | C5: 46306 | D5: 1 | E5: 12000 | F5: =IF(OR(A5="",B5="",D5="",E5=""),"",IFERROR(D5*E5,"")) | G5: Impresa Aurora Fittizia S.r.l. | H5: Referente fittizio A | I5: Confermato
A6: Ristorazione | B6: Menu dimostrativo fittizio per 80 persone | C6: 46321 | D6: 80 | E6: 95 | F6: =IF(OR(A6="",B6="",D6="",E6=""),"",IFERROR(D6*E6,"")) | G6: Cucina Esempio Fittizia S.n.c. | H6: Referente fittizio B | I6: Preventivo
A7: Abiti e accessori | B7: Abito campione fittizio | C7: 46351 | D7: 1 | E7: 3200 | F7: =IF(OR(A7="",B7="",D7="",E7=""),"",IFERROR(D7*E7,"")) | G7: Atelier Dimostrativo Fittizio | H7: Referente fittizio C | I7: Confermato
A8: Fotografia e video | B8: Servizio immagini dimostrativo fittizio | C8: 46366 | D8: 1 | E8: 2600 | F8: =IF(OR(A8="",B8="",D8="",E8=""),"",IFERROR(D8*E8,"")) | G8: Studio Immagine Fittizio | H8: Referente fittizio D | I8: Preventivo
A9: Musica e intrattenimento | B9: Intrattenimento campione fittizio | C9: 46396 | D9: 1 | E9: 1500 | F9: =IF(OR(A9="",B9="",D9="",E9=""),"",IFERROR(D9*E9,"")) | G9: Suono Campione Fittizio | H9: Referente fittizio E | I9: Annullato
A10: Fiori e allestimenti | B10: Allestimento floreale dimostrativo fittizio | C10: 46426 | D10: 1 | E10: 2500 | F10: =IF(OR(A10="",B10="",D10="",E10=""),"",IFERROR(D10*E10,"")) | G10: Laboratorio Fiore Fittizio | H10: Referente fittizio F | I10: Stimato
A11: Partecipazioni e stampa | B11: Stampa facsimile fittizia | C11: 46266 | D11: 80 | E11: 5.5 | F11: =IF(OR(A11="",B11="",D11="",E11=""),"",IFERROR(D11*E11,"")) | G11: Tipografia Facsimile Fittizia | H11: Referente fittizio G | I11: Stimato
A12: Trasporti | B12: Noleggio veicoli dimostrativo fittizio | C12: 46476 | D12: 2 | E12: 650 | F12: =IF(OR(A12="",B12="",D12="",E12=""),"",IFERROR(D12*E12,"")) | G12: Noleggio Itinerario Fittizio | H12: Referente fittizio H | I12: Confermato
A13: Cerimonia | B13: Servizio cerimonia facsimile fittizio | C13: 46516 | D13: 1 | E13: 900 | F13: =IF(OR(A13="",B13="",D13="",E13=""),"",IFERROR(D13*E13,"")) | G13: Cerimonia Esempio Fittizia | H13: Referente fittizio I | I13: Confermato
A14: Bomboniere e dettagli | B14: Segnaposto dimostrativi fittizi | C14: 46576 | D14: 80 | E14: 14 | F14: =IF(OR(A14="",B14="",D14="",E14=""),"",IFERROR(D14*E14,"")) | G14: Dettagli Campione Fittizi | H14: Referente fittizio L | I14: Preventivo
F15: =IF(OR(A15="",B15="",D15="",E15=""),"",IFERROR(D15*E15,""))
F16: =IF(OR(A16="",B16="",D16="",E16=""),"",IFERROR(D16*E16,""))
F17: =IF(OR(A17="",B17="",D17="",E17=""),"",IFERROR(D17*E17,""))
F18: =IF(OR(A18="",B18="",D18="",E18=""),"",IFERROR(D18*E18,""))
F19: =IF(OR(A19="",B19="",D19="",E19=""),"",IFERROR(D19*E19,""))
F20: =IF(OR(A20="",B20="",D20="",E20=""),"",IFERROR(D20*E20,""))
F21: =IF(OR(A21="",B21="",D21="",E21=""),"",IFERROR(D21*E21,""))
F22: =IF(OR(A22="",B22="",D22="",E22=""),"",IFERROR(D22*E22,""))
F23: =IF(OR(A23="",B23="",D23="",E23=""),"",IFERROR(D23*E23,""))
F24: =IF(OR(A24="",B24="",D24="",E24=""),"",IFERROR(D24*E24,""))
F25: =IF(OR(A25="",B25="",D25="",E25=""),"",IFERROR(D25*E25,""))
F26: =IF(OR(A26="",B26="",D26="",E26=""),"",IFERROR(D26*E26,""))
... F104: =IF(OR(A104="",B104="",D104="",E104=""),"",IFERROR(D104*E104,""))

Sheet Parametri
A1: Parametri modificabili del budget matrimonio per categoria
A2: Data indicativa del matrimonio | B2: 46641 | C2: Ipotesi modificabile | E2: Stati stabili per convalida
A3: Data minima registrabile | B3: 45911 | C3: Limite modificabile per le voci | E3: Stimato
A4: Data massima registrabile | B4: 46821 | C4: Limite modificabile per le voci | E4: Preventivo
A5: Soglia di avviso utilizzo | B5: 0.85 | C5: Percentuale modificabile | E5: Confermato
A6: Quantità massima per voce | B6: 1000 | C6: Limite modificabile | E6: Annullato
A7: Importo unitario massimo | B7: 100000 | C7: Limite modificabile
A9: Categoria | B9: Massimale | C9: Nota
A10: Location | B10: 14000 | C10: Massimale fittizio modificabile
A11: Ristorazione | B11: 10000 | C11: Massimale fittizio modificabile
A12: Abiti e accessori | B12: 4000 | C12: Massimale fittizio modificabile
A13: Fotografia e video | B13: 3000 | C13: Massimale fittizio modificabile
A14: Musica e intrattenimento | B14: 1800 | C14: Massimale fittizio modificabile
A15: Fiori e allestimenti | B15: 2800 | C15: Massimale fittizio modificabile
A16: Partecipazioni e stampa | B16: 700 | C16: Massimale fittizio modificabile
A17: Trasporti | B17: 1600 | C17: Massimale fittizio modificabile
A18: Cerimonia | B18: 1200 | C18: Massimale fittizio modificabile
A19: Bomboniere e dettagli | B19: 1100 | C19: Massimale fittizio modificabile
