Workbook

Sheet Riepilogo
A1: Riepilogo check-in invitati ricevimento
A2: Indicatori calcolati dal registro Check-in.
A4: Indicatore | B4: Valore
A5: Righe invitati registrate | B5: =COUNTIF('Check-in'!$A$6:$A$105,"<>")
A6: Conferme “Sì” | B6: =IF($B$5=0,"",COUNTIFS('Check-in'!$A$6:$A$105,"<>",'Check-in'!$B$6:$B$105,"Sì"))
A7: Persone attese con conferma “Sì” | B7: =IF($B$5=0,"",SUMIFS('Check-in'!$F$6:$F$105,'Check-in'!$A$6:$A$105,"<>",'Check-in'!$B$6:$B$105,"Sì"))
A8: Persone entrate | B8: =IF($B$5=0,"",SUMIF('Check-in'!$A$6:$A$105,"<>",'Check-in'!$G$6:$G$105))
A9: Righe con stato “Presente” | B9: =IF($B$5=0,"",COUNTIFS('Check-in'!$A$6:$A$105,"<>",'Check-in'!$I$6:$I$105,"Presente"))
A10: Righe ancora da accogliere | B10: =IF($B$5=0,"",COUNTIFS('Check-in'!$A$6:$A$105,"<>",'Check-in'!$I$6:$I$105,"Da accogliere"))
A11: Segnalazioni da controllare | B11: =IF($B$5=0,"",COUNTIF('Check-in'!$J$6:$J$105,"?*")-COUNTIF('Check-in'!$J$6:$J$105,"OK"))
A12: Tasso persone entrate su attese confermate | B12: =IFERROR(IF($B$7=0,"",$B$8/$B$7),"")
A13: Check-in presenti completi | B13: =IF($B$5=0,"",COUNTIFS('Check-in'!$A$6:$A$105,"<>",'Check-in'!$I$6:$I$105,"Presente",'Check-in'!$D$6:$D$105,"<>",'Check-in'!$E$6:$E$105,"<>",'Check-in'!$G$6:$G$105,">0"))
A16: Stato | B16: Righe
A17: Da accogliere | B17: =IF($B$5=0,"",COUNTIFS('Check-in'!$A$6:$A$105,"<>",'Check-in'!$I$6:$I$105,A17))
A18: Presente | B18: =IF($B$5=0,"",COUNTIFS('Check-in'!$A$6:$A$105,"<>",'Check-in'!$I$6:$I$105,A18))
A19: Assente | B19: =IF($B$5=0,"",COUNTIFS('Check-in'!$A$6:$A$105,"<>",'Check-in'!$I$6:$I$105,A19))
A20: Verifica | B20: =IF($B$5=0,"",COUNTIFS('Check-in'!$A$6:$A$105,"<>",'Check-in'!$I$6:$I$105,A20))

Sheet Check-in
A1: Check-in invitati ricevimento
A2: Registro operativo per l’accoglienza e le presenze effettive. | Q2: ='Parametri'!$B$11
A3: Le segnalazioni richiedono un controllo umano dei dati inseriti. | N3: ='Parametri'!$A$4 | O3: ='Parametri'!$B$4 | P3: ='Parametri'!$C$4 | Q3: =Q2-'Parametri'!$B$12
N4: ='Parametri'!$A$5 | O4: ='Parametri'!$B$5 | P4: ='Parametri'!$C$5 | Q4: =Q2+'Parametri'!$B$13
A5: Invitato | B5: Conferma | C5: Attività | D5: Data check-in | E5: Ora check-in | F5: Persone attese | G5: Persone entrate | H5: Responsabile | I5: Stato | J5: Controllo | N5: ='Parametri'!$A$6 | O5: ='Parametri'!$B$6 | P5: ='Parametri'!$C$6 | Q5: ='Parametri'!$B$14
A6: Invitato Fittizio 001 | B6: Sì | C6: Ingresso ricevimento | D6: 46305 | E6: 0.70972222 | F6: 2 | G6: 2 | H6: Addetto Fittizio A | I6: Presente | J6: =IF(COUNTA(A6:I6)=0,"",IF(A6="","Inserisci invitato",IF(OR(B6="",C6="",I6=""),"Completa conferma, attività e stato",IF(F6="","Inserisci persone attese",IF(I6="Verifica","Stato da verificare",IF(AND(I6="Presente",OR(D6="",E6="",G6="",G6=0,H6="")),"Completa data, ora, quantità e responsabile",IF(AND(I6<>"Presente",OR(D6<>"",E6<>"",G6<>"",H6<>"")),"Controlla dati con stato non presente",IF(AND(B6="No",I6="Presente"),"Conferma da verificare",IF(AND(G6<>"",G6>F6),"Entrate oltre le attese",IF(AND(D6<>"",OR(D6<$Q$3,D6>$Q$4)),"Data da verificare",IF(AND(E6<>"",OR(E6<$Q$6,E6>$Q$7)),"Orario da verificare","OK"))))))))))) | P6: ='Parametri'!$C$7 | Q6: ='Parametri'!$B$15
A7: Invitato Fittizio 002 | B7: Sì | C7: Ingresso ricevimento | D7: 46305 | E7: 0.71527778 | F7: 1 | G7: 1 | H7: Addetto Fittizio B | I7: Presente | J7: =IF(COUNTA(A7:I7)=0,"",IF(A7="","Inserisci invitato",IF(OR(B7="",C7="",I7=""),"Completa conferma, attività e stato",IF(F7="","Inserisci persone attese",IF(I7="Verifica","Stato da verificare",IF(AND(I7="Presente",OR(D7="",E7="",G7="",G7=0,H7="")),"Completa data, ora, quantità e responsabile",IF(AND(I7<>"Presente",OR(D7<>"",E7<>"",G7<>"",H7<>"")),"Controlla dati con stato non presente",IF(AND(B7="No",I7="Presente"),"Conferma da verificare",IF(AND(G7<>"",G7>F7),"Entrate oltre le attese",IF(AND(D7<>"",OR(D7<$Q$3,D7>$Q$4)),"Data da verificare",IF(AND(E7<>"",OR(E7<$Q$6,E7>$Q$7)),"Orario da verificare","OK"))))))))))) | Q7: ='Parametri'!$B$16
A8: Invitato Fittizio 003 | B8: In attesa | C8: Ingresso ricevimento | F8: 2 | I8: Verifica | J8: =IF(COUNTA(A8:I8)=0,"",IF(A8="","Inserisci invitato",IF(OR(B8="",C8="",I8=""),"Completa conferma, attività e stato",IF(F8="","Inserisci persone attese",IF(I8="Verifica","Stato da verificare",IF(AND(I8="Presente",OR(D8="",E8="",G8="",G8=0,H8="")),"Completa data, ora, quantità e responsabile",IF(AND(I8<>"Presente",OR(D8<>"",E8<>"",G8<>"",H8<>"")),"Controlla dati con stato non presente",IF(AND(B8="No",I8="Presente"),"Conferma da verificare",IF(AND(G8<>"",G8>F8),"Entrate oltre le attese",IF(AND(D8<>"",OR(D8<$Q$3,D8>$Q$4)),"Data da verificare",IF(AND(E8<>"",OR(E8<$Q$6,E8>$Q$7)),"Orario da verificare","OK")))))))))))
A9: Invitato Fittizio 004 | B9: No | C9: Ingresso ricevimento | F9: 1 | I9: Assente | J9: =IF(COUNTA(A9:I9)=0,"",IF(A9="","Inserisci invitato",IF(OR(B9="",C9="",I9=""),"Completa conferma, attività e stato",IF(F9="","Inserisci persone attese",IF(I9="Verifica","Stato da verificare",IF(AND(I9="Presente",OR(D9="",E9="",G9="",G9=0,H9="")),"Completa data, ora, quantità e responsabile",IF(AND(I9<>"Presente",OR(D9<>"",E9<>"",G9<>"",H9<>"")),"Controlla dati con stato non presente",IF(AND(B9="No",I9="Presente"),"Conferma da verificare",IF(AND(G9<>"",G9>F9),"Entrate oltre le attese",IF(AND(D9<>"",OR(D9<$Q$3,D9>$Q$4)),"Data da verificare",IF(AND(E9<>"",OR(E9<$Q$6,E9>$Q$7)),"Orario da verificare","OK")))))))))))
A10: Invitato Fittizio 005 | B10: Sì | C10: Ingresso ricevimento | D10: 46305 | E10: 0.725 | F10: 4 | G10: 5 | H10: Addetto Fittizio A | I10: Presente | J10: =IF(COUNTA(A10:I10)=0,"",IF(A10="","Inserisci invitato",IF(OR(B10="",C10="",I10=""),"Completa conferma, attività e stato",IF(F10="","Inserisci persone attese",IF(I10="Verifica","Stato da verificare",IF(AND(I10="Presente",OR(D10="",E10="",G10="",G10=0,H10="")),"Completa data, ora, quantità e responsabile",IF(AND(I10<>"Presente",OR(D10<>"",E10<>"",G10<>"",H10<>"")),"Controlla dati con stato non presente",IF(AND(B10="No",I10="Presente"),"Conferma da verificare",IF(AND(G10<>"",G10>F10),"Entrate oltre le attese",IF(AND(D10<>"",OR(D10<$Q$3,D10>$Q$4)),"Data da verificare",IF(AND(E10<>"",OR(E10<$Q$6,E10>$Q$7)),"Orario da verificare","OK")))))))))))
A11: Invitato Fittizio 006 | B11: Sì | C11: Ingresso serale | F11: 2 | I11: Da accogliere | J11: =IF(COUNTA(A11:I11)=0,"",IF(A11="","Inserisci invitato",IF(OR(B11="",C11="",I11=""),"Completa conferma, attività e stato",IF(F11="","Inserisci persone attese",IF(I11="Verifica","Stato da verificare",IF(AND(I11="Presente",OR(D11="",E11="",G11="",G11=0,H11="")),"Completa data, ora, quantità e responsabile",IF(AND(I11<>"Presente",OR(D11<>"",E11<>"",G11<>"",H11<>"")),"Controlla dati con stato non presente",IF(AND(B11="No",I11="Presente"),"Conferma da verificare",IF(AND(G11<>"",G11>F11),"Entrate oltre le attese",IF(AND(D11<>"",OR(D11<$Q$3,D11>$Q$4)),"Data da verificare",IF(AND(E11<>"",OR(E11<$Q$6,E11>$Q$7)),"Orario da verificare","OK")))))))))))
A12: Invitato Fittizio 007 | B12: Sì | C12: Ingresso ricevimento | D12: 46305 | F12: 3 | G12: 3 | H12: Addetto Fittizio C | I12: Presente | J12: =IF(COUNTA(A12:I12)=0,"",IF(A12="","Inserisci invitato",IF(OR(B12="",C12="",I12=""),"Completa conferma, attività e stato",IF(F12="","Inserisci persone attese",IF(I12="Verifica","Stato da verificare",IF(AND(I12="Presente",OR(D12="",E12="",G12="",G12=0,H12="")),"Completa data, ora, quantità e responsabile",IF(AND(I12<>"Presente",OR(D12<>"",E12<>"",G12<>"",H12<>"")),"Controlla dati con stato non presente",IF(AND(B12="No",I12="Presente"),"Conferma da verificare",IF(AND(G12<>"",G12>F12),"Entrate oltre le attese",IF(AND(D12<>"",OR(D12<$Q$3,D12>$Q$4)),"Data da verificare",IF(AND(E12<>"",OR(E12<$Q$6,E12>$Q$7)),"Orario da verificare","OK")))))))))))
A13: Invitato Fittizio 008 | B13: Sì | C13: Ingresso serale | D13: 46305 | E13: 0.92708333 | F13: 1 | G13: 1 | H13: Addetto Fittizio B | I13: Presente | J13: =IF(COUNTA(A13:I13)=0,"",IF(A13="","Inserisci invitato",IF(OR(B13="",C13="",I13=""),"Completa conferma, attività e stato",IF(F13="","Inserisci persone attese",IF(I13="Verifica","Stato da verificare",IF(AND(I13="Presente",OR(D13="",E13="",G13="",G13=0,H13="")),"Completa data, ora, quantità e responsabile",IF(AND(I13<>"Presente",OR(D13<>"",E13<>"",G13<>"",H13<>"")),"Controlla dati con stato non presente",IF(AND(B13="No",I13="Presente"),"Conferma da verificare",IF(AND(G13<>"",G13>F13),"Entrate oltre le attese",IF(AND(D13<>"",OR(D13<$Q$3,D13>$Q$4)),"Data da verificare",IF(AND(E13<>"",OR(E13<$Q$6,E13>$Q$7)),"Orario da verificare","OK")))))))))))
A14: Invitato Fittizio 009 | B14: No | C14: Accoglienza navetta | D14: 46304 | E14: 0.68055556 | F14: 2 | G14: 2 | H14: Addetto Fittizio C | I14: Presente | J14: =IF(COUNTA(A14:I14)=0,"",IF(A14="","Inserisci invitato",IF(OR(B14="",C14="",I14=""),"Completa conferma, attività e stato",IF(F14="","Inserisci persone attese",IF(I14="Verifica","Stato da verificare",IF(AND(I14="Presente",OR(D14="",E14="",G14="",G14=0,H14="")),"Completa data, ora, quantità e responsabile",IF(AND(I14<>"Presente",OR(D14<>"",E14<>"",G14<>"",H14<>"")),"Controlla dati con stato non presente",IF(AND(B14="No",I14="Presente"),"Conferma da verificare",IF(AND(G14<>"",G14>F14),"Entrate oltre le attese",IF(AND(D14<>"",OR(D14<$Q$3,D14>$Q$4)),"Data da verificare",IF(AND(E14<>"",OR(E14<$Q$6,E14>$Q$7)),"Orario da verificare","OK")))))))))))
A15: Invitato Fittizio 010 | B15: Sì | C15: Ingresso serale | D15: 46306 | E15: 0.0034722222 | F15: 12 | G15: 12 | H15: Addetto Fittizio A | I15: Presente | J15: =IF(COUNTA(A15:I15)=0,"",IF(A15="","Inserisci invitato",IF(OR(B15="",C15="",I15=""),"Completa conferma, attività e stato",IF(F15="","Inserisci persone attese",IF(I15="Verifica","Stato da verificare",IF(AND(I15="Presente",OR(D15="",E15="",G15="",G15=0,H15="")),"Completa data, ora, quantità e responsabile",IF(AND(I15<>"Presente",OR(D15<>"",E15<>"",G15<>"",H15<>"")),"Controlla dati con stato non presente",IF(AND(B15="No",I15="Presente"),"Conferma da verificare",IF(AND(G15<>"",G15>F15),"Entrate oltre le attese",IF(AND(D15<>"",OR(D15<$Q$3,D15>$Q$4)),"Data da verificare",IF(AND(E15<>"",OR(E15<$Q$6,E15>$Q$7)),"Orario da verificare","OK")))))))))))
J16: =IF(COUNTA(A16:I16)=0,"",IF(A16="","Inserisci invitato",IF(OR(B16="",C16="",I16=""),"Completa conferma, attività e stato",IF(F16="","Inserisci persone attese",IF(I16="Verifica","Stato da verificare",IF(AND(I16="Presente",OR(D16="",E16="",G16="",G16=0,H16="")),"Completa data, ora, quantità e responsabile",IF(AND(I16<>"Presente",OR(D16<>"",E16<>"",G16<>"",H16<>"")),"Controlla dati con stato non presente",IF(AND(B16="No",I16="Presente"),"Conferma da verificare",IF(AND(G16<>"",G16>F16),"Entrate oltre le attese",IF(AND(D16<>"",OR(D16<$Q$3,D16>$Q$4)),"Data da verificare",IF(AND(E16<>"",OR(E16<$Q$6,E16>$Q$7)),"Orario da verificare","OK")))))))))))
J17: =IF(COUNTA(A17:I17)=0,"",IF(A17="","Inserisci invitato",IF(OR(B17="",C17="",I17=""),"Completa conferma, attività e stato",IF(F17="","Inserisci persone attese",IF(I17="Verifica","Stato da verificare",IF(AND(I17="Presente",OR(D17="",E17="",G17="",G17=0,H17="")),"Completa data, ora, quantità e responsabile",IF(AND(I17<>"Presente",OR(D17<>"",E17<>"",G17<>"",H17<>"")),"Controlla dati con stato non presente",IF(AND(B17="No",I17="Presente"),"Conferma da verificare",IF(AND(G17<>"",G17>F17),"Entrate oltre le attese",IF(AND(D17<>"",OR(D17<$Q$3,D17>$Q$4)),"Data da verificare",IF(AND(E17<>"",OR(E17<$Q$6,E17>$Q$7)),"Orario da verificare","OK")))))))))))
J18: =IF(COUNTA(A18:I18)=0,"",IF(A18="","Inserisci invitato",IF(OR(B18="",C18="",I18=""),"Completa conferma, attività e stato",IF(F18="","Inserisci persone attese",IF(I18="Verifica","Stato da verificare",IF(AND(I18="Presente",OR(D18="",E18="",G18="",G18=0,H18="")),"Completa data, ora, quantità e responsabile",IF(AND(I18<>"Presente",OR(D18<>"",E18<>"",G18<>"",H18<>"")),"Controlla dati con stato non presente",IF(AND(B18="No",I18="Presente"),"Conferma da verificare",IF(AND(G18<>"",G18>F18),"Entrate oltre le attese",IF(AND(D18<>"",OR(D18<$Q$3,D18>$Q$4)),"Data da verificare",IF(AND(E18<>"",OR(E18<$Q$6,E18>$Q$7)),"Orario da verificare","OK")))))))))))
J19: =IF(COUNTA(A19:I19)=0,"",IF(A19="","Inserisci invitato",IF(OR(B19="",C19="",I19=""),"Completa conferma, attività e stato",IF(F19="","Inserisci persone attese",IF(I19="Verifica","Stato da verificare",IF(AND(I19="Presente",OR(D19="",E19="",G19="",G19=0,H19="")),"Completa data, ora, quantità e responsabile",IF(AND(I19<>"Presente",OR(D19<>"",E19<>"",G19<>"",H19<>"")),"Controlla dati con stato non presente",IF(AND(B19="No",I19="Presente"),"Conferma da verificare",IF(AND(G19<>"",G19>F19),"Entrate oltre le attese",IF(AND(D19<>"",OR(D19<$Q$3,D19>$Q$4)),"Data da verificare",IF(AND(E19<>"",OR(E19<$Q$6,E19>$Q$7)),"Orario da verificare","OK")))))))))))
J20: =IF(COUNTA(A20:I20)=0,"",IF(A20="","Inserisci invitato",IF(OR(B20="",C20="",I20=""),"Completa conferma, attività e stato",IF(F20="","Inserisci persone attese",IF(I20="Verifica","Stato da verificare",IF(AND(I20="Presente",OR(D20="",E20="",G20="",G20=0,H20="")),"Completa data, ora, quantità e responsabile",IF(AND(I20<>"Presente",OR(D20<>"",E20<>"",G20<>"",H20<>"")),"Controlla dati con stato non presente",IF(AND(B20="No",I20="Presente"),"Conferma da verificare",IF(AND(G20<>"",G20>F20),"Entrate oltre le attese",IF(AND(D20<>"",OR(D20<$Q$3,D20>$Q$4)),"Data da verificare",IF(AND(E20<>"",OR(E20<$Q$6,E20>$Q$7)),"Orario da verificare","OK")))))))))))
J21: =IF(COUNTA(A21:I21)=0,"",IF(A21="","Inserisci invitato",IF(OR(B21="",C21="",I21=""),"Completa conferma, attività e stato",IF(F21="","Inserisci persone attese",IF(I21="Verifica","Stato da verificare",IF(AND(I21="Presente",OR(D21="",E21="",G21="",G21=0,H21="")),"Completa data, ora, quantità e responsabile",IF(AND(I21<>"Presente",OR(D21<>"",E21<>"",G21<>"",H21<>"")),"Controlla dati con stato non presente",IF(AND(B21="No",I21="Presente"),"Conferma da verificare",IF(AND(G21<>"",G21>F21),"Entrate oltre le attese",IF(AND(D21<>"",OR(D21<$Q$3,D21>$Q$4)),"Data da verificare",IF(AND(E21<>"",OR(E21<$Q$6,E21>$Q$7)),"Orario da verificare","OK")))))))))))
J22: =IF(COUNTA(A22:I22)=0,"",IF(A22="","Inserisci invitato",IF(OR(B22="",C22="",I22=""),"Completa conferma, attività e stato",IF(F22="","Inserisci persone attese",IF(I22="Verifica","Stato da verificare",IF(AND(I22="Presente",OR(D22="",E22="",G22="",G22=0,H22="")),"Completa data, ora, quantità e responsabile",IF(AND(I22<>"Presente",OR(D22<>"",E22<>"",G22<>"",H22<>"")),"Controlla dati con stato non presente",IF(AND(B22="No",I22="Presente"),"Conferma da verificare",IF(AND(G22<>"",G22>F22),"Entrate oltre le attese",IF(AND(D22<>"",OR(D22<$Q$3,D22>$Q$4)),"Data da verificare",IF(AND(E22<>"",OR(E22<$Q$6,E22>$Q$7)),"Orario da verificare","OK")))))))))))
J23: =IF(COUNTA(A23:I23)=0,"",IF(A23="","Inserisci invitato",IF(OR(B23="",C23="",I23=""),"Completa conferma, attività e stato",IF(F23="","Inserisci persone attese",IF(I23="Verifica","Stato da verificare",IF(AND(I23="Presente",OR(D23="",E23="",G23="",G23=0,H23="")),"Completa data, ora, quantità e responsabile",IF(AND(I23<>"Presente",OR(D23<>"",E23<>"",G23<>"",H23<>"")),"Controlla dati con stato non presente",IF(AND(B23="No",I23="Presente"),"Conferma da verificare",IF(AND(G23<>"",G23>F23),"Entrate oltre le attese",IF(AND(D23<>"",OR(D23<$Q$3,D23>$Q$4)),"Data da verificare",IF(AND(E23<>"",OR(E23<$Q$6,E23>$Q$7)),"Orario da verificare","OK")))))))))))
J24: =IF(COUNTA(A24:I24)=0,"",IF(A24="","Inserisci invitato",IF(OR(B24="",C24="",I24=""),"Completa conferma, attività e stato",IF(F24="","Inserisci persone attese",IF(I24="Verifica","Stato da verificare",IF(AND(I24="Presente",OR(D24="",E24="",G24="",G24=0,H24="")),"Completa data, ora, quantità e responsabile",IF(AND(I24<>"Presente",OR(D24<>"",E24<>"",G24<>"",H24<>"")),"Controlla dati con stato non presente",IF(AND(B24="No",I24="Presente"),"Conferma da verificare",IF(AND(G24<>"",G24>F24),"Entrate oltre le attese",IF(AND(D24<>"",OR(D24<$Q$3,D24>$Q$4)),"Data da verificare",IF(AND(E24<>"",OR(E24<$Q$6,E24>$Q$7)),"Orario da verificare","OK")))))))))))
J25: =IF(COUNTA(A25:I25)=0,"",IF(A25="","Inserisci invitato",IF(OR(B25="",C25="",I25=""),"Completa conferma, attività e stato",IF(F25="","Inserisci persone attese",IF(I25="Verifica","Stato da verificare",IF(AND(I25="Presente",OR(D25="",E25="",G25="",G25=0,H25="")),"Completa data, ora, quantità e responsabile",IF(AND(I25<>"Presente",OR(D25<>"",E25<>"",G25<>"",H25<>"")),"Controlla dati con stato non presente",IF(AND(B25="No",I25="Presente"),"Conferma da verificare",IF(AND(G25<>"",G25>F25),"Entrate oltre le attese",IF(AND(D25<>"",OR(D25<$Q$3,D25>$Q$4)),"Data da verificare",IF(AND(E25<>"",OR(E25<$Q$6,E25>$Q$7)),"Orario da verificare","OK")))))))))))
J26: =IF(COUNTA(A26:I26)=0,"",IF(A26="","Inserisci invitato",IF(OR(B26="",C26="",I26=""),"Completa conferma, attività e stato",IF(F26="","Inserisci persone attese",IF(I26="Verifica","Stato da verificare",IF(AND(I26="Presente",OR(D26="",E26="",G26="",G26=0,H26="")),"Completa data, ora, quantità e responsabile",IF(AND(I26<>"Presente",OR(D26<>"",E26<>"",G26<>"",H26<>"")),"Controlla dati con stato non presente",IF(AND(B26="No",I26="Presente"),"Conferma da verificare",IF(AND(G26<>"",G26>F26),"Entrate oltre le attese",IF(AND(D26<>"",OR(D26<$Q$3,D26>$Q$4)),"Data da verificare",IF(AND(E26<>"",OR(E26<$Q$6,E26>$Q$7)),"Orario da verificare","OK")))))))))))
J27: =IF(COUNTA(A27:I27)=0,"",IF(A27="","Inserisci invitato",IF(OR(B27="",C27="",I27=""),"Completa conferma, attività e stato",IF(F27="","Inserisci persone attese",IF(I27="Verifica","Stato da verificare",IF(AND(I27="Presente",OR(D27="",E27="",G27="",G27=0,H27="")),"Completa data, ora, quantità e responsabile",IF(AND(I27<>"Presente",OR(D27<>"",E27<>"",G27<>"",H27<>"")),"Controlla dati con stato non presente",IF(AND(B27="No",I27="Presente"),"Conferma da verificare",IF(AND(G27<>"",G27>F27),"Entrate oltre le attese",IF(AND(D27<>"",OR(D27<$Q$3,D27>$Q$4)),"Data da verificare",IF(AND(E27<>"",OR(E27<$Q$6,E27>$Q$7)),"Orario da verificare","OK")))))))))))
... J105: =IF(COUNTA(A105:I105)=0,"",IF(A105="","Inserisci invitato",IF(OR(B105="",C105="",I105=""),"Completa conferma, attività e stato",IF(F105="","Inserisci persone attese",IF(I105="Verifica","Stato da verificare",IF(AND(I105="Presente",OR(D105="",E105="",G105="",G105=0,H105="")),"Completa data, ora, quantità e responsabile",IF(AND(I105<>"Presente",OR(D105<>"",E105<>"",G105<>"",H105<>"")),"Controlla dati con stato non presente",IF(AND(B105="No",I105="Presente"),"Conferma da verificare",IF(AND(G105<>"",G105>F105),"Entrate oltre le attese",IF(AND(D105<>"",OR(D105<$Q$3,D105>$Q$4)),"Data da verificare",IF(AND(E105<>"",OR(E105<$Q$6,E105>$Q$7)),"Orario da verificare","OK")))))))))))

Sheet Parametri
A1: Parametri del check-in invitati
A2: Valori organizzativi modificabili; non rappresentano limiti ufficiali.
A3: Conferma | B3: Attività | C3: Stato
A4: Sì | B4: Ingresso ricevimento | C4: Da accogliere
A5: No | B5: Accoglienza navetta | C5: Presente
A6: In attesa | B6: Ingresso serale | C6: Assente
C7: Verifica
A10: Impostazione | B10: Valore | C10: Unità | D10: Uso nel controllo
A11: Data prevista del ricevimento | B11: 46305 | C11: data | D11: Riferimento per il check-in
A12: Giorni precedenti ammessi | B12: 1 | C12: giorni | D12: Limite inferiore per la data
A13: Giorni successivi ammessi | B13: 1 | C13: giorni | D13: Limite superiore per la data
A14: Massimo persone per registrazione | B14: 12 | C14: persone | D14: Limite per quantità attese ed entrate
A15: Ora apertura accoglienza | B15: 0.6875 | C15: ore | D15: Soglia indicativa per gli avvisi
A16: Ora chiusura accoglienza | B16: 0.99930556 | C16: ore | D16: Soglia indicativa per gli avvisi
