Workbook

Sheet Riepilogo
A1: Riepilogo conferme partecipazione
A2: Indicatori calcolati esclusivamente dai registri compilati.
A3: Indicatore | B3: Valore | D3: Esito | E3: Nuclei
A4: Nuclei registrati | B4: =COUNTIF('Invitati'!$B$4:$B$103,"<>") | D4: Sì | E4: =COUNTIF('Invitati'!$E$4:$E$103,"Sì")
A5: Persone invitate | B5: =SUM('Invitati'!$F$4:$F$103)+SUM('Invitati'!$G$4:$G$103) | D5: No | E5: =COUNTIF('Invitati'!$E$4:$E$103,"No")
A6: Persone confermate | B6: =SUM('Invitati'!$H$4:$H$103)+SUM('Invitati'!$I$4:$I$103) | D6: In attesa | E6: =COUNTIF('Invitati'!$E$4:$E$103,"In attesa")
A7: Conferme positive | B7: =COUNTIF('Invitati'!$E$4:$E$103,"Sì") | D7: Da contattare | E7: =COUNTIF('Invitati'!$E$4:$E$103,"Da contattare")
A8: Rinunce | B8: =COUNTIF('Invitati'!$E$4:$E$103,"No") | D8: Senza stato | E8: =COUNTIFS('Invitati'!$B$4:$B$103,"<>",'Invitati'!$E$4:$E$103,"")
A9: Senza esito | B9: =B4-B7-B8
A10: Tasso di risposta | B10: =IFERROR((B7+B8)/B4,"")
A11: Risposte scadute | B11: =COUNTIF('Invitati'!$N$4:$N$103,"Risposta scaduta")
A12: Attività aperte | B12: =COUNTIF('Attività'!$I$4:$I$103,"Pianificata")+COUNTIF('Attività'!$I$4:$I$103,"In corso")
A13: Attività scadute | B13: =COUNTIF('Attività'!$K$4:$K$103,"Scaduta")
A14: Ore previste per attività aperte | B14: =SUMIF('Attività'!$I$4:$I$103,"Pianificata",'Attività'!$E$4:$E$103)+SUMIF('Attività'!$I$4:$I$103,"In corso",'Attività'!$E$4:$E$103)
A15: Importo stimato attività | B15: =SUM('Attività'!$F$4:$F$103)
A16: Ultima risposta registrata | B16: =IF(COUNT('Invitati'!$J$4:$J$103)=0,"",MAX('Invitati'!$J$4:INDEX('Invitati'!$J:$J,103)))

Sheet Invitati
A1: Conferme partecipazione matrimonio
A2: Registro di esempio fittizio per inviti inviati, risposte e controlli manuali.
A3: ID invito | B3: Invitato o nucleo | C3: Data invio | D3: Termine risposta | E3: Conferma | F3: Adulti invitati | G3: Minori invitati | H3: Adulti confermati | I3: Minori confermati | J3: Data risposta | K3: Responsabile | L3: Ultima attività | M3: Data ultima attività | N3: Stato controllo
A4: INV-F001 | B4: Nucleo fittizio Aurora | C4: 46216 | D4: 46246 | E4: Sì | F4: 2 | G4: 0 | H4: 2 | I4: 0 | J4: 46241 | K4: Responsabile fittizio A | L4: Aggiornamento conferma | M4: 46241 | N4: =IF(B4="","",IF(OR(E4="Sì",E4="No"),IF(J4="","Data risposta mancante",IF(E4="Sì",IF(SUM(H4:I4)=0,"Verificare quantità",IF(SUM(H4:I4)>SUM(F4:G4),"Confermati oltre invito","Completo")),IF(SUM(H4:I4)>0,"Verificare quantità","Chiuso"))),IF(AND(D4<>"",D4<TODAY()),"Risposta scaduta","Da seguire")))
A5: INV-F002 | B5: Invitato fittizio Borea | C5: 46231 | D5: 46271 | E5: In attesa | F5: 2 | G5: 1 | K5: Responsabile fittizio B | L5: Sollecito gentile | M5: 46274 | N5: =IF(B5="","",IF(OR(E5="Sì",E5="No"),IF(J5="","Data risposta mancante",IF(E5="Sì",IF(SUM(H5:I5)=0,"Verificare quantità",IF(SUM(H5:I5)>SUM(F5:G5),"Confermati oltre invito","Completo")),IF(SUM(H5:I5)>0,"Verificare quantità","Chiuso"))),IF(AND(D5<>"",D5<TODAY()),"Risposta scaduta","Da seguire")))
A6: INV-F003 | B6: Nucleo fittizio Corallo | C6: 46236 | D6: 46266 | E6: No | F6: 1 | G6: 0 | H6: 0 | I6: 0 | J6: 46264 | K6: Coppia organizzatrice fittizia | L6: Aggiornamento conferma | M6: 46264 | N6: =IF(B6="","",IF(OR(E6="Sì",E6="No"),IF(J6="","Data risposta mancante",IF(E6="Sì",IF(SUM(H6:I6)=0,"Verificare quantità",IF(SUM(H6:I6)>SUM(F6:G6),"Confermati oltre invito","Completo")),IF(SUM(H6:I6)>0,"Verificare quantità","Chiuso"))),IF(AND(D6<>"",D6<TODAY()),"Risposta scaduta","Da seguire")))
A7: INV-F004 | B7: Invitata fittizia Duna | C7: 46271 | D7: 46296 | E7: Da contattare | F7: 1 | G7: 0 | K7: Coppia organizzatrice fittizia | L7: Invio invito | M7: 46271 | N7: =IF(B7="","",IF(OR(E7="Sì",E7="No"),IF(J7="","Data risposta mancante",IF(E7="Sì",IF(SUM(H7:I7)=0,"Verificare quantità",IF(SUM(H7:I7)>SUM(F7:G7),"Confermati oltre invito","Completo")),IF(SUM(H7:I7)>0,"Verificare quantità","Chiuso"))),IF(AND(D7<>"",D7<TODAY()),"Risposta scaduta","Da seguire")))
A8: INV-F005 | B8: Nucleo fittizio Edera | C8: 46238 | D8: 46283 | E8: Sì | F8: 2 | G8: 1 | H8: 2 | I8: 1 | J8: 46272 | K8: Coordinamento fittizio | L8: Aggiornamento conferma | M8: 46272 | N8: =IF(B8="","",IF(OR(E8="Sì",E8="No"),IF(J8="","Data risposta mancante",IF(E8="Sì",IF(SUM(H8:I8)=0,"Verificare quantità",IF(SUM(H8:I8)>SUM(F8:G8),"Confermati oltre invito","Completo")),IF(SUM(H8:I8)>0,"Verificare quantità","Chiuso"))),IF(AND(D8<>"",D8<TODAY()),"Risposta scaduta","Da seguire")))
A9: INV-F006 | B9: Invitato fittizio Faro | C9: 46244 | D9: 46286 | E9: Sì | F9: 1 | G9: 0 | H9: 0 | I9: 0 | J9: 46275 | K9: Responsabile fittizio A | L9: Verifica quantità | M9: 46276 | N9: =IF(B9="","",IF(OR(E9="Sì",E9="No"),IF(J9="","Data risposta mancante",IF(E9="Sì",IF(SUM(H9:I9)=0,"Verificare quantità",IF(SUM(H9:I9)>SUM(F9:G9),"Confermati oltre invito","Completo")),IF(SUM(H9:I9)>0,"Verificare quantità","Chiuso"))),IF(AND(D9<>"",D9<TODAY()),"Risposta scaduta","Da seguire")))
A10: INV-F007 | B10: Nucleo fittizio Glicine | C10: 46256 | D10: 46291 | E10: In attesa | F10: 2 | G10: 2 | K10: Responsabile fittizio B | L10: Invio invito | M10: 46256 | N10: =IF(B10="","",IF(OR(E10="Sì",E10="No"),IF(J10="","Data risposta mancante",IF(E10="Sì",IF(SUM(H10:I10)=0,"Verificare quantità",IF(SUM(H10:I10)>SUM(F10:G10),"Confermati oltre invito","Completo")),IF(SUM(H10:I10)>0,"Verificare quantità","Chiuso"))),IF(AND(D10<>"",D10<TODAY()),"Risposta scaduta","Da seguire")))
A11: INV-F008 | B11: Invitata fittizia Iris | C11: 46251 | D11: 46281 | E11: Sì | F11: 2 | G11: 0 | H11: 3 | I11: 0 | J11: 46274 | K11: Coordinamento fittizio | L11: Aggiornamento conferma | M11: 46274 | N11: =IF(B11="","",IF(OR(E11="Sì",E11="No"),IF(J11="","Data risposta mancante",IF(E11="Sì",IF(SUM(H11:I11)=0,"Verificare quantità",IF(SUM(H11:I11)>SUM(F11:G11),"Confermati oltre invito","Completo")),IF(SUM(H11:I11)>0,"Verificare quantità","Chiuso"))),IF(AND(D11<>"",D11<TODAY()),"Risposta scaduta","Da seguire")))
N12: =IF(B12="","",IF(OR(E12="Sì",E12="No"),IF(J12="","Data risposta mancante",IF(E12="Sì",IF(SUM(H12:I12)=0,"Verificare quantità",IF(SUM(H12:I12)>SUM(F12:G12),"Confermati oltre invito","Completo")),IF(SUM(H12:I12)>0,"Verificare quantità","Chiuso"))),IF(AND(D12<>"",D12<TODAY()),"Risposta scaduta","Da seguire")))
N13: =IF(B13="","",IF(OR(E13="Sì",E13="No"),IF(J13="","Data risposta mancante",IF(E13="Sì",IF(SUM(H13:I13)=0,"Verificare quantità",IF(SUM(H13:I13)>SUM(F13:G13),"Confermati oltre invito","Completo")),IF(SUM(H13:I13)>0,"Verificare quantità","Chiuso"))),IF(AND(D13<>"",D13<TODAY()),"Risposta scaduta","Da seguire")))
N14: =IF(B14="","",IF(OR(E14="Sì",E14="No"),IF(J14="","Data risposta mancante",IF(E14="Sì",IF(SUM(H14:I14)=0,"Verificare quantità",IF(SUM(H14:I14)>SUM(F14:G14),"Confermati oltre invito","Completo")),IF(SUM(H14:I14)>0,"Verificare quantità","Chiuso"))),IF(AND(D14<>"",D14<TODAY()),"Risposta scaduta","Da seguire")))
N15: =IF(B15="","",IF(OR(E15="Sì",E15="No"),IF(J15="","Data risposta mancante",IF(E15="Sì",IF(SUM(H15:I15)=0,"Verificare quantità",IF(SUM(H15:I15)>SUM(F15:G15),"Confermati oltre invito","Completo")),IF(SUM(H15:I15)>0,"Verificare quantità","Chiuso"))),IF(AND(D15<>"",D15<TODAY()),"Risposta scaduta","Da seguire")))
N16: =IF(B16="","",IF(OR(E16="Sì",E16="No"),IF(J16="","Data risposta mancante",IF(E16="Sì",IF(SUM(H16:I16)=0,"Verificare quantità",IF(SUM(H16:I16)>SUM(F16:G16),"Confermati oltre invito","Completo")),IF(SUM(H16:I16)>0,"Verificare quantità","Chiuso"))),IF(AND(D16<>"",D16<TODAY()),"Risposta scaduta","Da seguire")))
N17: =IF(B17="","",IF(OR(E17="Sì",E17="No"),IF(J17="","Data risposta mancante",IF(E17="Sì",IF(SUM(H17:I17)=0,"Verificare quantità",IF(SUM(H17:I17)>SUM(F17:G17),"Confermati oltre invito","Completo")),IF(SUM(H17:I17)>0,"Verificare quantità","Chiuso"))),IF(AND(D17<>"",D17<TODAY()),"Risposta scaduta","Da seguire")))
N18: =IF(B18="","",IF(OR(E18="Sì",E18="No"),IF(J18="","Data risposta mancante",IF(E18="Sì",IF(SUM(H18:I18)=0,"Verificare quantità",IF(SUM(H18:I18)>SUM(F18:G18),"Confermati oltre invito","Completo")),IF(SUM(H18:I18)>0,"Verificare quantità","Chiuso"))),IF(AND(D18<>"",D18<TODAY()),"Risposta scaduta","Da seguire")))
N19: =IF(B19="","",IF(OR(E19="Sì",E19="No"),IF(J19="","Data risposta mancante",IF(E19="Sì",IF(SUM(H19:I19)=0,"Verificare quantità",IF(SUM(H19:I19)>SUM(F19:G19),"Confermati oltre invito","Completo")),IF(SUM(H19:I19)>0,"Verificare quantità","Chiuso"))),IF(AND(D19<>"",D19<TODAY()),"Risposta scaduta","Da seguire")))
N20: =IF(B20="","",IF(OR(E20="Sì",E20="No"),IF(J20="","Data risposta mancante",IF(E20="Sì",IF(SUM(H20:I20)=0,"Verificare quantità",IF(SUM(H20:I20)>SUM(F20:G20),"Confermati oltre invito","Completo")),IF(SUM(H20:I20)>0,"Verificare quantità","Chiuso"))),IF(AND(D20<>"",D20<TODAY()),"Risposta scaduta","Da seguire")))
N21: =IF(B21="","",IF(OR(E21="Sì",E21="No"),IF(J21="","Data risposta mancante",IF(E21="Sì",IF(SUM(H21:I21)=0,"Verificare quantità",IF(SUM(H21:I21)>SUM(F21:G21),"Confermati oltre invito","Completo")),IF(SUM(H21:I21)>0,"Verificare quantità","Chiuso"))),IF(AND(D21<>"",D21<TODAY()),"Risposta scaduta","Da seguire")))
N22: =IF(B22="","",IF(OR(E22="Sì",E22="No"),IF(J22="","Data risposta mancante",IF(E22="Sì",IF(SUM(H22:I22)=0,"Verificare quantità",IF(SUM(H22:I22)>SUM(F22:G22),"Confermati oltre invito","Completo")),IF(SUM(H22:I22)>0,"Verificare quantità","Chiuso"))),IF(AND(D22<>"",D22<TODAY()),"Risposta scaduta","Da seguire")))
N23: =IF(B23="","",IF(OR(E23="Sì",E23="No"),IF(J23="","Data risposta mancante",IF(E23="Sì",IF(SUM(H23:I23)=0,"Verificare quantità",IF(SUM(H23:I23)>SUM(F23:G23),"Confermati oltre invito","Completo")),IF(SUM(H23:I23)>0,"Verificare quantità","Chiuso"))),IF(AND(D23<>"",D23<TODAY()),"Risposta scaduta","Da seguire")))
... N103: =IF(B103="","",IF(OR(E103="Sì",E103="No"),IF(J103="","Data risposta mancante",IF(E103="Sì",IF(SUM(H103:I103)=0,"Verificare quantità",IF(SUM(H103:I103)>SUM(F103:G103),"Confermati oltre invito","Completo")),IF(SUM(H103:I103)>0,"Verificare quantità","Chiuso"))),IF(AND(D103<>"",D103<TODAY()),"Risposta scaduta","Da seguire")))

Sheet Attività
A1: Attività RSVP e solleciti
A2: Registro operativo fittizio: gli avvisi richiedono sempre un controllo umano.
A3: ID attività | B3: ID invito | C3: Attività | D3: Data attività | E3: Durata (ore) | F3: Importo stimato (€) | G3: Fornitore | H3: Responsabile | I3: Stato | J3: Scadenza | K3: Avviso
A4: ATT-F001 | B4: INV-F002 | C4: Sollecito gentile | D4: 46274 | E4: 0.5 | F4: 0 | G4: Nessun fornitore | H4: Responsabile fittizio A | I4: In corso | J4: 46275 | K4: =IF(A4="","",IF(I4="Completata","Chiusa",IF(I4="Annullata","Chiusa",IF(AND(J4<>"",J4<TODAY()),"Scaduta",IF(I4="","Stato mancante","Da controllare")))))
A5: ATT-F002 | B5: INV-F001 | C5: Aggiornamento conferma | D5: 46241 | E5: 0.25 | F5: 0 | G5: Nessun fornitore | H5: Responsabile fittizio B | I5: Completata | J5: 46242 | K5: =IF(A5="","",IF(I5="Completata","Chiusa",IF(I5="Annullata","Chiusa",IF(AND(J5<>"",J5<TODAY()),"Scaduta",IF(I5="","Stato mancante","Da controllare")))))
A6: ATT-F003 | B6: INV-F004 | C6: Invio invito | D6: 46271 | E6: 1 | F6: 18.5 | G6: Servizio fittizio CartaChiara | H6: Coppia organizzatrice fittizia | I6: Pianificata | J6: 46279 | K6: =IF(A6="","",IF(I6="Completata","Chiusa",IF(I6="Annullata","Chiusa",IF(AND(J6<>"",J6<TODAY()),"Scaduta",IF(I6="","Stato mancante","Da controllare")))))
A7: ATT-F004 | B7: INV-F006 | C7: Verifica quantità | D7: 46276 | E7: 0.5 | F7: 0 | G7: Nessun fornitore | H7: Coordinamento fittizio | I7: Pianificata | J7: 46278 | K7: =IF(A7="","",IF(I7="Completata","Chiusa",IF(I7="Annullata","Chiusa",IF(AND(J7<>"",J7<TODAY()),"Scaduta",IF(I7="","Stato mancante","Da controllare")))))
K8: =IF(A8="","",IF(I8="Completata","Chiusa",IF(I8="Annullata","Chiusa",IF(AND(J8<>"",J8<TODAY()),"Scaduta",IF(I8="","Stato mancante","Da controllare")))))
K9: =IF(A9="","",IF(I9="Completata","Chiusa",IF(I9="Annullata","Chiusa",IF(AND(J9<>"",J9<TODAY()),"Scaduta",IF(I9="","Stato mancante","Da controllare")))))
K10: =IF(A10="","",IF(I10="Completata","Chiusa",IF(I10="Annullata","Chiusa",IF(AND(J10<>"",J10<TODAY()),"Scaduta",IF(I10="","Stato mancante","Da controllare")))))
K11: =IF(A11="","",IF(I11="Completata","Chiusa",IF(I11="Annullata","Chiusa",IF(AND(J11<>"",J11<TODAY()),"Scaduta",IF(I11="","Stato mancante","Da controllare")))))
K12: =IF(A12="","",IF(I12="Completata","Chiusa",IF(I12="Annullata","Chiusa",IF(AND(J12<>"",J12<TODAY()),"Scaduta",IF(I12="","Stato mancante","Da controllare")))))
K13: =IF(A13="","",IF(I13="Completata","Chiusa",IF(I13="Annullata","Chiusa",IF(AND(J13<>"",J13<TODAY()),"Scaduta",IF(I13="","Stato mancante","Da controllare")))))
K14: =IF(A14="","",IF(I14="Completata","Chiusa",IF(I14="Annullata","Chiusa",IF(AND(J14<>"",J14<TODAY()),"Scaduta",IF(I14="","Stato mancante","Da controllare")))))
K15: =IF(A15="","",IF(I15="Completata","Chiusa",IF(I15="Annullata","Chiusa",IF(AND(J15<>"",J15<TODAY()),"Scaduta",IF(I15="","Stato mancante","Da controllare")))))
K16: =IF(A16="","",IF(I16="Completata","Chiusa",IF(I16="Annullata","Chiusa",IF(AND(J16<>"",J16<TODAY()),"Scaduta",IF(I16="","Stato mancante","Da controllare")))))
K17: =IF(A17="","",IF(I17="Completata","Chiusa",IF(I17="Annullata","Chiusa",IF(AND(J17<>"",J17<TODAY()),"Scaduta",IF(I17="","Stato mancante","Da controllare")))))
K18: =IF(A18="","",IF(I18="Completata","Chiusa",IF(I18="Annullata","Chiusa",IF(AND(J18<>"",J18<TODAY()),"Scaduta",IF(I18="","Stato mancante","Da controllare")))))
K19: =IF(A19="","",IF(I19="Completata","Chiusa",IF(I19="Annullata","Chiusa",IF(AND(J19<>"",J19<TODAY()),"Scaduta",IF(I19="","Stato mancante","Da controllare")))))
... K103: =IF(A103="","",IF(I103="Completata","Chiusa",IF(I103="Annullata","Chiusa",IF(AND(J103<>"",J103<TODAY()),"Scaduta",IF(I103="","Stato mancante","Da controllare")))))

Sheet Parametri
A1: Parametri modificabili
A2: Elenchi e limiti organizzativi fittizi utilizzati dalle convalide.
A3: Esiti conferma | B3: Responsabili | C3: Tipi di attività | D3: Stati attività | E3: Fornitori facoltativi | F3: Parametro | G3: Valore
A4: Da contattare | B4: Responsabile fittizio A | C4: Invio invito | D4: Pianificata | E4: Nessun fornitore | F4: Data matrimonio | G4: 46516
A5: In attesa | B5: Responsabile fittizio B | C5: Sollecito gentile | D5: In corso | E5: Servizio fittizio CartaChiara | F5: Termine RSVP predefinito | G5: 46471
A6: Sì | B6: Coppia organizzatrice fittizia | C6: Aggiornamento conferma | D6: Completata | E6: Fornitore fittizio FestaCarta | F6: Massimo persone per invito | G6: 10
A7: No | B7: Coordinamento fittizio | C7: Verifica quantità | D7: Annullata | E7: Studio fittizio ListaLieta | F7: Data minima registro | G7: 45911
C8: Nota logistica | F8: Data massima registro | G8: 46516
F9: Massimo ore per attività | G9: 24
F10: Massimo importo stimato (€) | G10: 5000
