Workbook

Sheet Riepilogo
A1: Confronto preventivi fornitori matrimonio — riepilogo
A3: Indicatore | B3: Valore | C3: Unità
A4: Preventivi compilati | B4: =COUNT(Preventivi!$E$5:$E$104) | C4: preventivi
A5: Attività con almeno un’offerta | B5: =SUMPRODUCT(--(COUNTIF(Preventivi!$A$5:$A$104,Parametri!$A$5:$A$14)>0)) | C5: attività
A6: Somma comparativa delle offerte | B6: =IF(COUNT(Preventivi!$E$5:$E$104)=0,"",SUM(Preventivi!$E$5:$E$104)) | C6: euro
A7: Importo medio delle offerte | B7: =IFERROR(AVERAGE(Preventivi!$E$5:$E$104),"") | C7: euro
A8: Offerta minima inserita | B8: =IF(COUNT(Preventivi!$E$5:$E$104)=0,"",MIN(Preventivi!$E$5:$E$104)) | C8: euro
A9: Offerta massima inserita | B9: =IF(COUNT(Preventivi!$E$5:$E$104)=0,"",MAX(Preventivi!$E$5:$E$104)) | C9: euro
A10: Preventivi entro budget | B10: =COUNTIF(Preventivi!$L$5:$L$104,"Entro budget") | C10: preventivi
A11: Preventivi oltre budget | B11: =COUNTIF(Preventivi!$L$5:$L$104,"Oltre budget") | C11: preventivi
A12: Preventivi da valutare | B12: =COUNTIF(Preventivi!$H$5:$H$104,"Da valutare") | C12: preventivi
A13: Preventivi selezionati | B13: =COUNTIF(Preventivi!$H$5:$H$104,"Selezionato") | C13: preventivi
A16: Attività | B16: N. preventivi | C16: Budget indicativo (€) | D16: Importo medio (€) | E16: Somma comparativa (€) | F16: Scostamento medio (€)
A17: =IF(Parametri!A5="","",Parametri!A5) | B17: =IF(A17="","",COUNTIF(Preventivi!$A$5:$A$104,A17)) | C17: =IF(A17="","",IFERROR(VLOOKUP(A17,Parametri!$A$5:$B$14,2,FALSE),"")) | D17: =IF(B17=0,"",IFERROR(AVERAGEIF(Preventivi!$A$5:$A$104,A17,Preventivi!$E$5:$E$104),"")) | E17: =IF(B17=0,"",IFERROR(SUMIF(Preventivi!$A$5:$A$104,A17,Preventivi!$E$5:$E$104),"")) | F17: =IF(OR(D17="",C17=""),"",IFERROR(D17-C17,""))
A18: =IF(Parametri!A6="","",Parametri!A6) | B18: =IF(A18="","",COUNTIF(Preventivi!$A$5:$A$104,A18)) | C18: =IF(A18="","",IFERROR(VLOOKUP(A18,Parametri!$A$5:$B$14,2,FALSE),"")) | D18: =IF(B18=0,"",IFERROR(AVERAGEIF(Preventivi!$A$5:$A$104,A18,Preventivi!$E$5:$E$104),"")) | E18: =IF(B18=0,"",IFERROR(SUMIF(Preventivi!$A$5:$A$104,A18,Preventivi!$E$5:$E$104),"")) | F18: =IF(OR(D18="",C18=""),"",IFERROR(D18-C18,""))
A19: =IF(Parametri!A7="","",Parametri!A7) | B19: =IF(A19="","",COUNTIF(Preventivi!$A$5:$A$104,A19)) | C19: =IF(A19="","",IFERROR(VLOOKUP(A19,Parametri!$A$5:$B$14,2,FALSE),"")) | D19: =IF(B19=0,"",IFERROR(AVERAGEIF(Preventivi!$A$5:$A$104,A19,Preventivi!$E$5:$E$104),"")) | E19: =IF(B19=0,"",IFERROR(SUMIF(Preventivi!$A$5:$A$104,A19,Preventivi!$E$5:$E$104),"")) | F19: =IF(OR(D19="",C19=""),"",IFERROR(D19-C19,""))
A20: =IF(Parametri!A8="","",Parametri!A8) | B20: =IF(A20="","",COUNTIF(Preventivi!$A$5:$A$104,A20)) | C20: =IF(A20="","",IFERROR(VLOOKUP(A20,Parametri!$A$5:$B$14,2,FALSE),"")) | D20: =IF(B20=0,"",IFERROR(AVERAGEIF(Preventivi!$A$5:$A$104,A20,Preventivi!$E$5:$E$104),"")) | E20: =IF(B20=0,"",IFERROR(SUMIF(Preventivi!$A$5:$A$104,A20,Preventivi!$E$5:$E$104),"")) | F20: =IF(OR(D20="",C20=""),"",IFERROR(D20-C20,""))
A21: =IF(Parametri!A9="","",Parametri!A9) | B21: =IF(A21="","",COUNTIF(Preventivi!$A$5:$A$104,A21)) | C21: =IF(A21="","",IFERROR(VLOOKUP(A21,Parametri!$A$5:$B$14,2,FALSE),"")) | D21: =IF(B21=0,"",IFERROR(AVERAGEIF(Preventivi!$A$5:$A$104,A21,Preventivi!$E$5:$E$104),"")) | E21: =IF(B21=0,"",IFERROR(SUMIF(Preventivi!$A$5:$A$104,A21,Preventivi!$E$5:$E$104),"")) | F21: =IF(OR(D21="",C21=""),"",IFERROR(D21-C21,""))
A22: =IF(Parametri!A10="","",Parametri!A10) | B22: =IF(A22="","",COUNTIF(Preventivi!$A$5:$A$104,A22)) | C22: =IF(A22="","",IFERROR(VLOOKUP(A22,Parametri!$A$5:$B$14,2,FALSE),"")) | D22: =IF(B22=0,"",IFERROR(AVERAGEIF(Preventivi!$A$5:$A$104,A22,Preventivi!$E$5:$E$104),"")) | E22: =IF(B22=0,"",IFERROR(SUMIF(Preventivi!$A$5:$A$104,A22,Preventivi!$E$5:$E$104),"")) | F22: =IF(OR(D22="",C22=""),"",IFERROR(D22-C22,""))
A23: =IF(Parametri!A11="","",Parametri!A11) | B23: =IF(A23="","",COUNTIF(Preventivi!$A$5:$A$104,A23)) | C23: =IF(A23="","",IFERROR(VLOOKUP(A23,Parametri!$A$5:$B$14,2,FALSE),"")) | D23: =IF(B23=0,"",IFERROR(AVERAGEIF(Preventivi!$A$5:$A$104,A23,Preventivi!$E$5:$E$104),"")) | E23: =IF(B23=0,"",IFERROR(SUMIF(Preventivi!$A$5:$A$104,A23,Preventivi!$E$5:$E$104),"")) | F23: =IF(OR(D23="",C23=""),"",IFERROR(D23-C23,""))
A24: =IF(Parametri!A12="","",Parametri!A12) | B24: =IF(A24="","",COUNTIF(Preventivi!$A$5:$A$104,A24)) | C24: =IF(A24="","",IFERROR(VLOOKUP(A24,Parametri!$A$5:$B$14,2,FALSE),"")) | D24: =IF(B24=0,"",IFERROR(AVERAGEIF(Preventivi!$A$5:$A$104,A24,Preventivi!$E$5:$E$104),"")) | E24: =IF(B24=0,"",IFERROR(SUMIF(Preventivi!$A$5:$A$104,A24,Preventivi!$E$5:$E$104),"")) | F24: =IF(OR(D24="",C24=""),"",IFERROR(D24-C24,""))
A25: =IF(Parametri!A13="","",Parametri!A13) | B25: =IF(A25="","",COUNTIF(Preventivi!$A$5:$A$104,A25)) | C25: =IF(A25="","",IFERROR(VLOOKUP(A25,Parametri!$A$5:$B$14,2,FALSE),"")) | D25: =IF(B25=0,"",IFERROR(AVERAGEIF(Preventivi!$A$5:$A$104,A25,Preventivi!$E$5:$E$104),"")) | E25: =IF(B25=0,"",IFERROR(SUMIF(Preventivi!$A$5:$A$104,A25,Preventivi!$E$5:$E$104),"")) | F25: =IF(OR(D25="",C25=""),"",IFERROR(D25-C25,""))
A26: =IF(Parametri!A14="","",Parametri!A14) | B26: =IF(A26="","",COUNTIF(Preventivi!$A$5:$A$104,A26)) | C26: =IF(A26="","",IFERROR(VLOOKUP(A26,Parametri!$A$5:$B$14,2,FALSE),"")) | D26: =IF(B26=0,"",IFERROR(AVERAGEIF(Preventivi!$A$5:$A$104,A26,Preventivi!$E$5:$E$104),"")) | E26: =IF(B26=0,"",IFERROR(SUMIF(Preventivi!$A$5:$A$104,A26,Preventivi!$E$5:$E$104),"")) | F26: =IF(OR(D26="",C26=""),"",IFERROR(D26-C26,""))

Sheet Preventivi
A1: Confronto preventivi fornitori matrimonio — registro
A4: Attività | B4: Fornitore | C4: Data preventivo | D4: Quantità | E4: Importo (€) | F4: Inclusioni e condizioni | G4: Responsabile | H4: Stato | I4: Costo unitario (€) | J4: Budget attività (€) | K4: Scostamento dal budget (€) | L4: Valutazione budget
A5: Catering | B5: Impresa fittizia Glicine | C5: 46023 | D5: 120 | E5: 8600 | F5: Esempio fittizio: menu per 120 persone, servizio incluso; bevande extra. | G5: Referente fittizio A | H5: In verifica | I5: =IF(A5="","",IF(COUNT(D5:E5)<2,"",IFERROR(E5/D5,""))) | J5: =IF(A5="","",IFERROR(VLOOKUP(A5,Parametri!$A$5:$B$14,2,FALSE),"")) | K5: =IF(A5="","",IF(COUNT(E5,J5)<2,"",IFERROR(E5-J5,""))) | L5: =IF(A5="","",IF(COUNT(E5,J5)<2,"Dati da verificare",IF(E5<=J5,"Entro budget","Oltre budget")))
A6: Catering | B6: Servizi fittizi Tavola di Carta | C6: 46246 | D6: 120 | E6: 9400 | F6: Esempio fittizio: menu e bevande inclusi; conferma condizioni da verificare. | G6: Referente fittizio B | H6: Da valutare | I6: =IF(A6="","",IF(COUNT(D6:E6)<2,"",IFERROR(E6/D6,""))) | J6: =IF(A6="","",IFERROR(VLOOKUP(A6,Parametri!$A$5:$B$14,2,FALSE),"")) | K6: =IF(A6="","",IF(COUNT(E6,J6)<2,"",IFERROR(E6-J6,""))) | L6: =IF(A6="","",IF(COUNT(E6,J6)<2,"Dati da verificare",IF(E6<=J6,"Entro budget","Oltre budget")))
A7: Fotografia | B7: Studio fittizio Obiettivo di Carta | C7: 46262 | D7: 1 | E7: 2500 | F7: Esempio fittizio: servizio fotografico e album; ore aggiuntive escluse. | G7: Referente fittizio A | H7: Selezionato | I7: =IF(A7="","",IF(COUNT(D7:E7)<2,"",IFERROR(E7/D7,""))) | J7: =IF(A7="","",IFERROR(VLOOKUP(A7,Parametri!$A$5:$B$14,2,FALSE),"")) | K7: =IF(A7="","",IF(COUNT(E7,J7)<2,"",IFERROR(E7-J7,""))) | L7: =IF(A7="","",IF(COUNT(E7,J7)<2,"Dati da verificare",IF(E7<=J7,"Entro budget","Oltre budget")))
A8: Fotografia | B8: Laboratorio fittizio Luce Immaginaria | C8: 46269 | D8: 1 | E8: 2850 | F8: Esempio fittizio: servizio fotografico esteso; stampa album inclusa. | G8: Referente fittizio B | H8: Scartato | I8: =IF(A8="","",IF(COUNT(D8:E8)<2,"",IFERROR(E8/D8,""))) | J8: =IF(A8="","",IFERROR(VLOOKUP(A8,Parametri!$A$5:$B$14,2,FALSE),"")) | K8: =IF(A8="","",IF(COUNT(E8,J8)<2,"",IFERROR(E8-J8,""))) | L8: =IF(A8="","",IF(COUNT(E8,J8)<2,"Dati da verificare",IF(E8<=J8,"Entro budget","Oltre budget")))
A9: Musica | B9: Ensemble fittizio Nota Immaginaria | C9: 46276 | D9: 5 | E9: 1600 | F9: Esempio fittizio: cinque ore di musica; attrezzatura audio inclusa. | G9: Referente fittizio A | H9: Selezionato | I9: =IF(A9="","",IF(COUNT(D9:E9)<2,"",IFERROR(E9/D9,""))) | J9: =IF(A9="","",IFERROR(VLOOKUP(A9,Parametri!$A$5:$B$14,2,FALSE),"")) | K9: =IF(A9="","",IF(COUNT(E9,J9)<2,"",IFERROR(E9-J9,""))) | L9: =IF(A9="","",IF(COUNT(E9,J9)<2,"Dati da verificare",IF(E9<=J9,"Entro budget","Oltre budget")))
A10: Musica | B10: Suoni fittizi Festa di Carta | C10: 46283 | D10: 5 | E10: 1950 | F10: Esempio fittizio: cinque ore e postazione audio; trasferta da verificare. | G10: Referente fittizio B | H10: Da valutare | I10: =IF(A10="","",IF(COUNT(D10:E10)<2,"",IFERROR(E10/D10,""))) | J10: =IF(A10="","",IFERROR(VLOOKUP(A10,Parametri!$A$5:$B$14,2,FALSE),"")) | K10: =IF(A10="","",IF(COUNT(E10,J10)<2,"",IFERROR(E10-J10,""))) | L10: =IF(A10="","",IF(COUNT(E10,J10)<2,"Dati da verificare",IF(E10<=J10,"Entro budget","Oltre budget")))
A11: Fiori e allestimenti | B11: Bottega fittizia Petalo Inventato | C11: 46290 | D11: 20 | E11: 2900 | F11: Esempio fittizio: venti composizioni; consegna inclusa. | G11: Referente fittizio A | H11: In verifica | I11: =IF(A11="","",IF(COUNT(D11:E11)<2,"",IFERROR(E11/D11,""))) | J11: =IF(A11="","",IFERROR(VLOOKUP(A11,Parametri!$A$5:$B$14,2,FALSE),"")) | K11: =IF(A11="","",IF(COUNT(E11,J11)<2,"",IFERROR(E11-J11,""))) | L11: =IF(A11="","",IF(COUNT(E11,J11)<2,"Dati da verificare",IF(E11<=J11,"Entro budget","Oltre budget")))
A12: Fiori e allestimenti | B12: Atelier fittizio Fiore di Cartone | C12: 46297 | D12: 20 | E12: 3250 | F12: Esempio fittizio: venti composizioni e arco; smontaggio escluso. | G12: Referente fittizio B | H12: Da valutare | I12: =IF(A12="","",IF(COUNT(D12:E12)<2,"",IFERROR(E12/D12,""))) | J12: =IF(A12="","",IFERROR(VLOOKUP(A12,Parametri!$A$5:$B$14,2,FALSE),"")) | K12: =IF(A12="","",IF(COUNT(E12,J12)<2,"",IFERROR(E12-J12,""))) | L12: =IF(A12="","",IF(COUNT(E12,J12)<2,"Dati da verificare",IF(E12<=J12,"Entro budget","Oltre budget")))
A13: Trasporto | B13: Noleggi fittizi Ruota di Carta | C13: 46306 | D13: 2 | E13: 1100 | F13: Esempio fittizio: due veicoli per sei ore; chilometri extra esclusi. | G13: Referente fittizio A | H13: In verifica | I13: =IF(A13="","",IF(COUNT(D13:E13)<2,"",IFERROR(E13/D13,""))) | J13: =IF(A13="","",IFERROR(VLOOKUP(A13,Parametri!$A$5:$B$14,2,FALSE),"")) | K13: =IF(A13="","",IF(COUNT(E13,J13)<2,"",IFERROR(E13-J13,""))) | L13: =IF(A13="","",IF(COUNT(E13,J13)<2,"Dati da verificare",IF(E13<=J13,"Entro budget","Oltre budget")))
A14: Trasporto | B14: Mobilità fittizia Strada Immaginaria | C14: 47118 | D14: 2 | E14: 1350 | F14: Esempio fittizio: due veicoli; limite di 100 chilometri complessivi. | G14: Referente fittizio B | H14: Da valutare | I14: =IF(A14="","",IF(COUNT(D14:E14)<2,"",IFERROR(E14/D14,""))) | J14: =IF(A14="","",IFERROR(VLOOKUP(A14,Parametri!$A$5:$B$14,2,FALSE),"")) | K14: =IF(A14="","",IF(COUNT(E14,J14)<2,"",IFERROR(E14-J14,""))) | L14: =IF(A14="","",IF(COUNT(E14,J14)<2,"Dati da verificare",IF(E14<=J14,"Entro budget","Oltre budget")))
I15: =IF(A15="","",IF(COUNT(D15:E15)<2,"",IFERROR(E15/D15,""))) | J15: =IF(A15="","",IFERROR(VLOOKUP(A15,Parametri!$A$5:$B$14,2,FALSE),"")) | K15: =IF(A15="","",IF(COUNT(E15,J15)<2,"",IFERROR(E15-J15,""))) | L15: =IF(A15="","",IF(COUNT(E15,J15)<2,"Dati da verificare",IF(E15<=J15,"Entro budget","Oltre budget")))
I16: =IF(A16="","",IF(COUNT(D16:E16)<2,"",IFERROR(E16/D16,""))) | J16: =IF(A16="","",IFERROR(VLOOKUP(A16,Parametri!$A$5:$B$14,2,FALSE),"")) | K16: =IF(A16="","",IF(COUNT(E16,J16)<2,"",IFERROR(E16-J16,""))) | L16: =IF(A16="","",IF(COUNT(E16,J16)<2,"Dati da verificare",IF(E16<=J16,"Entro budget","Oltre budget")))
I17: =IF(A17="","",IF(COUNT(D17:E17)<2,"",IFERROR(E17/D17,""))) | J17: =IF(A17="","",IFERROR(VLOOKUP(A17,Parametri!$A$5:$B$14,2,FALSE),"")) | K17: =IF(A17="","",IF(COUNT(E17,J17)<2,"",IFERROR(E17-J17,""))) | L17: =IF(A17="","",IF(COUNT(E17,J17)<2,"Dati da verificare",IF(E17<=J17,"Entro budget","Oltre budget")))
I18: =IF(A18="","",IF(COUNT(D18:E18)<2,"",IFERROR(E18/D18,""))) | J18: =IF(A18="","",IFERROR(VLOOKUP(A18,Parametri!$A$5:$B$14,2,FALSE),"")) | K18: =IF(A18="","",IF(COUNT(E18,J18)<2,"",IFERROR(E18-J18,""))) | L18: =IF(A18="","",IF(COUNT(E18,J18)<2,"Dati da verificare",IF(E18<=J18,"Entro budget","Oltre budget")))
I19: =IF(A19="","",IF(COUNT(D19:E19)<2,"",IFERROR(E19/D19,""))) | J19: =IF(A19="","",IFERROR(VLOOKUP(A19,Parametri!$A$5:$B$14,2,FALSE),"")) | K19: =IF(A19="","",IF(COUNT(E19,J19)<2,"",IFERROR(E19-J19,""))) | L19: =IF(A19="","",IF(COUNT(E19,J19)<2,"Dati da verificare",IF(E19<=J19,"Entro budget","Oltre budget")))
I20: =IF(A20="","",IF(COUNT(D20:E20)<2,"",IFERROR(E20/D20,""))) | J20: =IF(A20="","",IFERROR(VLOOKUP(A20,Parametri!$A$5:$B$14,2,FALSE),"")) | K20: =IF(A20="","",IF(COUNT(E20,J20)<2,"",IFERROR(E20-J20,""))) | L20: =IF(A20="","",IF(COUNT(E20,J20)<2,"Dati da verificare",IF(E20<=J20,"Entro budget","Oltre budget")))
I21: =IF(A21="","",IF(COUNT(D21:E21)<2,"",IFERROR(E21/D21,""))) | J21: =IF(A21="","",IFERROR(VLOOKUP(A21,Parametri!$A$5:$B$14,2,FALSE),"")) | K21: =IF(A21="","",IF(COUNT(E21,J21)<2,"",IFERROR(E21-J21,""))) | L21: =IF(A21="","",IF(COUNT(E21,J21)<2,"Dati da verificare",IF(E21<=J21,"Entro budget","Oltre budget")))
I22: =IF(A22="","",IF(COUNT(D22:E22)<2,"",IFERROR(E22/D22,""))) | J22: =IF(A22="","",IFERROR(VLOOKUP(A22,Parametri!$A$5:$B$14,2,FALSE),"")) | K22: =IF(A22="","",IF(COUNT(E22,J22)<2,"",IFERROR(E22-J22,""))) | L22: =IF(A22="","",IF(COUNT(E22,J22)<2,"Dati da verificare",IF(E22<=J22,"Entro budget","Oltre budget")))
I23: =IF(A23="","",IF(COUNT(D23:E23)<2,"",IFERROR(E23/D23,""))) | J23: =IF(A23="","",IFERROR(VLOOKUP(A23,Parametri!$A$5:$B$14,2,FALSE),"")) | K23: =IF(A23="","",IF(COUNT(E23,J23)<2,"",IFERROR(E23-J23,""))) | L23: =IF(A23="","",IF(COUNT(E23,J23)<2,"Dati da verificare",IF(E23<=J23,"Entro budget","Oltre budget")))
I24: =IF(A24="","",IF(COUNT(D24:E24)<2,"",IFERROR(E24/D24,""))) | J24: =IF(A24="","",IFERROR(VLOOKUP(A24,Parametri!$A$5:$B$14,2,FALSE),"")) | K24: =IF(A24="","",IF(COUNT(E24,J24)<2,"",IFERROR(E24-J24,""))) | L24: =IF(A24="","",IF(COUNT(E24,J24)<2,"Dati da verificare",IF(E24<=J24,"Entro budget","Oltre budget")))
I25: =IF(A25="","",IF(COUNT(D25:E25)<2,"",IFERROR(E25/D25,""))) | J25: =IF(A25="","",IFERROR(VLOOKUP(A25,Parametri!$A$5:$B$14,2,FALSE),"")) | K25: =IF(A25="","",IF(COUNT(E25,J25)<2,"",IFERROR(E25-J25,""))) | L25: =IF(A25="","",IF(COUNT(E25,J25)<2,"Dati da verificare",IF(E25<=J25,"Entro budget","Oltre budget")))
I26: =IF(A26="","",IF(COUNT(D26:E26)<2,"",IFERROR(E26/D26,""))) | J26: =IF(A26="","",IFERROR(VLOOKUP(A26,Parametri!$A$5:$B$14,2,FALSE),"")) | K26: =IF(A26="","",IF(COUNT(E26,J26)<2,"",IFERROR(E26-J26,""))) | L26: =IF(A26="","",IF(COUNT(E26,J26)<2,"Dati da verificare",IF(E26<=J26,"Entro budget","Oltre budget")))
... I104: =IF(A104="","",IF(COUNT(D104:E104)<2,"",IFERROR(E104/D104,""))) | J104: =IF(A104="","",IFERROR(VLOOKUP(A104,Parametri!$A$5:$B$14,2,FALSE),"")) | K104: =IF(A104="","",IF(COUNT(E104,J104)<2,"",IFERROR(E104-J104,""))) | L104: =IF(A104="","",IF(COUNT(E104,J104)<2,"Dati da verificare",IF(E104<=J104,"Entro budget","Oltre budget")))

Sheet Parametri
A1: Confronto preventivi fornitori matrimonio — parametri
A3: Attività e budget indicativi | D3: Stati del preventivo | F3: Limiti di inserimento
A4: Attività | B4: Budget indicativo (€) | D4: Stato | F4: Parametro | G4: Valore
A5: Catering | B5: 9000 | D5: Da valutare | F5: Data minima preventivo | G5: 46023
A6: Fotografia | B6: 2500 | D6: In verifica | F6: Data massima preventivo | G6: 47118
A7: Musica | B7: 1800 | D7: Selezionato | F7: Quantità minima | G7: 1
A8: Fiori e allestimenti | B8: 3000 | D8: Scartato | F8: Quantità massima | G8: 1000
A9: Trasporto | B9: 1200 | F9: Importo minimo (€) | G9: 0.01
A10: Location | B10: 7000 | F10: Importo massimo (€) | G10: 100000
A11: Torta | B11: 900
A12: Video | B12: 2200
A13: Inviti | B13: 500
A14: Bomboniere | B14: 1000
