Workbook

Sheet Riepilogo
A1: Riepilogo — consenso immagini invitati matrimonio
A3: Indicatore | B3: Valore | D3: Preferenza dichiarata | E3: Registrazioni
A4: Registrazioni inserite | B4: =COUNTIF('Registro consensi'!$A$5:$A$124,"<>") | D4: =Parametri!C5 | E4: =COUNTIFS('Registro consensi'!$A$5:$A$124,"<>",'Registro consensi'!$D$5:$D$124,D4)
A5: Presenze confermate | B5: =COUNTIFS('Registro consensi'!$A$5:$A$124,"<>",'Registro consensi'!$B$5:$B$124,"Confermato") | D5: =Parametri!C6 | E5: =COUNTIFS('Registro consensi'!$A$5:$A$124,"<>",'Registro consensi'!$D$5:$D$124,D5)
A6: Non partecipanti | B6: =COUNTIFS('Registro consensi'!$A$5:$A$124,"<>",'Registro consensi'!$B$5:$B$124,"Non partecipa") | D6: =Parametri!C7 | E6: =COUNTIFS('Registro consensi'!$A$5:$A$124,"<>",'Registro consensi'!$D$5:$D$124,D6)
A7: Registrazioni complete | B7: =COUNTIF('Registro consensi'!$H$5:$H$124,"Registrazione completa")
A8: Controlli richiesti | B8: =COUNTIF('Registro consensi'!$H$5:$H$124,"Controllo richiesto")
A9: Registrazioni da completare | B9: =COUNTIF('Registro consensi'!$H$5:$H$124,"Da completare") | D9: Attività immagini | E9: Registrazioni
A10: Registrazioni non applicabili | B10: =COUNTIF('Registro consensi'!$H$5:$H$124,"Non applicabile") | D10: =Parametri!B5 | E10: =COUNTIFS('Registro consensi'!$A$5:$A$124,"<>",'Registro consensi'!$C$5:$C$124,D10)
A11: Quota registrazioni verificate | B11: =IFERROR(COUNTIFS('Registro consensi'!$A$5:$A$124,"<>",'Registro consensi'!$G$5:$G$124,"Verificato")/COUNTIF('Registro consensi'!$A$5:$A$124,"<>"),"") | D11: =Parametri!B6 | E11: =COUNTIFS('Registro consensi'!$A$5:$A$124,"<>",'Registro consensi'!$C$5:$C$124,D11)
D12: =Parametri!B7 | E12: =COUNTIFS('Registro consensi'!$A$5:$A$124,"<>",'Registro consensi'!$C$5:$C$124,D12)
D13: =Parametri!B8 | E13: =COUNTIFS('Registro consensi'!$A$5:$A$124,"<>",'Registro consensi'!$C$5:$C$124,D13)

Sheet Registro consensi
A1: Registro consensi immagini invitati matrimonio
A2: Una riga per invitato e attività. Gli esempi sono inequivocabilmente fittizi; le celle color crema sono modificabili.
A4: Invitato | B4: Conferma presenza | C4: Attività immagini | D4: Preferenza dichiarata | E4: Data dichiarazione | F4: Responsabile | G4: Stato verifica | H4: Controllo operativo
A5: Invitata fittizia Alba 01 | B5: Confermato | C5: Fotografie durante l'evento | D5: Acconsente | E5: 46186 | F5: Referente fittizio A | G5: Verificato | H5: =IF(A5="","",IF(B5="","Da completare",IF(B5="Non partecipa","Non applicabile",IF(OR(C5="",D5="",E5="",F5="",G5=""),"Da completare",IF(OR(D5="Da chiarire",G5="Da verificare"),"Controllo richiesto","Registrazione completa")))))
A6: Invitato fittizio Borgo 02 | B6: Confermato | C6: Riprese video durante l'evento | D6: Non acconsente | E6: 46268 | F6: Referente fittizio B | G6: Verificato | H6: =IF(A6="","",IF(B6="","Da completare",IF(B6="Non partecipa","Non applicabile",IF(OR(C6="",D6="",E6="",F6="",G6=""),"Da completare",IF(OR(D6="Da chiarire",G6="Da verificare"),"Controllo richiesto","Registrazione completa")))))
A7: Ospite fittizia Cielo 03 | B7: In attesa | C7: Pubblicazione social degli sposi | D7: Da chiarire | E7: 46269 | F7: Referente fittizio C | G7: Da verificare | H7: =IF(A7="","",IF(B7="","Da completare",IF(B7="Non partecipa","Non applicabile",IF(OR(C7="",D7="",E7="",F7="",G7=""),"Da completare",IF(OR(D7="Da chiarire",G7="Da verificare"),"Controllo richiesto","Registrazione completa")))))
A8: Persona fittizia Duna 04 | B8: Non partecipa | E8: 46270 | F8: Referente fittizio A | G8: Verificato | H8: =IF(A8="","",IF(B8="","Da completare",IF(B8="Non partecipa","Non applicabile",IF(OR(C8="",D8="",E8="",F8="",G8=""),"Da completare",IF(OR(D8="Da chiarire",G8="Da verificare"),"Controllo richiesto","Registrazione completa")))))
A9: Invitata inventata Edera 05 | B9: Confermato | C9: Album digitale privato | D9: Acconsente | E9: 46271 | F9: Referente fittizio B | G9: Verificato | H9: =IF(A9="","",IF(B9="","Da completare",IF(B9="Non partecipa","Non applicabile",IF(OR(C9="",D9="",E9="",F9="",G9=""),"Da completare",IF(OR(D9="Da chiarire",G9="Da verificare"),"Controllo richiesto","Registrazione completa")))))
A10: Invitato inventato Faro 06 | B10: Confermato | C10: Pubblicazione social degli sposi | D10: Non acconsente | E10: 46272 | F10: Referente fittizio C | G10: Da verificare | H10: =IF(A10="","",IF(B10="","Da completare",IF(B10="Non partecipa","Non applicabile",IF(OR(C10="",D10="",E10="",F10="",G10=""),"Da completare",IF(OR(D10="Da chiarire",G10="Da verificare"),"Controllo richiesto","Registrazione completa")))))
A11: Ospite di prova Glicine 07 | B11: In attesa | C11: Riprese video durante l'evento | D11: Da chiarire | F11: Referente fittizio A | G11: Da verificare | H11: =IF(A11="","",IF(B11="","Da completare",IF(B11="Non partecipa","Non applicabile",IF(OR(C11="",D11="",E11="",F11="",G11=""),"Da completare",IF(OR(D11="Da chiarire",G11="Da verificare"),"Controllo richiesto","Registrazione completa")))))
A12: Persona di prova Lago 08 | B12: Confermato | C12: Fotografie durante l'evento | D12: Acconsente | E12: 46274 | F12: Referente fittizio B | G12: Verificato | H12: =IF(A12="","",IF(B12="","Da completare",IF(B12="Non partecipa","Non applicabile",IF(OR(C12="",D12="",E12="",F12="",G12=""),"Da completare",IF(OR(D12="Da chiarire",G12="Da verificare"),"Controllo richiesto","Registrazione completa")))))
A13: Invitata fittizia Menta 09 | B13: Confermato | C13: Album digitale privato | D13: Acconsente | E13: 46275 | G13: Da verificare | H13: =IF(A13="","",IF(B13="","Da completare",IF(B13="Non partecipa","Non applicabile",IF(OR(C13="",D13="",E13="",F13="",G13=""),"Da completare",IF(OR(D13="Da chiarire",G13="Da verificare"),"Controllo richiesto","Registrazione completa")))))
A14: Invitato fittizio Nastro 10 | B14: Confermato | C14: Album digitale privato | D14: Da chiarire | E14: 46276 | F14: Referente fittizio C | G14: Verificato | H14: =IF(A14="","",IF(B14="","Da completare",IF(B14="Non partecipa","Non applicabile",IF(OR(C14="",D14="",E14="",F14="",G14=""),"Da completare",IF(OR(D14="Da chiarire",G14="Da verificare"),"Controllo richiesto","Registrazione completa")))))
H15: =IF(A15="","",IF(B15="","Da completare",IF(B15="Non partecipa","Non applicabile",IF(OR(C15="",D15="",E15="",F15="",G15=""),"Da completare",IF(OR(D15="Da chiarire",G15="Da verificare"),"Controllo richiesto","Registrazione completa")))))
H16: =IF(A16="","",IF(B16="","Da completare",IF(B16="Non partecipa","Non applicabile",IF(OR(C16="",D16="",E16="",F16="",G16=""),"Da completare",IF(OR(D16="Da chiarire",G16="Da verificare"),"Controllo richiesto","Registrazione completa")))))
H17: =IF(A17="","",IF(B17="","Da completare",IF(B17="Non partecipa","Non applicabile",IF(OR(C17="",D17="",E17="",F17="",G17=""),"Da completare",IF(OR(D17="Da chiarire",G17="Da verificare"),"Controllo richiesto","Registrazione completa")))))
H18: =IF(A18="","",IF(B18="","Da completare",IF(B18="Non partecipa","Non applicabile",IF(OR(C18="",D18="",E18="",F18="",G18=""),"Da completare",IF(OR(D18="Da chiarire",G18="Da verificare"),"Controllo richiesto","Registrazione completa")))))
H19: =IF(A19="","",IF(B19="","Da completare",IF(B19="Non partecipa","Non applicabile",IF(OR(C19="",D19="",E19="",F19="",G19=""),"Da completare",IF(OR(D19="Da chiarire",G19="Da verificare"),"Controllo richiesto","Registrazione completa")))))
H20: =IF(A20="","",IF(B20="","Da completare",IF(B20="Non partecipa","Non applicabile",IF(OR(C20="",D20="",E20="",F20="",G20=""),"Da completare",IF(OR(D20="Da chiarire",G20="Da verificare"),"Controllo richiesto","Registrazione completa")))))
H21: =IF(A21="","",IF(B21="","Da completare",IF(B21="Non partecipa","Non applicabile",IF(OR(C21="",D21="",E21="",F21="",G21=""),"Da completare",IF(OR(D21="Da chiarire",G21="Da verificare"),"Controllo richiesto","Registrazione completa")))))
H22: =IF(A22="","",IF(B22="","Da completare",IF(B22="Non partecipa","Non applicabile",IF(OR(C22="",D22="",E22="",F22="",G22=""),"Da completare",IF(OR(D22="Da chiarire",G22="Da verificare"),"Controllo richiesto","Registrazione completa")))))
H23: =IF(A23="","",IF(B23="","Da completare",IF(B23="Non partecipa","Non applicabile",IF(OR(C23="",D23="",E23="",F23="",G23=""),"Da completare",IF(OR(D23="Da chiarire",G23="Da verificare"),"Controllo richiesto","Registrazione completa")))))
H24: =IF(A24="","",IF(B24="","Da completare",IF(B24="Non partecipa","Non applicabile",IF(OR(C24="",D24="",E24="",F24="",G24=""),"Da completare",IF(OR(D24="Da chiarire",G24="Da verificare"),"Controllo richiesto","Registrazione completa")))))
H25: =IF(A25="","",IF(B25="","Da completare",IF(B25="Non partecipa","Non applicabile",IF(OR(C25="",D25="",E25="",F25="",G25=""),"Da completare",IF(OR(D25="Da chiarire",G25="Da verificare"),"Controllo richiesto","Registrazione completa")))))
H26: =IF(A26="","",IF(B26="","Da completare",IF(B26="Non partecipa","Non applicabile",IF(OR(C26="",D26="",E26="",F26="",G26=""),"Da completare",IF(OR(D26="Da chiarire",G26="Da verificare"),"Controllo richiesto","Registrazione completa")))))
... H124: =IF(A124="","",IF(B124="","Da completare",IF(B124="Non partecipa","Non applicabile",IF(OR(C124="",D124="",E124="",F124="",G124=""),"Da completare",IF(OR(D124="Da chiarire",G124="Da verificare"),"Controllo richiesto","Registrazione completa")))))

Sheet Parametri
A1: Parametri — consenso immagini invitati matrimonio
A2: Elenchi e limiti modificabili utilizzati dalle convalide del registro.
A4: Conferma presenza | B4: Attività immagini | C4: Preferenza dichiarata | D4: Responsabile | E4: Stato verifica | H4: Ipotesi modificabile | I4: Valore
A5: Confermato | B5: Fotografie durante l'evento | C5: Acconsente | D5: Referente fittizio A | E5: Verificato | H5: Data minima registrabile | I5: 46186
A6: In attesa | B6: Riprese video durante l'evento | C6: Non acconsente | D6: Referente fittizio B | E6: Da verificare | H6: Data evento ipotizzata | I6: 46306
A7: Non partecipa | B7: Album digitale privato | C7: Da chiarire | D7: Referente fittizio C
B8: Pubblicazione social degli sposi | H8: Nota d'uso | I8: Il file registra preferenze dichiarate per finalità organizzative e non attesta autorizzazioni, conformità o validità legale.
H9: Controllo umano | I9: Gli avvisi indicano soltanto righe da riesaminare. Se si rinomina un'opzione, verificare anche le registrazioni già inserite.
