Workbook

Sheet Riepilogo
A1: Verifica dei contatti d’emergenza
A2: Ospiti censiti | B2: =COUNTIF('Contatti emergenza'!$A$2:$A$201,"<>")
A3: Viaggi da presidiare | B3: =COUNTIFS('Contatti emergenza'!$A$2:$A$201,"<>",'Contatti emergenza'!$C$2:$C$201,"Sì",'Contatti emergenza'!$E$2:$E$201,">="&'Liste e ipotesi'!$B$2)+COUNTIFS('Contatti emergenza'!$A$2:$A$201,"<>",'Contatti emergenza'!$C$2:$C$201,"Sì",'Contatti emergenza'!$E$2:$E$201,"")
A4: Schede strutturalmente complete | B4: =COUNTIFS('Contatti emergenza'!$A$2:$A$201,"<>",'Contatti emergenza'!$C$2:$C$201,"Sì",'Contatti emergenza'!$P$2:$P$201,"Completo",'Contatti emergenza'!$E$2:$E$201,">="&'Liste e ipotesi'!$B$2)
A5: Schede da completare | B5: =MAX(B3-B4,0)
A6: Avvisi urgenti | B6: =COUNTIF('Contatti emergenza'!$Q$2:$Q$201,"Urgente:*")
A7: Riferimenti da riverificare | B7: =COUNTIF('Contatti emergenza'!$Q$2:$Q$201,"Riverificare*")
A8: Copertura delle schede | B8: =IFERROR(B4/B3,"")

Sheet Contatti emergenza
A1: ID ospite | B1: Alias ospite | C1: In viaggio per il matrimonio? | D1: Data partenza | E1: Data rientro | F1: Contatto d’emergenza | G1: Relazione con l’ospite | H1: Prefisso internazionale | I1: Numero telefonico | J1: Lingua preferita | K1: Fascia di reperibilità | L1: Riferimento confermato dall’ospite? | M1: Data ultima verifica | N1: Numero da usare | O1: Giorni alla partenza | P1: Stato scheda | Q1: Avviso operativo
A2: FIT-001 | B2: Ospite fittizio 01 | C2: Sì | D2: 46285 | E2: 46287 | F2: Contatto fittizio Alfa | G2: Amico/a | H2: +39 | I2: 0000000000 | J2: Italiano | K2: Qualsiasi ora | L2: Sì | M2: 46275 | N2: =IF(OR(H2="",I2=""),"",H2&" "&I2) | O2: =IF(OR(A2="",C2<>"Sì",D2=""),"",IFERROR(D2-'Liste e ipotesi'!$B$2,"")) | P2: =IF(A2="","",IF(C2="No","Non richiesto",IF(C2<>"Sì","Da completare",IF(AND(B2<>"",ISNUMBER(D2),ISNUMBER(E2),D2>='Liste e ipotesi'!$B$5,D2<='Liste e ipotesi'!$B$6,E2>=D2,E2<='Liste e ipotesi'!$B$6,F2<>"",G2<>"",H2<>"",I2<>"",L2="Sì",ISNUMBER(M2),M2>='Liste e ipotesi'!$B$5,M2<='Liste e ipotesi'!$B$2),"Completo","Da completare")))) | Q2: =IF(A2="","",IF(C2="No","",IF(C2<>"Sì","Selezionare Sì o No",IF(D2="","Inserire data di partenza",IF(AND(ISNUMBER(D2),ISNUMBER(E2),E2<D2),"Controllare le date",IF(AND(ISNUMBER(E2),E2<'Liste e ipotesi'!$B$2),"Viaggio concluso",IF(AND(ISNUMBER(D2),D2<='Liste e ipotesi'!$B$2,OR(E2="",E2>='Liste e ipotesi'!$B$2)),"Ospite già in viaggio",IF(P2="Da completare",IF(AND(ISNUMBER(D2),D2>='Liste e ipotesi'!$B$2,IFERROR(D2-'Liste e ipotesi'!$B$2,999999)<='Liste e ipotesi'!$B$3),"Urgente: completare prima della partenza","Completare i dati"),IF(AND(ISNUMBER(M2),IFERROR('Liste e ipotesi'!$B$2-M2,0)>'Liste e ipotesi'!$B$4),"Riverificare il riferimento","Pronto")))))))))
A3: FIT-002 | B3: Ospite fittizio 02 | C3: Sì | D3: 46283 | E3: 46284 | F3: Contatto fittizio Beta | G3: Genitore | H3: +39 | J3: Italiano | K3: Sera (18:00-22:00) | L3: Sì | M3: 46276 | N3: =IF(OR(H3="",I3=""),"",H3&" "&I3) | O3: =IF(OR(A3="",C3<>"Sì",D3=""),"",IFERROR(D3-'Liste e ipotesi'!$B$2,"")) | P3: =IF(A3="","",IF(C3="No","Non richiesto",IF(C3<>"Sì","Da completare",IF(AND(B3<>"",ISNUMBER(D3),ISNUMBER(E3),D3>='Liste e ipotesi'!$B$5,D3<='Liste e ipotesi'!$B$6,E3>=D3,E3<='Liste e ipotesi'!$B$6,F3<>"",G3<>"",H3<>"",I3<>"",L3="Sì",ISNUMBER(M3),M3>='Liste e ipotesi'!$B$5,M3<='Liste e ipotesi'!$B$2),"Completo","Da completare")))) | Q3: =IF(A3="","",IF(C3="No","",IF(C3<>"Sì","Selezionare Sì o No",IF(D3="","Inserire data di partenza",IF(AND(ISNUMBER(D3),ISNUMBER(E3),E3<D3),"Controllare le date",IF(AND(ISNUMBER(E3),E3<'Liste e ipotesi'!$B$2),"Viaggio concluso",IF(AND(ISNUMBER(D3),D3<='Liste e ipotesi'!$B$2,OR(E3="",E3>='Liste e ipotesi'!$B$2)),"Ospite già in viaggio",IF(P3="Da completare",IF(AND(ISNUMBER(D3),D3>='Liste e ipotesi'!$B$2,IFERROR(D3-'Liste e ipotesi'!$B$2,999999)<='Liste e ipotesi'!$B$3),"Urgente: completare prima della partenza","Completare i dati"),IF(AND(ISNUMBER(M3),IFERROR('Liste e ipotesi'!$B$2-M3,0)>'Liste e ipotesi'!$B$4),"Riverificare il riferimento","Pronto")))))))))
A4: FIT-003 | B4: Ospite fittizio 03 | C4: No | N4: =IF(OR(H4="",I4=""),"",H4&" "&I4) | O4: =IF(OR(A4="",C4<>"Sì",D4=""),"",IFERROR(D4-'Liste e ipotesi'!$B$2,"")) | P4: =IF(A4="","",IF(C4="No","Non richiesto",IF(C4<>"Sì","Da completare",IF(AND(B4<>"",ISNUMBER(D4),ISNUMBER(E4),D4>='Liste e ipotesi'!$B$5,D4<='Liste e ipotesi'!$B$6,E4>=D4,E4<='Liste e ipotesi'!$B$6,F4<>"",G4<>"",H4<>"",I4<>"",L4="Sì",ISNUMBER(M4),M4>='Liste e ipotesi'!$B$5,M4<='Liste e ipotesi'!$B$2),"Completo","Da completare")))) | Q4: =IF(A4="","",IF(C4="No","",IF(C4<>"Sì","Selezionare Sì o No",IF(D4="","Inserire data di partenza",IF(AND(ISNUMBER(D4),ISNUMBER(E4),E4<D4),"Controllare le date",IF(AND(ISNUMBER(E4),E4<'Liste e ipotesi'!$B$2),"Viaggio concluso",IF(AND(ISNUMBER(D4),D4<='Liste e ipotesi'!$B$2,OR(E4="",E4>='Liste e ipotesi'!$B$2)),"Ospite già in viaggio",IF(P4="Da completare",IF(AND(ISNUMBER(D4),D4>='Liste e ipotesi'!$B$2,IFERROR(D4-'Liste e ipotesi'!$B$2,999999)<='Liste e ipotesi'!$B$3),"Urgente: completare prima della partenza","Completare i dati"),IF(AND(ISNUMBER(M4),IFERROR('Liste e ipotesi'!$B$2-M4,0)>'Liste e ipotesi'!$B$4),"Riverificare il riferimento","Pronto")))))))))
A5: FIT-004 | B5: Ospite fittizio 04 | C5: Sì | D5: 46290 | E5: 46289 | F5: Contatto fittizio Gamma | G5: Fratello/sorella | H5: +39 | I5: 0000000000 | J5: Italiano | K5: Mattina (08:00-12:00) | L5: Sì | M5: 46274 | N5: =IF(OR(H5="",I5=""),"",H5&" "&I5) | O5: =IF(OR(A5="",C5<>"Sì",D5=""),"",IFERROR(D5-'Liste e ipotesi'!$B$2,"")) | P5: =IF(A5="","",IF(C5="No","Non richiesto",IF(C5<>"Sì","Da completare",IF(AND(B5<>"",ISNUMBER(D5),ISNUMBER(E5),D5>='Liste e ipotesi'!$B$5,D5<='Liste e ipotesi'!$B$6,E5>=D5,E5<='Liste e ipotesi'!$B$6,F5<>"",G5<>"",H5<>"",I5<>"",L5="Sì",ISNUMBER(M5),M5>='Liste e ipotesi'!$B$5,M5<='Liste e ipotesi'!$B$2),"Completo","Da completare")))) | Q5: =IF(A5="","",IF(C5="No","",IF(C5<>"Sì","Selezionare Sì o No",IF(D5="","Inserire data di partenza",IF(AND(ISNUMBER(D5),ISNUMBER(E5),E5<D5),"Controllare le date",IF(AND(ISNUMBER(E5),E5<'Liste e ipotesi'!$B$2),"Viaggio concluso",IF(AND(ISNUMBER(D5),D5<='Liste e ipotesi'!$B$2,OR(E5="",E5>='Liste e ipotesi'!$B$2)),"Ospite già in viaggio",IF(P5="Da completare",IF(AND(ISNUMBER(D5),D5>='Liste e ipotesi'!$B$2,IFERROR(D5-'Liste e ipotesi'!$B$2,999999)<='Liste e ipotesi'!$B$3),"Urgente: completare prima della partenza","Completare i dati"),IF(AND(ISNUMBER(M5),IFERROR('Liste e ipotesi'!$B$2-M5,0)>'Liste e ipotesi'!$B$4),"Riverificare il riferimento","Pronto")))))))))
A6: FIT-005 | B6: Ospite fittizio 05 | C6: Sì | D6: 46295 | E6: 46297 | F6: Contatto fittizio Delta | G6: Coniuge/partner | H6: +39 | I6: 0000000000 | J6: Inglese | K6: Qualsiasi ora | L6: Sì | M6: 46174 | N6: =IF(OR(H6="",I6=""),"",H6&" "&I6) | O6: =IF(OR(A6="",C6<>"Sì",D6=""),"",IFERROR(D6-'Liste e ipotesi'!$B$2,"")) | P6: =IF(A6="","",IF(C6="No","Non richiesto",IF(C6<>"Sì","Da completare",IF(AND(B6<>"",ISNUMBER(D6),ISNUMBER(E6),D6>='Liste e ipotesi'!$B$5,D6<='Liste e ipotesi'!$B$6,E6>=D6,E6<='Liste e ipotesi'!$B$6,F6<>"",G6<>"",H6<>"",I6<>"",L6="Sì",ISNUMBER(M6),M6>='Liste e ipotesi'!$B$5,M6<='Liste e ipotesi'!$B$2),"Completo","Da completare")))) | Q6: =IF(A6="","",IF(C6="No","",IF(C6<>"Sì","Selezionare Sì o No",IF(D6="","Inserire data di partenza",IF(AND(ISNUMBER(D6),ISNUMBER(E6),E6<D6),"Controllare le date",IF(AND(ISNUMBER(E6),E6<'Liste e ipotesi'!$B$2),"Viaggio concluso",IF(AND(ISNUMBER(D6),D6<='Liste e ipotesi'!$B$2,OR(E6="",E6>='Liste e ipotesi'!$B$2)),"Ospite già in viaggio",IF(P6="Da completare",IF(AND(ISNUMBER(D6),D6>='Liste e ipotesi'!$B$2,IFERROR(D6-'Liste e ipotesi'!$B$2,999999)<='Liste e ipotesi'!$B$3),"Urgente: completare prima della partenza","Completare i dati"),IF(AND(ISNUMBER(M6),IFERROR('Liste e ipotesi'!$B$2-M6,0)>'Liste e ipotesi'!$B$4),"Riverificare il riferimento","Pronto")))))))))
A7: FIT-006 | B7: Ospite fittizio 06 | C7: Sì | D7: 46275 | E7: 46279 | F7: Contatto fittizio Epsilon | G7: Amico/a | H7: +39 | I7: 0000000000 | J7: Italiano | K7: Pomeriggio (12:00-18:00) | L7: Sì | M7: 46274 | N7: =IF(OR(H7="",I7=""),"",H7&" "&I7) | O7: =IF(OR(A7="",C7<>"Sì",D7=""),"",IFERROR(D7-'Liste e ipotesi'!$B$2,"")) | P7: =IF(A7="","",IF(C7="No","Non richiesto",IF(C7<>"Sì","Da completare",IF(AND(B7<>"",ISNUMBER(D7),ISNUMBER(E7),D7>='Liste e ipotesi'!$B$5,D7<='Liste e ipotesi'!$B$6,E7>=D7,E7<='Liste e ipotesi'!$B$6,F7<>"",G7<>"",H7<>"",I7<>"",L7="Sì",ISNUMBER(M7),M7>='Liste e ipotesi'!$B$5,M7<='Liste e ipotesi'!$B$2),"Completo","Da completare")))) | Q7: =IF(A7="","",IF(C7="No","",IF(C7<>"Sì","Selezionare Sì o No",IF(D7="","Inserire data di partenza",IF(AND(ISNUMBER(D7),ISNUMBER(E7),E7<D7),"Controllare le date",IF(AND(ISNUMBER(E7),E7<'Liste e ipotesi'!$B$2),"Viaggio concluso",IF(AND(ISNUMBER(D7),D7<='Liste e ipotesi'!$B$2,OR(E7="",E7>='Liste e ipotesi'!$B$2)),"Ospite già in viaggio",IF(P7="Da completare",IF(AND(ISNUMBER(D7),D7>='Liste e ipotesi'!$B$2,IFERROR(D7-'Liste e ipotesi'!$B$2,999999)<='Liste e ipotesi'!$B$3),"Urgente: completare prima della partenza","Completare i dati"),IF(AND(ISNUMBER(M7),IFERROR('Liste e ipotesi'!$B$2-M7,0)>'Liste e ipotesi'!$B$4),"Riverificare il riferimento","Pronto")))))))))
A8: FIT-007 | B8: Ospite fittizio 07 | C8: Sì | D8: 46270 | E8: 46273 | F8: Contatto fittizio Zeta | G8: Genitore | H8: +39 | I8: 0000000000 | J8: Italiano | K8: Qualsiasi ora | L8: Sì | M8: 46268 | N8: =IF(OR(H8="",I8=""),"",H8&" "&I8) | O8: =IF(OR(A8="",C8<>"Sì",D8=""),"",IFERROR(D8-'Liste e ipotesi'!$B$2,"")) | P8: =IF(A8="","",IF(C8="No","Non richiesto",IF(C8<>"Sì","Da completare",IF(AND(B8<>"",ISNUMBER(D8),ISNUMBER(E8),D8>='Liste e ipotesi'!$B$5,D8<='Liste e ipotesi'!$B$6,E8>=D8,E8<='Liste e ipotesi'!$B$6,F8<>"",G8<>"",H8<>"",I8<>"",L8="Sì",ISNUMBER(M8),M8>='Liste e ipotesi'!$B$5,M8<='Liste e ipotesi'!$B$2),"Completo","Da completare")))) | Q8: =IF(A8="","",IF(C8="No","",IF(C8<>"Sì","Selezionare Sì o No",IF(D8="","Inserire data di partenza",IF(AND(ISNUMBER(D8),ISNUMBER(E8),E8<D8),"Controllare le date",IF(AND(ISNUMBER(E8),E8<'Liste e ipotesi'!$B$2),"Viaggio concluso",IF(AND(ISNUMBER(D8),D8<='Liste e ipotesi'!$B$2,OR(E8="",E8>='Liste e ipotesi'!$B$2)),"Ospite già in viaggio",IF(P8="Da completare",IF(AND(ISNUMBER(D8),D8>='Liste e ipotesi'!$B$2,IFERROR(D8-'Liste e ipotesi'!$B$2,999999)<='Liste e ipotesi'!$B$3),"Urgente: completare prima della partenza","Completare i dati"),IF(AND(ISNUMBER(M8),IFERROR('Liste e ipotesi'!$B$2-M8,0)>'Liste e ipotesi'!$B$4),"Riverificare il riferimento","Pronto")))))))))
A9: FIT-008 | B9: Ospite fittizio 08 | C9: Sì | D9: 46290 | E9: 46292 | F9: Contatto fittizio Eta | G9: Altro | H9: +39 | I9: 0000000000 | J9: Francese | K9: Sera (18:00-22:00) | L9: No | M9: 46275 | N9: =IF(OR(H9="",I9=""),"",H9&" "&I9) | O9: =IF(OR(A9="",C9<>"Sì",D9=""),"",IFERROR(D9-'Liste e ipotesi'!$B$2,"")) | P9: =IF(A9="","",IF(C9="No","Non richiesto",IF(C9<>"Sì","Da completare",IF(AND(B9<>"",ISNUMBER(D9),ISNUMBER(E9),D9>='Liste e ipotesi'!$B$5,D9<='Liste e ipotesi'!$B$6,E9>=D9,E9<='Liste e ipotesi'!$B$6,F9<>"",G9<>"",H9<>"",I9<>"",L9="Sì",ISNUMBER(M9),M9>='Liste e ipotesi'!$B$5,M9<='Liste e ipotesi'!$B$2),"Completo","Da completare")))) | Q9: =IF(A9="","",IF(C9="No","",IF(C9<>"Sì","Selezionare Sì o No",IF(D9="","Inserire data di partenza",IF(AND(ISNUMBER(D9),ISNUMBER(E9),E9<D9),"Controllare le date",IF(AND(ISNUMBER(E9),E9<'Liste e ipotesi'!$B$2),"Viaggio concluso",IF(AND(ISNUMBER(D9),D9<='Liste e ipotesi'!$B$2,OR(E9="",E9>='Liste e ipotesi'!$B$2)),"Ospite già in viaggio",IF(P9="Da completare",IF(AND(ISNUMBER(D9),D9>='Liste e ipotesi'!$B$2,IFERROR(D9-'Liste e ipotesi'!$B$2,999999)<='Liste e ipotesi'!$B$3),"Urgente: completare prima della partenza","Completare i dati"),IF(AND(ISNUMBER(M9),IFERROR('Liste e ipotesi'!$B$2-M9,0)>'Liste e ipotesi'!$B$4),"Riverificare il riferimento","Pronto")))))))))
A10: FIT-009 | B10: Ospite fittizio 09 | C10: Sì | F10: Contatto fittizio Theta | G10: Figlio/a maggiorenne | H10: +39 | I10: 0000000000 | J10: Italiano | K10: Qualsiasi ora | L10: Sì | M10: 46275 | N10: =IF(OR(H10="",I10=""),"",H10&" "&I10) | O10: =IF(OR(A10="",C10<>"Sì",D10=""),"",IFERROR(D10-'Liste e ipotesi'!$B$2,"")) | P10: =IF(A10="","",IF(C10="No","Non richiesto",IF(C10<>"Sì","Da completare",IF(AND(B10<>"",ISNUMBER(D10),ISNUMBER(E10),D10>='Liste e ipotesi'!$B$5,D10<='Liste e ipotesi'!$B$6,E10>=D10,E10<='Liste e ipotesi'!$B$6,F10<>"",G10<>"",H10<>"",I10<>"",L10="Sì",ISNUMBER(M10),M10>='Liste e ipotesi'!$B$5,M10<='Liste e ipotesi'!$B$2),"Completo","Da completare")))) | Q10: =IF(A10="","",IF(C10="No","",IF(C10<>"Sì","Selezionare Sì o No",IF(D10="","Inserire data di partenza",IF(AND(ISNUMBER(D10),ISNUMBER(E10),E10<D10),"Controllare le date",IF(AND(ISNUMBER(E10),E10<'Liste e ipotesi'!$B$2),"Viaggio concluso",IF(AND(ISNUMBER(D10),D10<='Liste e ipotesi'!$B$2,OR(E10="",E10>='Liste e ipotesi'!$B$2)),"Ospite già in viaggio",IF(P10="Da completare",IF(AND(ISNUMBER(D10),D10>='Liste e ipotesi'!$B$2,IFERROR(D10-'Liste e ipotesi'!$B$2,999999)<='Liste e ipotesi'!$B$3),"Urgente: completare prima della partenza","Completare i dati"),IF(AND(ISNUMBER(M10),IFERROR('Liste e ipotesi'!$B$2-M10,0)>'Liste e ipotesi'!$B$4),"Riverificare il riferimento","Pronto")))))))))
A11: FIT-010 | B11: Ospite fittizio 10 | C11: Sì | D11: 46315 | E11: 46317 | F11: Contatto fittizio Iota | G11: Fratello/sorella | H11: +39 | I11: 0000000000 | J11: Tedesco | K11: Mattina (08:00-12:00) | L11: Sì | M11: 46277 | N11: =IF(OR(H11="",I11=""),"",H11&" "&I11) | O11: =IF(OR(A11="",C11<>"Sì",D11=""),"",IFERROR(D11-'Liste e ipotesi'!$B$2,"")) | P11: =IF(A11="","",IF(C11="No","Non richiesto",IF(C11<>"Sì","Da completare",IF(AND(B11<>"",ISNUMBER(D11),ISNUMBER(E11),D11>='Liste e ipotesi'!$B$5,D11<='Liste e ipotesi'!$B$6,E11>=D11,E11<='Liste e ipotesi'!$B$6,F11<>"",G11<>"",H11<>"",I11<>"",L11="Sì",ISNUMBER(M11),M11>='Liste e ipotesi'!$B$5,M11<='Liste e ipotesi'!$B$2),"Completo","Da completare")))) | Q11: =IF(A11="","",IF(C11="No","",IF(C11<>"Sì","Selezionare Sì o No",IF(D11="","Inserire data di partenza",IF(AND(ISNUMBER(D11),ISNUMBER(E11),E11<D11),"Controllare le date",IF(AND(ISNUMBER(E11),E11<'Liste e ipotesi'!$B$2),"Viaggio concluso",IF(AND(ISNUMBER(D11),D11<='Liste e ipotesi'!$B$2,OR(E11="",E11>='Liste e ipotesi'!$B$2)),"Ospite già in viaggio",IF(P11="Da completare",IF(AND(ISNUMBER(D11),D11>='Liste e ipotesi'!$B$2,IFERROR(D11-'Liste e ipotesi'!$B$2,999999)<='Liste e ipotesi'!$B$3),"Urgente: completare prima della partenza","Completare i dati"),IF(AND(ISNUMBER(M11),IFERROR('Liste e ipotesi'!$B$2-M11,0)>'Liste e ipotesi'!$B$4),"Riverificare il riferimento","Pronto")))))))))
N12: =IF(OR(H12="",I12=""),"",H12&" "&I12) | O12: =IF(OR(A12="",C12<>"Sì",D12=""),"",IFERROR(D12-'Liste e ipotesi'!$B$2,"")) | P12: =IF(A12="","",IF(C12="No","Non richiesto",IF(C12<>"Sì","Da completare",IF(AND(B12<>"",ISNUMBER(D12),ISNUMBER(E12),D12>='Liste e ipotesi'!$B$5,D12<='Liste e ipotesi'!$B$6,E12>=D12,E12<='Liste e ipotesi'!$B$6,F12<>"",G12<>"",H12<>"",I12<>"",L12="Sì",ISNUMBER(M12),M12>='Liste e ipotesi'!$B$5,M12<='Liste e ipotesi'!$B$2),"Completo","Da completare")))) | Q12: =IF(A12="","",IF(C12="No","",IF(C12<>"Sì","Selezionare Sì o No",IF(D12="","Inserire data di partenza",IF(AND(ISNUMBER(D12),ISNUMBER(E12),E12<D12),"Controllare le date",IF(AND(ISNUMBER(E12),E12<'Liste e ipotesi'!$B$2),"Viaggio concluso",IF(AND(ISNUMBER(D12),D12<='Liste e ipotesi'!$B$2,OR(E12="",E12>='Liste e ipotesi'!$B$2)),"Ospite già in viaggio",IF(P12="Da completare",IF(AND(ISNUMBER(D12),D12>='Liste e ipotesi'!$B$2,IFERROR(D12-'Liste e ipotesi'!$B$2,999999)<='Liste e ipotesi'!$B$3),"Urgente: completare prima della partenza","Completare i dati"),IF(AND(ISNUMBER(M12),IFERROR('Liste e ipotesi'!$B$2-M12,0)>'Liste e ipotesi'!$B$4),"Riverificare il riferimento","Pronto")))))))))
N13: =IF(OR(H13="",I13=""),"",H13&" "&I13) | O13: =IF(OR(A13="",C13<>"Sì",D13=""),"",IFERROR(D13-'Liste e ipotesi'!$B$2,"")) | P13: =IF(A13="","",IF(C13="No","Non richiesto",IF(C13<>"Sì","Da completare",IF(AND(B13<>"",ISNUMBER(D13),ISNUMBER(E13),D13>='Liste e ipotesi'!$B$5,D13<='Liste e ipotesi'!$B$6,E13>=D13,E13<='Liste e ipotesi'!$B$6,F13<>"",G13<>"",H13<>"",I13<>"",L13="Sì",ISNUMBER(M13),M13>='Liste e ipotesi'!$B$5,M13<='Liste e ipotesi'!$B$2),"Completo","Da completare")))) | Q13: =IF(A13="","",IF(C13="No","",IF(C13<>"Sì","Selezionare Sì o No",IF(D13="","Inserire data di partenza",IF(AND(ISNUMBER(D13),ISNUMBER(E13),E13<D13),"Controllare le date",IF(AND(ISNUMBER(E13),E13<'Liste e ipotesi'!$B$2),"Viaggio concluso",IF(AND(ISNUMBER(D13),D13<='Liste e ipotesi'!$B$2,OR(E13="",E13>='Liste e ipotesi'!$B$2)),"Ospite già in viaggio",IF(P13="Da completare",IF(AND(ISNUMBER(D13),D13>='Liste e ipotesi'!$B$2,IFERROR(D13-'Liste e ipotesi'!$B$2,999999)<='Liste e ipotesi'!$B$3),"Urgente: completare prima della partenza","Completare i dati"),IF(AND(ISNUMBER(M13),IFERROR('Liste e ipotesi'!$B$2-M13,0)>'Liste e ipotesi'!$B$4),"Riverificare il riferimento","Pronto")))))))))
N14: =IF(OR(H14="",I14=""),"",H14&" "&I14) | O14: =IF(OR(A14="",C14<>"Sì",D14=""),"",IFERROR(D14-'Liste e ipotesi'!$B$2,"")) | P14: =IF(A14="","",IF(C14="No","Non richiesto",IF(C14<>"Sì","Da completare",IF(AND(B14<>"",ISNUMBER(D14),ISNUMBER(E14),D14>='Liste e ipotesi'!$B$5,D14<='Liste e ipotesi'!$B$6,E14>=D14,E14<='Liste e ipotesi'!$B$6,F14<>"",G14<>"",H14<>"",I14<>"",L14="Sì",ISNUMBER(M14),M14>='Liste e ipotesi'!$B$5,M14<='Liste e ipotesi'!$B$2),"Completo","Da completare")))) | Q14: =IF(A14="","",IF(C14="No","",IF(C14<>"Sì","Selezionare Sì o No",IF(D14="","Inserire data di partenza",IF(AND(ISNUMBER(D14),ISNUMBER(E14),E14<D14),"Controllare le date",IF(AND(ISNUMBER(E14),E14<'Liste e ipotesi'!$B$2),"Viaggio concluso",IF(AND(ISNUMBER(D14),D14<='Liste e ipotesi'!$B$2,OR(E14="",E14>='Liste e ipotesi'!$B$2)),"Ospite già in viaggio",IF(P14="Da completare",IF(AND(ISNUMBER(D14),D14>='Liste e ipotesi'!$B$2,IFERROR(D14-'Liste e ipotesi'!$B$2,999999)<='Liste e ipotesi'!$B$3),"Urgente: completare prima della partenza","Completare i dati"),IF(AND(ISNUMBER(M14),IFERROR('Liste e ipotesi'!$B$2-M14,0)>'Liste e ipotesi'!$B$4),"Riverificare il riferimento","Pronto")))))))))
N15: =IF(OR(H15="",I15=""),"",H15&" "&I15) | O15: =IF(OR(A15="",C15<>"Sì",D15=""),"",IFERROR(D15-'Liste e ipotesi'!$B$2,"")) | P15: =IF(A15="","",IF(C15="No","Non richiesto",IF(C15<>"Sì","Da completare",IF(AND(B15<>"",ISNUMBER(D15),ISNUMBER(E15),D15>='Liste e ipotesi'!$B$5,D15<='Liste e ipotesi'!$B$6,E15>=D15,E15<='Liste e ipotesi'!$B$6,F15<>"",G15<>"",H15<>"",I15<>"",L15="Sì",ISNUMBER(M15),M15>='Liste e ipotesi'!$B$5,M15<='Liste e ipotesi'!$B$2),"Completo","Da completare")))) | Q15: =IF(A15="","",IF(C15="No","",IF(C15<>"Sì","Selezionare Sì o No",IF(D15="","Inserire data di partenza",IF(AND(ISNUMBER(D15),ISNUMBER(E15),E15<D15),"Controllare le date",IF(AND(ISNUMBER(E15),E15<'Liste e ipotesi'!$B$2),"Viaggio concluso",IF(AND(ISNUMBER(D15),D15<='Liste e ipotesi'!$B$2,OR(E15="",E15>='Liste e ipotesi'!$B$2)),"Ospite già in viaggio",IF(P15="Da completare",IF(AND(ISNUMBER(D15),D15>='Liste e ipotesi'!$B$2,IFERROR(D15-'Liste e ipotesi'!$B$2,999999)<='Liste e ipotesi'!$B$3),"Urgente: completare prima della partenza","Completare i dati"),IF(AND(ISNUMBER(M15),IFERROR('Liste e ipotesi'!$B$2-M15,0)>'Liste e ipotesi'!$B$4),"Riverificare il riferimento","Pronto")))))))))
N16: =IF(OR(H16="",I16=""),"",H16&" "&I16) | O16: =IF(OR(A16="",C16<>"Sì",D16=""),"",IFERROR(D16-'Liste e ipotesi'!$B$2,"")) | P16: =IF(A16="","",IF(C16="No","Non richiesto",IF(C16<>"Sì","Da completare",IF(AND(B16<>"",ISNUMBER(D16),ISNUMBER(E16),D16>='Liste e ipotesi'!$B$5,D16<='Liste e ipotesi'!$B$6,E16>=D16,E16<='Liste e ipotesi'!$B$6,F16<>"",G16<>"",H16<>"",I16<>"",L16="Sì",ISNUMBER(M16),M16>='Liste e ipotesi'!$B$5,M16<='Liste e ipotesi'!$B$2),"Completo","Da completare")))) | Q16: =IF(A16="","",IF(C16="No","",IF(C16<>"Sì","Selezionare Sì o No",IF(D16="","Inserire data di partenza",IF(AND(ISNUMBER(D16),ISNUMBER(E16),E16<D16),"Controllare le date",IF(AND(ISNUMBER(E16),E16<'Liste e ipotesi'!$B$2),"Viaggio concluso",IF(AND(ISNUMBER(D16),D16<='Liste e ipotesi'!$B$2,OR(E16="",E16>='Liste e ipotesi'!$B$2)),"Ospite già in viaggio",IF(P16="Da completare",IF(AND(ISNUMBER(D16),D16>='Liste e ipotesi'!$B$2,IFERROR(D16-'Liste e ipotesi'!$B$2,999999)<='Liste e ipotesi'!$B$3),"Urgente: completare prima della partenza","Completare i dati"),IF(AND(ISNUMBER(M16),IFERROR('Liste e ipotesi'!$B$2-M16,0)>'Liste e ipotesi'!$B$4),"Riverificare il riferimento","Pronto")))))))))
N17: =IF(OR(H17="",I17=""),"",H17&" "&I17) | O17: =IF(OR(A17="",C17<>"Sì",D17=""),"",IFERROR(D17-'Liste e ipotesi'!$B$2,"")) | P17: =IF(A17="","",IF(C17="No","Non richiesto",IF(C17<>"Sì","Da completare",IF(AND(B17<>"",ISNUMBER(D17),ISNUMBER(E17),D17>='Liste e ipotesi'!$B$5,D17<='Liste e ipotesi'!$B$6,E17>=D17,E17<='Liste e ipotesi'!$B$6,F17<>"",G17<>"",H17<>"",I17<>"",L17="Sì",ISNUMBER(M17),M17>='Liste e ipotesi'!$B$5,M17<='Liste e ipotesi'!$B$2),"Completo","Da completare")))) | Q17: =IF(A17="","",IF(C17="No","",IF(C17<>"Sì","Selezionare Sì o No",IF(D17="","Inserire data di partenza",IF(AND(ISNUMBER(D17),ISNUMBER(E17),E17<D17),"Controllare le date",IF(AND(ISNUMBER(E17),E17<'Liste e ipotesi'!$B$2),"Viaggio concluso",IF(AND(ISNUMBER(D17),D17<='Liste e ipotesi'!$B$2,OR(E17="",E17>='Liste e ipotesi'!$B$2)),"Ospite già in viaggio",IF(P17="Da completare",IF(AND(ISNUMBER(D17),D17>='Liste e ipotesi'!$B$2,IFERROR(D17-'Liste e ipotesi'!$B$2,999999)<='Liste e ipotesi'!$B$3),"Urgente: completare prima della partenza","Completare i dati"),IF(AND(ISNUMBER(M17),IFERROR('Liste e ipotesi'!$B$2-M17,0)>'Liste e ipotesi'!$B$4),"Riverificare il riferimento","Pronto")))))))))
N18: =IF(OR(H18="",I18=""),"",H18&" "&I18) | O18: =IF(OR(A18="",C18<>"Sì",D18=""),"",IFERROR(D18-'Liste e ipotesi'!$B$2,"")) | P18: =IF(A18="","",IF(C18="No","Non richiesto",IF(C18<>"Sì","Da completare",IF(AND(B18<>"",ISNUMBER(D18),ISNUMBER(E18),D18>='Liste e ipotesi'!$B$5,D18<='Liste e ipotesi'!$B$6,E18>=D18,E18<='Liste e ipotesi'!$B$6,F18<>"",G18<>"",H18<>"",I18<>"",L18="Sì",ISNUMBER(M18),M18>='Liste e ipotesi'!$B$5,M18<='Liste e ipotesi'!$B$2),"Completo","Da completare")))) | Q18: =IF(A18="","",IF(C18="No","",IF(C18<>"Sì","Selezionare Sì o No",IF(D18="","Inserire data di partenza",IF(AND(ISNUMBER(D18),ISNUMBER(E18),E18<D18),"Controllare le date",IF(AND(ISNUMBER(E18),E18<'Liste e ipotesi'!$B$2),"Viaggio concluso",IF(AND(ISNUMBER(D18),D18<='Liste e ipotesi'!$B$2,OR(E18="",E18>='Liste e ipotesi'!$B$2)),"Ospite già in viaggio",IF(P18="Da completare",IF(AND(ISNUMBER(D18),D18>='Liste e ipotesi'!$B$2,IFERROR(D18-'Liste e ipotesi'!$B$2,999999)<='Liste e ipotesi'!$B$3),"Urgente: completare prima della partenza","Completare i dati"),IF(AND(ISNUMBER(M18),IFERROR('Liste e ipotesi'!$B$2-M18,0)>'Liste e ipotesi'!$B$4),"Riverificare il riferimento","Pronto")))))))))
N19: =IF(OR(H19="",I19=""),"",H19&" "&I19) | O19: =IF(OR(A19="",C19<>"Sì",D19=""),"",IFERROR(D19-'Liste e ipotesi'!$B$2,"")) | P19: =IF(A19="","",IF(C19="No","Non richiesto",IF(C19<>"Sì","Da completare",IF(AND(B19<>"",ISNUMBER(D19),ISNUMBER(E19),D19>='Liste e ipotesi'!$B$5,D19<='Liste e ipotesi'!$B$6,E19>=D19,E19<='Liste e ipotesi'!$B$6,F19<>"",G19<>"",H19<>"",I19<>"",L19="Sì",ISNUMBER(M19),M19>='Liste e ipotesi'!$B$5,M19<='Liste e ipotesi'!$B$2),"Completo","Da completare")))) | Q19: =IF(A19="","",IF(C19="No","",IF(C19<>"Sì","Selezionare Sì o No",IF(D19="","Inserire data di partenza",IF(AND(ISNUMBER(D19),ISNUMBER(E19),E19<D19),"Controllare le date",IF(AND(ISNUMBER(E19),E19<'Liste e ipotesi'!$B$2),"Viaggio concluso",IF(AND(ISNUMBER(D19),D19<='Liste e ipotesi'!$B$2,OR(E19="",E19>='Liste e ipotesi'!$B$2)),"Ospite già in viaggio",IF(P19="Da completare",IF(AND(ISNUMBER(D19),D19>='Liste e ipotesi'!$B$2,IFERROR(D19-'Liste e ipotesi'!$B$2,999999)<='Liste e ipotesi'!$B$3),"Urgente: completare prima della partenza","Completare i dati"),IF(AND(ISNUMBER(M19),IFERROR('Liste e ipotesi'!$B$2-M19,0)>'Liste e ipotesi'!$B$4),"Riverificare il riferimento","Pronto")))))))))
N20: =IF(OR(H20="",I20=""),"",H20&" "&I20) | O20: =IF(OR(A20="",C20<>"Sì",D20=""),"",IFERROR(D20-'Liste e ipotesi'!$B$2,"")) | P20: =IF(A20="","",IF(C20="No","Non richiesto",IF(C20<>"Sì","Da completare",IF(AND(B20<>"",ISNUMBER(D20),ISNUMBER(E20),D20>='Liste e ipotesi'!$B$5,D20<='Liste e ipotesi'!$B$6,E20>=D20,E20<='Liste e ipotesi'!$B$6,F20<>"",G20<>"",H20<>"",I20<>"",L20="Sì",ISNUMBER(M20),M20>='Liste e ipotesi'!$B$5,M20<='Liste e ipotesi'!$B$2),"Completo","Da completare")))) | Q20: =IF(A20="","",IF(C20="No","",IF(C20<>"Sì","Selezionare Sì o No",IF(D20="","Inserire data di partenza",IF(AND(ISNUMBER(D20),ISNUMBER(E20),E20<D20),"Controllare le date",IF(AND(ISNUMBER(E20),E20<'Liste e ipotesi'!$B$2),"Viaggio concluso",IF(AND(ISNUMBER(D20),D20<='Liste e ipotesi'!$B$2,OR(E20="",E20>='Liste e ipotesi'!$B$2)),"Ospite già in viaggio",IF(P20="Da completare",IF(AND(ISNUMBER(D20),D20>='Liste e ipotesi'!$B$2,IFERROR(D20-'Liste e ipotesi'!$B$2,999999)<='Liste e ipotesi'!$B$3),"Urgente: completare prima della partenza","Completare i dati"),IF(AND(ISNUMBER(M20),IFERROR('Liste e ipotesi'!$B$2-M20,0)>'Liste e ipotesi'!$B$4),"Riverificare il riferimento","Pronto")))))))))
N21: =IF(OR(H21="",I21=""),"",H21&" "&I21) | O21: =IF(OR(A21="",C21<>"Sì",D21=""),"",IFERROR(D21-'Liste e ipotesi'!$B$2,"")) | P21: =IF(A21="","",IF(C21="No","Non richiesto",IF(C21<>"Sì","Da completare",IF(AND(B21<>"",ISNUMBER(D21),ISNUMBER(E21),D21>='Liste e ipotesi'!$B$5,D21<='Liste e ipotesi'!$B$6,E21>=D21,E21<='Liste e ipotesi'!$B$6,F21<>"",G21<>"",H21<>"",I21<>"",L21="Sì",ISNUMBER(M21),M21>='Liste e ipotesi'!$B$5,M21<='Liste e ipotesi'!$B$2),"Completo","Da completare")))) | Q21: =IF(A21="","",IF(C21="No","",IF(C21<>"Sì","Selezionare Sì o No",IF(D21="","Inserire data di partenza",IF(AND(ISNUMBER(D21),ISNUMBER(E21),E21<D21),"Controllare le date",IF(AND(ISNUMBER(E21),E21<'Liste e ipotesi'!$B$2),"Viaggio concluso",IF(AND(ISNUMBER(D21),D21<='Liste e ipotesi'!$B$2,OR(E21="",E21>='Liste e ipotesi'!$B$2)),"Ospite già in viaggio",IF(P21="Da completare",IF(AND(ISNUMBER(D21),D21>='Liste e ipotesi'!$B$2,IFERROR(D21-'Liste e ipotesi'!$B$2,999999)<='Liste e ipotesi'!$B$3),"Urgente: completare prima della partenza","Completare i dati"),IF(AND(ISNUMBER(M21),IFERROR('Liste e ipotesi'!$B$2-M21,0)>'Liste e ipotesi'!$B$4),"Riverificare il riferimento","Pronto")))))))))
N22: =IF(OR(H22="",I22=""),"",H22&" "&I22) | O22: =IF(OR(A22="",C22<>"Sì",D22=""),"",IFERROR(D22-'Liste e ipotesi'!$B$2,"")) | P22: =IF(A22="","",IF(C22="No","Non richiesto",IF(C22<>"Sì","Da completare",IF(AND(B22<>"",ISNUMBER(D22),ISNUMBER(E22),D22>='Liste e ipotesi'!$B$5,D22<='Liste e ipotesi'!$B$6,E22>=D22,E22<='Liste e ipotesi'!$B$6,F22<>"",G22<>"",H22<>"",I22<>"",L22="Sì",ISNUMBER(M22),M22>='Liste e ipotesi'!$B$5,M22<='Liste e ipotesi'!$B$2),"Completo","Da completare")))) | Q22: =IF(A22="","",IF(C22="No","",IF(C22<>"Sì","Selezionare Sì o No",IF(D22="","Inserire data di partenza",IF(AND(ISNUMBER(D22),ISNUMBER(E22),E22<D22),"Controllare le date",IF(AND(ISNUMBER(E22),E22<'Liste e ipotesi'!$B$2),"Viaggio concluso",IF(AND(ISNUMBER(D22),D22<='Liste e ipotesi'!$B$2,OR(E22="",E22>='Liste e ipotesi'!$B$2)),"Ospite già in viaggio",IF(P22="Da completare",IF(AND(ISNUMBER(D22),D22>='Liste e ipotesi'!$B$2,IFERROR(D22-'Liste e ipotesi'!$B$2,999999)<='Liste e ipotesi'!$B$3),"Urgente: completare prima della partenza","Completare i dati"),IF(AND(ISNUMBER(M22),IFERROR('Liste e ipotesi'!$B$2-M22,0)>'Liste e ipotesi'!$B$4),"Riverificare il riferimento","Pronto")))))))))
N23: =IF(OR(H23="",I23=""),"",H23&" "&I23) | O23: =IF(OR(A23="",C23<>"Sì",D23=""),"",IFERROR(D23-'Liste e ipotesi'!$B$2,"")) | P23: =IF(A23="","",IF(C23="No","Non richiesto",IF(C23<>"Sì","Da completare",IF(AND(B23<>"",ISNUMBER(D23),ISNUMBER(E23),D23>='Liste e ipotesi'!$B$5,D23<='Liste e ipotesi'!$B$6,E23>=D23,E23<='Liste e ipotesi'!$B$6,F23<>"",G23<>"",H23<>"",I23<>"",L23="Sì",ISNUMBER(M23),M23>='Liste e ipotesi'!$B$5,M23<='Liste e ipotesi'!$B$2),"Completo","Da completare")))) | Q23: =IF(A23="","",IF(C23="No","",IF(C23<>"Sì","Selezionare Sì o No",IF(D23="","Inserire data di partenza",IF(AND(ISNUMBER(D23),ISNUMBER(E23),E23<D23),"Controllare le date",IF(AND(ISNUMBER(E23),E23<'Liste e ipotesi'!$B$2),"Viaggio concluso",IF(AND(ISNUMBER(D23),D23<='Liste e ipotesi'!$B$2,OR(E23="",E23>='Liste e ipotesi'!$B$2)),"Ospite già in viaggio",IF(P23="Da completare",IF(AND(ISNUMBER(D23),D23>='Liste e ipotesi'!$B$2,IFERROR(D23-'Liste e ipotesi'!$B$2,999999)<='Liste e ipotesi'!$B$3),"Urgente: completare prima della partenza","Completare i dati"),IF(AND(ISNUMBER(M23),IFERROR('Liste e ipotesi'!$B$2-M23,0)>'Liste e ipotesi'!$B$4),"Riverificare il riferimento","Pronto")))))))))
... N201: =IF(OR(H201="",I201=""),"",H201&" "&I201) | O201: =IF(OR(A201="",C201<>"Sì",D201=""),"",IFERROR(D201-'Liste e ipotesi'!$B$2,"")) | P201: =IF(A201="","",IF(C201="No","Non richiesto",IF(C201<>"Sì","Da completare",IF(AND(B201<>"",ISNUMBER(D201),ISNUMBER(E201),D201>='Liste e ipotesi'!$B$5,D201<='Liste e ipotesi'!$B$6,E201>=D201,E201<='Liste e ipotesi'!$B$6,F201<>"",G201<>"",H201<>"",I201<>"",L201="Sì",ISNUMBER(M201),M201>='Liste e ipotesi'!$B$5,M201<='Liste e ipotesi'!$B$2),"Completo","Da completare")))) | Q201: =IF(A201="","",IF(C201="No","",IF(C201<>"Sì","Selezionare Sì o No",IF(D201="","Inserire data di partenza",IF(AND(ISNUMBER(D201),ISNUMBER(E201),E201<D201),"Controllare le date",IF(AND(ISNUMBER(E201),E201<'Liste e ipotesi'!$B$2),"Viaggio concluso",IF(AND(ISNUMBER(D201),D201<='Liste e ipotesi'!$B$2,OR(E201="",E201>='Liste e ipotesi'!$B$2)),"Ospite già in viaggio",IF(P201="Da completare",IF(AND(ISNUMBER(D201),D201>='Liste e ipotesi'!$B$2,IFERROR(D201-'Liste e ipotesi'!$B$2,999999)<='Liste e ipotesi'!$B$3),"Urgente: completare prima della partenza","Completare i dati"),IF(AND(ISNUMBER(M201),IFERROR('Liste e ipotesi'!$B$2-M201,0)>'Liste e ipotesi'!$B$4),"Riverificare il riferimento","Pronto")))))))))

Sheet Liste e ipotesi
A1: Ipotesi modificabili | D1: Sì/No | E1: Relazione | F1: Lingua | G1: Fascia di reperibilità
A2: Data di controllo | B2: 46277 | D2: Sì | E2: Coniuge/partner | F2: Italiano | G2: Mattina (08:00-12:00)
A3: Soglia di urgenza | B3: 14 | D3: No | E3: Genitore | F3: Inglese | G3: Pomeriggio (12:00-18:00)
A4: Validità della verifica | B4: 60 | E4: Figlio/a maggiorenne | F4: Francese | G4: Sera (18:00-22:00)
A5: Data minima ammessa | B5: 46023 | E5: Fratello/sorella | F5: Spagnolo | G5: Qualsiasi ora
A6: Data massima ammessa | B6: 46752 | E6: Amico/a | F6: Tedesco
E7: Altro | F7: Altro
A9: Inserire soltanto i dati minimi confermati dall’ospite. Non registrare informazioni sanitarie, documenti, indirizzi, pagamenti o prenotazioni. I dati di esempio sono interamente fittizi e i numeri composti da zeri non devono essere chiamati.
