Workbook

Sheet Riepilogo
A1: Esigenze alimentari invitati matrimonio — Riepilogo
A3: Indicatore | B3: Valore | D3: Esigenza dichiarata | E3: Persone confermate | F3: Righe ancora aperte
A4: Registrazioni inserite | B4: =COUNTIF(Invitati!$B$5:$B$124,"<>") | D4: =Parametri!E5 | E4: =IF($B$4=0,"",SUMIFS(Invitati!$H$5:$H$124,Invitati!$C$5:$C$124,"Sì",Invitati!$F$5:$F$124,D4)) | F4: =IF($B$4=0,"",COUNTIFS(Invitati!$B$5:$B$124,"<>",Invitati!$C$5:$C$124,"Sì",Invitati!$F$5:$F$124,D4,Invitati!$K$5:$K$124,"<>Confermato dal fornitore",Invitati!$K$5:$K$124,"<>Chiuso"))
A5: Persone con presenza confermata | B5: =IF($B$4=0,"",SUMIFS(Invitati!$H$5:$H$124,Invitati!$B$5:$B$124,"<>",Invitati!$C$5:$C$124,"Sì")) | D5: =Parametri!E6 | E5: =IF($B$4=0,"",SUMIFS(Invitati!$H$5:$H$124,Invitati!$C$5:$C$124,"Sì",Invitati!$F$5:$F$124,D5)) | F5: =IF($B$4=0,"",COUNTIFS(Invitati!$B$5:$B$124,"<>",Invitati!$C$5:$C$124,"Sì",Invitati!$F$5:$F$124,D5,Invitati!$K$5:$K$124,"<>Confermato dal fornitore",Invitati!$K$5:$K$124,"<>Chiuso"))
A6: Persone confermate con esigenza | B6: =IF($B$4=0,"",SUMIFS(Invitati!$H$5:$H$124,Invitati!$C$5:$C$124,"Sì",Invitati!$F$5:$F$124,"<>",Invitati!$F$5:$F$124,"<>Nessuna dichiarata")) | D6: =Parametri!E7 | E6: =IF($B$4=0,"",SUMIFS(Invitati!$H$5:$H$124,Invitati!$C$5:$C$124,"Sì",Invitati!$F$5:$F$124,D6)) | F6: =IF($B$4=0,"",COUNTIFS(Invitati!$B$5:$B$124,"<>",Invitati!$C$5:$C$124,"Sì",Invitati!$F$5:$F$124,D6,Invitati!$K$5:$K$124,"<>Confermato dal fornitore",Invitati!$K$5:$K$124,"<>Chiuso"))
A7: Righe da verificare | B7: =IF($B$4=0,"",COUNTIFS(Invitati!$B$5:$B$124,"<>",Invitati!$K$5:$K$124,"Da verificare")) | D7: =Parametri!E8 | E7: =IF($B$4=0,"",SUMIFS(Invitati!$H$5:$H$124,Invitati!$C$5:$C$124,"Sì",Invitati!$F$5:$F$124,D7)) | F7: =IF($B$4=0,"",COUNTIFS(Invitati!$B$5:$B$124,"<>",Invitati!$C$5:$C$124,"Sì",Invitati!$F$5:$F$124,D7,Invitati!$K$5:$K$124,"<>Confermato dal fornitore",Invitati!$K$5:$K$124,"<>Chiuso"))
A8: Righe da comunicare | B8: =IF($B$4=0,"",COUNTIFS(Invitati!$B$5:$B$124,"<>",Invitati!$K$5:$K$124,"Da comunicare")) | D8: =Parametri!E9 | E8: =IF($B$4=0,"",SUMIFS(Invitati!$H$5:$H$124,Invitati!$C$5:$C$124,"Sì",Invitati!$F$5:$F$124,D8)) | F8: =IF($B$4=0,"",COUNTIFS(Invitati!$B$5:$B$124,"<>",Invitati!$C$5:$C$124,"Sì",Invitati!$F$5:$F$124,D8,Invitati!$K$5:$K$124,"<>Confermato dal fornitore",Invitati!$K$5:$K$124,"<>Chiuso"))
A9: Righe già comunicate | B9: =IF($B$4=0,"",COUNTIFS(Invitati!$B$5:$B$124,"<>",Invitati!$K$5:$K$124,"Comunicato")) | D9: =Parametri!E10 | E9: =IF($B$4=0,"",SUMIFS(Invitati!$H$5:$H$124,Invitati!$C$5:$C$124,"Sì",Invitati!$F$5:$F$124,D9)) | F9: =IF($B$4=0,"",COUNTIFS(Invitati!$B$5:$B$124,"<>",Invitati!$C$5:$C$124,"Sì",Invitati!$F$5:$F$124,D9,Invitati!$K$5:$K$124,"<>Confermato dal fornitore",Invitati!$K$5:$K$124,"<>Chiuso"))
A10: Righe confermate dal fornitore | B10: =IF($B$4=0,"",COUNTIFS(Invitati!$B$5:$B$124,"<>",Invitati!$K$5:$K$124,"Confermato dal fornitore")) | D10: =Parametri!E11 | E10: =IF($B$4=0,"",SUMIFS(Invitati!$H$5:$H$124,Invitati!$C$5:$C$124,"Sì",Invitati!$F$5:$F$124,D10)) | F10: =IF($B$4=0,"",COUNTIFS(Invitati!$B$5:$B$124,"<>",Invitati!$C$5:$C$124,"Sì",Invitati!$F$5:$F$124,D10,Invitati!$K$5:$K$124,"<>Confermato dal fornitore",Invitati!$K$5:$K$124,"<>Chiuso"))
A11: Importo extra stimato registrato | B11: =IF($B$4=0,"",SUM(Invitati!$M$5:$M$124))
A12: Quota persone con esigenza gestita | B12: =IFERROR((SUMIFS(Invitati!$H$5:$H$124,Invitati!$C$5:$C$124,"Sì",Invitati!$F$5:$F$124,"<>",Invitati!$F$5:$F$124,"<>Nessuna dichiarata",Invitati!$K$5:$K$124,"Confermato dal fornitore")+SUMIFS(Invitati!$H$5:$H$124,Invitati!$C$5:$C$124,"Sì",Invitati!$F$5:$F$124,"<>",Invitati!$F$5:$F$124,"<>Nessuna dichiarata",Invitati!$K$5:$K$124,"Chiuso"))/SUMIFS(Invitati!$H$5:$H$124,Invitati!$C$5:$C$124,"Sì",Invitati!$F$5:$F$124,"<>",Invitati!$F$5:$F$124,"<>Nessuna dichiarata"),"")
A13: Avvisi aperti per controllo umano | B13: =IF($B$4=0,"",COUNTIFS(Invitati!$B$5:$B$124,"<>",Invitati!$N$5:$N$124,"<>"))
A14: Ultimo aggiornamento registrato | B14: =IF(COUNT(Invitati!$L$5:$L$124)=0,"",MAX(Invitati!$L$5:$L$124))

Sheet Invitati
A1: Esigenze alimentari invitati matrimonio — Registro invitati
A2: Le celle gialle sono modificabili; gli avvisi richiedono un controllo umano. Gli esempi sono interamente fittizi.
A4: ID | B4: Invitato | C4: Conferma presenza | D4: Attività / pasto | E4: Data pasto | F4: Esigenza dichiarata | G4: Dettaglio dichiarato | H4: Quantità pasti | I4: Fornitore | J4: Responsabile | K4: Stato gestione | L4: Data aggiornamento | M4: Importo extra stimato | N4: Avviso per controllo umano
A5: =IF(B5="","",ROW()-4) | B5: Invitato Fittizio 001 | C5: Sì | D5: Cena dell'evento fittizio | E5: 46553 | F5: Vegetariano | G5: Menu senza carne richiesto dall'Invitato Fittizio 001 | H5: 1 | I5: Catering Fittizio Aurora | J5: Responsabile Fittizio A | K5: Confermato dal fornitore | L5: 46256 | M5: 12.5 | N5: =IF(B5="","",IF(C5="","Conferma da indicare",IF(C5="No","",IF(C5="In attesa","Conferma da raccogliere",IF(OR(D5="",E5="",H5=""),"Dati pasto incompleti",IF(F5="","Esigenza da indicare",IF(AND(F5<>"Nessuna dichiarata",G5=""),"Dettaglio da verificare",IF(K5="","Stato da indicare",IF(AND(F5<>"Nessuna dichiarata",OR(I5="",J5="")),"Assegnazione incompleta",IF(OR(K5="Da verificare",K5="Da comunicare"),"Controllo umano richiesto",IF(AND(F5<>"Nessuna dichiarata",ISNUMBER(E5),E5-TODAY()<=$V$5,NOT(OR(K5="Confermato dal fornitore",K5="Chiuso"))),"Scadenza vicina: controllo umano",IF(AND(K5="Confermato dal fornitore",L5=""),"Data aggiornamento mancante","")))))))))))) | P5: =IFERROR(INDEX(Parametri!$A$5:$A$7,ROW()-4),"") | Q5: =IFERROR(INDEX(Parametri!$C$5:$C$8,ROW()-4),"") | R5: =IFERROR(INDEX(Parametri!$E$5:$E$11,ROW()-4),"") | S5: =IFERROR(INDEX(Parametri!$G$5:$G$7,ROW()-4),"") | T5: =IFERROR(INDEX(Parametri!$I$5:$I$8,ROW()-4),"") | U5: =IFERROR(INDEX(Parametri!$K$5:$K$9,ROW()-4),"") | V5: =Parametri!$N$5
A6: =IF(B6="","",ROW()-4) | B6: Invitato Fittizio 002 | C6: Sì | D6: Cena dell'evento fittizio | E6: 46553 | F6: Allergia dichiarata | G6: Frutta a guscio dichiarata dall'Invitato Fittizio 002 | H6: 1 | I6: Catering Fittizio Aurora | J6: Responsabile Fittizio B | K6: Comunicato | L6: 46262 | M6: 18 | N6: =IF(B6="","",IF(C6="","Conferma da indicare",IF(C6="No","",IF(C6="In attesa","Conferma da raccogliere",IF(OR(D6="",E6="",H6=""),"Dati pasto incompleti",IF(F6="","Esigenza da indicare",IF(AND(F6<>"Nessuna dichiarata",G6=""),"Dettaglio da verificare",IF(K6="","Stato da indicare",IF(AND(F6<>"Nessuna dichiarata",OR(I6="",J6="")),"Assegnazione incompleta",IF(OR(K6="Da verificare",K6="Da comunicare"),"Controllo umano richiesto",IF(AND(F6<>"Nessuna dichiarata",ISNUMBER(E6),E6-TODAY()<=$V$5,NOT(OR(K6="Confermato dal fornitore",K6="Chiuso"))),"Scadenza vicina: controllo umano",IF(AND(K6="Confermato dal fornitore",L6=""),"Data aggiornamento mancante","")))))))))))) | P6: =IFERROR(INDEX(Parametri!$A$5:$A$7,ROW()-4),"") | Q6: =IFERROR(INDEX(Parametri!$C$5:$C$8,ROW()-4),"") | R6: =IFERROR(INDEX(Parametri!$E$5:$E$11,ROW()-4),"") | S6: =IFERROR(INDEX(Parametri!$G$5:$G$7,ROW()-4),"") | T6: =IFERROR(INDEX(Parametri!$I$5:$I$8,ROW()-4),"") | U6: =IFERROR(INDEX(Parametri!$K$5:$K$9,ROW()-4),"") | V6: =Parametri!$N$6
A7: =IF(B7="","",ROW()-4) | B7: Invitato Fittizio 003 | C7: In attesa | D7: Aperitivo dell'evento fittizio | E7: 46553 | F7: Vegano | G7: Preferenza dichiarata dall'Invitato Fittizio 003 | H7: 1 | I7: Servizio Fittizio Banchetti | J7: Responsabile Fittizio A | K7: Da verificare | L7: 46023 | M7: 0 | N7: =IF(B7="","",IF(C7="","Conferma da indicare",IF(C7="No","",IF(C7="In attesa","Conferma da raccogliere",IF(OR(D7="",E7="",H7=""),"Dati pasto incompleti",IF(F7="","Esigenza da indicare",IF(AND(F7<>"Nessuna dichiarata",G7=""),"Dettaglio da verificare",IF(K7="","Stato da indicare",IF(AND(F7<>"Nessuna dichiarata",OR(I7="",J7="")),"Assegnazione incompleta",IF(OR(K7="Da verificare",K7="Da comunicare"),"Controllo umano richiesto",IF(AND(F7<>"Nessuna dichiarata",ISNUMBER(E7),E7-TODAY()<=$V$5,NOT(OR(K7="Confermato dal fornitore",K7="Chiuso"))),"Scadenza vicina: controllo umano",IF(AND(K7="Confermato dal fornitore",L7=""),"Data aggiornamento mancante","")))))))))))) | P7: =IFERROR(INDEX(Parametri!$A$5:$A$7,ROW()-4),"") | Q7: =IFERROR(INDEX(Parametri!$C$5:$C$8,ROW()-4),"") | R7: =IFERROR(INDEX(Parametri!$E$5:$E$11,ROW()-4),"") | S7: =IFERROR(INDEX(Parametri!$G$5:$G$7,ROW()-4),"") | T7: =IFERROR(INDEX(Parametri!$I$5:$I$8,ROW()-4),"") | U7: =IFERROR(INDEX(Parametri!$K$5:$K$9,ROW()-4),"") | V7: =Parametri!$N$7
A8: =IF(B8="","",ROW()-4) | B8: Invitato Fittizio 004 | C8: No | F8: Nessuna dichiarata | J8: Responsabile Fittizio C | K8: Chiuso | L8: 46268 | N8: =IF(B8="","",IF(C8="","Conferma da indicare",IF(C8="No","",IF(C8="In attesa","Conferma da raccogliere",IF(OR(D8="",E8="",H8=""),"Dati pasto incompleti",IF(F8="","Esigenza da indicare",IF(AND(F8<>"Nessuna dichiarata",G8=""),"Dettaglio da verificare",IF(K8="","Stato da indicare",IF(AND(F8<>"Nessuna dichiarata",OR(I8="",J8="")),"Assegnazione incompleta",IF(OR(K8="Da verificare",K8="Da comunicare"),"Controllo umano richiesto",IF(AND(F8<>"Nessuna dichiarata",ISNUMBER(E8),E8-TODAY()<=$V$5,NOT(OR(K8="Confermato dal fornitore",K8="Chiuso"))),"Scadenza vicina: controllo umano",IF(AND(K8="Confermato dal fornitore",L8=""),"Data aggiornamento mancante","")))))))))))) | P8: =IFERROR(INDEX(Parametri!$A$5:$A$7,ROW()-4),"") | Q8: =IFERROR(INDEX(Parametri!$C$5:$C$8,ROW()-4),"") | R8: =IFERROR(INDEX(Parametri!$E$5:$E$11,ROW()-4),"") | S8: =IFERROR(INDEX(Parametri!$G$5:$G$7,ROW()-4),"") | T8: =IFERROR(INDEX(Parametri!$I$5:$I$8,ROW()-4),"") | U8: =IFERROR(INDEX(Parametri!$K$5:$K$9,ROW()-4),"") | V8: =Parametri!$N$8
A9: =IF(B9="","",ROW()-4) | B9: Invitato Fittizio 005 con accompagnatore fittizio | C9: Sì | D9: Cena dell'evento fittizio | E9: 46553 | F9: Senza glutine dichiarato | G9: Richiesta dichiarata di evitare ingredienti con glutine | H9: 2 | I9: Catering Fittizio Aurora | J9: Responsabile Fittizio C | K9: Confermato dal fornitore | L9: 46270 | M9: 25 | N9: =IF(B9="","",IF(C9="","Conferma da indicare",IF(C9="No","",IF(C9="In attesa","Conferma da raccogliere",IF(OR(D9="",E9="",H9=""),"Dati pasto incompleti",IF(F9="","Esigenza da indicare",IF(AND(F9<>"Nessuna dichiarata",G9=""),"Dettaglio da verificare",IF(K9="","Stato da indicare",IF(AND(F9<>"Nessuna dichiarata",OR(I9="",J9="")),"Assegnazione incompleta",IF(OR(K9="Da verificare",K9="Da comunicare"),"Controllo umano richiesto",IF(AND(F9<>"Nessuna dichiarata",ISNUMBER(E9),E9-TODAY()<=$V$5,NOT(OR(K9="Confermato dal fornitore",K9="Chiuso"))),"Scadenza vicina: controllo umano",IF(AND(K9="Confermato dal fornitore",L9=""),"Data aggiornamento mancante","")))))))))))) | P9: =IFERROR(INDEX(Parametri!$A$5:$A$7,ROW()-4),"") | Q9: =IFERROR(INDEX(Parametri!$C$5:$C$8,ROW()-4),"") | R9: =IFERROR(INDEX(Parametri!$E$5:$E$11,ROW()-4),"") | S9: =IFERROR(INDEX(Parametri!$G$5:$G$7,ROW()-4),"") | T9: =IFERROR(INDEX(Parametri!$I$5:$I$8,ROW()-4),"") | U9: =IFERROR(INDEX(Parametri!$K$5:$K$9,ROW()-4),"") | V9: =Parametri!$N$9
A10: =IF(B10="","",ROW()-4) | B10: Invitato Fittizio 006 | C10: Sì | D10: Aperitivo dell'evento fittizio | E10: 46553 | F10: Nessuna dichiarata | H10: 1 | I10: Servizio Fittizio Banchetti | J10: Responsabile Fittizio D | K10: Chiuso | L10: 46272 | M10: 0 | N10: =IF(B10="","",IF(C10="","Conferma da indicare",IF(C10="No","",IF(C10="In attesa","Conferma da raccogliere",IF(OR(D10="",E10="",H10=""),"Dati pasto incompleti",IF(F10="","Esigenza da indicare",IF(AND(F10<>"Nessuna dichiarata",G10=""),"Dettaglio da verificare",IF(K10="","Stato da indicare",IF(AND(F10<>"Nessuna dichiarata",OR(I10="",J10="")),"Assegnazione incompleta",IF(OR(K10="Da verificare",K10="Da comunicare"),"Controllo umano richiesto",IF(AND(F10<>"Nessuna dichiarata",ISNUMBER(E10),E10-TODAY()<=$V$5,NOT(OR(K10="Confermato dal fornitore",K10="Chiuso"))),"Scadenza vicina: controllo umano",IF(AND(K10="Confermato dal fornitore",L10=""),"Data aggiornamento mancante","")))))))))))) | P10: =IFERROR(INDEX(Parametri!$A$5:$A$7,ROW()-4),"") | Q10: =IFERROR(INDEX(Parametri!$C$5:$C$8,ROW()-4),"") | R10: =IFERROR(INDEX(Parametri!$E$5:$E$11,ROW()-4),"") | S10: =IFERROR(INDEX(Parametri!$G$5:$G$7,ROW()-4),"") | T10: =IFERROR(INDEX(Parametri!$I$5:$I$8,ROW()-4),"") | U10: =IFERROR(INDEX(Parametri!$K$5:$K$9,ROW()-4),"") | V10: =Parametri!$N$10
A11: =IF(B11="","",ROW()-4) | B11: Invitato Fittizio 007 | C11: Sì | D11: Dessert dell'evento fittizio | E11: 46553 | F11: Senza lattosio | G11: Proposta senza lattosio richiesta dall'Invitato Fittizio 007 | H11: 1 | I11: Pasticceria Fittizia Corallo | J11: Responsabile Fittizio B | K11: Da comunicare | L11: 46273 | M11: 7.5 | N11: =IF(B11="","",IF(C11="","Conferma da indicare",IF(C11="No","",IF(C11="In attesa","Conferma da raccogliere",IF(OR(D11="",E11="",H11=""),"Dati pasto incompleti",IF(F11="","Esigenza da indicare",IF(AND(F11<>"Nessuna dichiarata",G11=""),"Dettaglio da verificare",IF(K11="","Stato da indicare",IF(AND(F11<>"Nessuna dichiarata",OR(I11="",J11="")),"Assegnazione incompleta",IF(OR(K11="Da verificare",K11="Da comunicare"),"Controllo umano richiesto",IF(AND(F11<>"Nessuna dichiarata",ISNUMBER(E11),E11-TODAY()<=$V$5,NOT(OR(K11="Confermato dal fornitore",K11="Chiuso"))),"Scadenza vicina: controllo umano",IF(AND(K11="Confermato dal fornitore",L11=""),"Data aggiornamento mancante","")))))))))))) | P11: =IFERROR(INDEX(Parametri!$A$5:$A$7,ROW()-4),"") | Q11: =IFERROR(INDEX(Parametri!$C$5:$C$8,ROW()-4),"") | R11: =IFERROR(INDEX(Parametri!$E$5:$E$11,ROW()-4),"") | S11: =IFERROR(INDEX(Parametri!$G$5:$G$7,ROW()-4),"") | T11: =IFERROR(INDEX(Parametri!$I$5:$I$8,ROW()-4),"") | U11: =IFERROR(INDEX(Parametri!$K$5:$K$9,ROW()-4),"")
A12: =IF(B12="","",ROW()-4) | B12: Invitato Fittizio 008 | C12: Sì | D12: Dopocena dell'evento fittizio | E12: 46553 | F12: Altro da verificare | H12: 1 | I12: Servizio Fittizio Banchetti | J12: Responsabile Fittizio A | K12: Da verificare | L12: 46274 | M12: 0 | N12: =IF(B12="","",IF(C12="","Conferma da indicare",IF(C12="No","",IF(C12="In attesa","Conferma da raccogliere",IF(OR(D12="",E12="",H12=""),"Dati pasto incompleti",IF(F12="","Esigenza da indicare",IF(AND(F12<>"Nessuna dichiarata",G12=""),"Dettaglio da verificare",IF(K12="","Stato da indicare",IF(AND(F12<>"Nessuna dichiarata",OR(I12="",J12="")),"Assegnazione incompleta",IF(OR(K12="Da verificare",K12="Da comunicare"),"Controllo umano richiesto",IF(AND(F12<>"Nessuna dichiarata",ISNUMBER(E12),E12-TODAY()<=$V$5,NOT(OR(K12="Confermato dal fornitore",K12="Chiuso"))),"Scadenza vicina: controllo umano",IF(AND(K12="Confermato dal fornitore",L12=""),"Data aggiornamento mancante","")))))))))))) | P12: =IFERROR(INDEX(Parametri!$A$5:$A$7,ROW()-4),"") | Q12: =IFERROR(INDEX(Parametri!$C$5:$C$8,ROW()-4),"") | R12: =IFERROR(INDEX(Parametri!$E$5:$E$11,ROW()-4),"") | S12: =IFERROR(INDEX(Parametri!$G$5:$G$7,ROW()-4),"") | T12: =IFERROR(INDEX(Parametri!$I$5:$I$8,ROW()-4),"") | U12: =IFERROR(INDEX(Parametri!$K$5:$K$9,ROW()-4),"")
A13: =IF(B13="","",ROW()-4) | B13: Invitato Fittizio 009 | C13: Sì | D13: Cena dell'evento fittizio | E13: 46553 | F13: Allergia dichiarata | G13: Sesamo dichiarato dall'Invitato Fittizio 009 | H13: 1 | J13: Responsabile Fittizio C | K13: Comunicato | L13: 46275 | M13: 100 | N13: =IF(B13="","",IF(C13="","Conferma da indicare",IF(C13="No","",IF(C13="In attesa","Conferma da raccogliere",IF(OR(D13="",E13="",H13=""),"Dati pasto incompleti",IF(F13="","Esigenza da indicare",IF(AND(F13<>"Nessuna dichiarata",G13=""),"Dettaglio da verificare",IF(K13="","Stato da indicare",IF(AND(F13<>"Nessuna dichiarata",OR(I13="",J13="")),"Assegnazione incompleta",IF(OR(K13="Da verificare",K13="Da comunicare"),"Controllo umano richiesto",IF(AND(F13<>"Nessuna dichiarata",ISNUMBER(E13),E13-TODAY()<=$V$5,NOT(OR(K13="Confermato dal fornitore",K13="Chiuso"))),"Scadenza vicina: controllo umano",IF(AND(K13="Confermato dal fornitore",L13=""),"Data aggiornamento mancante","")))))))))))) | P13: =IFERROR(INDEX(Parametri!$A$5:$A$7,ROW()-4),"") | Q13: =IFERROR(INDEX(Parametri!$C$5:$C$8,ROW()-4),"") | R13: =IFERROR(INDEX(Parametri!$E$5:$E$11,ROW()-4),"") | S13: =IFERROR(INDEX(Parametri!$G$5:$G$7,ROW()-4),"") | T13: =IFERROR(INDEX(Parametri!$I$5:$I$8,ROW()-4),"") | U13: =IFERROR(INDEX(Parametri!$K$5:$K$9,ROW()-4),"")
A14: =IF(B14="","",ROW()-4) | B14: Invitato Fittizio 010 | C14: Sì | D14: Dessert dell'evento fittizio | E14: 46552 | F14: Vegano | G14: Dessert vegano richiesto dall'Invitato Fittizio 010 | H14: 1 | I14: Pasticceria Fittizia Corallo | J14: Responsabile Fittizio D | K14: Confermato dal fornitore | M14: 9 | N14: =IF(B14="","",IF(C14="","Conferma da indicare",IF(C14="No","",IF(C14="In attesa","Conferma da raccogliere",IF(OR(D14="",E14="",H14=""),"Dati pasto incompleti",IF(F14="","Esigenza da indicare",IF(AND(F14<>"Nessuna dichiarata",G14=""),"Dettaglio da verificare",IF(K14="","Stato da indicare",IF(AND(F14<>"Nessuna dichiarata",OR(I14="",J14="")),"Assegnazione incompleta",IF(OR(K14="Da verificare",K14="Da comunicare"),"Controllo umano richiesto",IF(AND(F14<>"Nessuna dichiarata",ISNUMBER(E14),E14-TODAY()<=$V$5,NOT(OR(K14="Confermato dal fornitore",K14="Chiuso"))),"Scadenza vicina: controllo umano",IF(AND(K14="Confermato dal fornitore",L14=""),"Data aggiornamento mancante","")))))))))))) | P14: =IFERROR(INDEX(Parametri!$A$5:$A$7,ROW()-4),"") | Q14: =IFERROR(INDEX(Parametri!$C$5:$C$8,ROW()-4),"") | R14: =IFERROR(INDEX(Parametri!$E$5:$E$11,ROW()-4),"") | S14: =IFERROR(INDEX(Parametri!$G$5:$G$7,ROW()-4),"") | T14: =IFERROR(INDEX(Parametri!$I$5:$I$8,ROW()-4),"") | U14: =IFERROR(INDEX(Parametri!$K$5:$K$9,ROW()-4),"")
A15: =IF(B15="","",ROW()-4) | N15: =IF(B15="","",IF(C15="","Conferma da indicare",IF(C15="No","",IF(C15="In attesa","Conferma da raccogliere",IF(OR(D15="",E15="",H15=""),"Dati pasto incompleti",IF(F15="","Esigenza da indicare",IF(AND(F15<>"Nessuna dichiarata",G15=""),"Dettaglio da verificare",IF(K15="","Stato da indicare",IF(AND(F15<>"Nessuna dichiarata",OR(I15="",J15="")),"Assegnazione incompleta",IF(OR(K15="Da verificare",K15="Da comunicare"),"Controllo umano richiesto",IF(AND(F15<>"Nessuna dichiarata",ISNUMBER(E15),E15-TODAY()<=$V$5,NOT(OR(K15="Confermato dal fornitore",K15="Chiuso"))),"Scadenza vicina: controllo umano",IF(AND(K15="Confermato dal fornitore",L15=""),"Data aggiornamento mancante","")))))))))))) | P15: =IFERROR(INDEX(Parametri!$A$5:$A$7,ROW()-4),"") | Q15: =IFERROR(INDEX(Parametri!$C$5:$C$8,ROW()-4),"") | R15: =IFERROR(INDEX(Parametri!$E$5:$E$11,ROW()-4),"") | S15: =IFERROR(INDEX(Parametri!$G$5:$G$7,ROW()-4),"") | T15: =IFERROR(INDEX(Parametri!$I$5:$I$8,ROW()-4),"") | U15: =IFERROR(INDEX(Parametri!$K$5:$K$9,ROW()-4),"")
A16: =IF(B16="","",ROW()-4) | N16: =IF(B16="","",IF(C16="","Conferma da indicare",IF(C16="No","",IF(C16="In attesa","Conferma da raccogliere",IF(OR(D16="",E16="",H16=""),"Dati pasto incompleti",IF(F16="","Esigenza da indicare",IF(AND(F16<>"Nessuna dichiarata",G16=""),"Dettaglio da verificare",IF(K16="","Stato da indicare",IF(AND(F16<>"Nessuna dichiarata",OR(I16="",J16="")),"Assegnazione incompleta",IF(OR(K16="Da verificare",K16="Da comunicare"),"Controllo umano richiesto",IF(AND(F16<>"Nessuna dichiarata",ISNUMBER(E16),E16-TODAY()<=$V$5,NOT(OR(K16="Confermato dal fornitore",K16="Chiuso"))),"Scadenza vicina: controllo umano",IF(AND(K16="Confermato dal fornitore",L16=""),"Data aggiornamento mancante","")))))))))))) | P16: =IFERROR(INDEX(Parametri!$A$5:$A$7,ROW()-4),"") | Q16: =IFERROR(INDEX(Parametri!$C$5:$C$8,ROW()-4),"") | R16: =IFERROR(INDEX(Parametri!$E$5:$E$11,ROW()-4),"") | S16: =IFERROR(INDEX(Parametri!$G$5:$G$7,ROW()-4),"") | T16: =IFERROR(INDEX(Parametri!$I$5:$I$8,ROW()-4),"") | U16: =IFERROR(INDEX(Parametri!$K$5:$K$9,ROW()-4),"")
A17: =IF(B17="","",ROW()-4) | N17: =IF(B17="","",IF(C17="","Conferma da indicare",IF(C17="No","",IF(C17="In attesa","Conferma da raccogliere",IF(OR(D17="",E17="",H17=""),"Dati pasto incompleti",IF(F17="","Esigenza da indicare",IF(AND(F17<>"Nessuna dichiarata",G17=""),"Dettaglio da verificare",IF(K17="","Stato da indicare",IF(AND(F17<>"Nessuna dichiarata",OR(I17="",J17="")),"Assegnazione incompleta",IF(OR(K17="Da verificare",K17="Da comunicare"),"Controllo umano richiesto",IF(AND(F17<>"Nessuna dichiarata",ISNUMBER(E17),E17-TODAY()<=$V$5,NOT(OR(K17="Confermato dal fornitore",K17="Chiuso"))),"Scadenza vicina: controllo umano",IF(AND(K17="Confermato dal fornitore",L17=""),"Data aggiornamento mancante","")))))))))))) | P17: =IFERROR(INDEX(Parametri!$A$5:$A$7,ROW()-4),"") | Q17: =IFERROR(INDEX(Parametri!$C$5:$C$8,ROW()-4),"") | R17: =IFERROR(INDEX(Parametri!$E$5:$E$11,ROW()-4),"") | S17: =IFERROR(INDEX(Parametri!$G$5:$G$7,ROW()-4),"") | T17: =IFERROR(INDEX(Parametri!$I$5:$I$8,ROW()-4),"") | U17: =IFERROR(INDEX(Parametri!$K$5:$K$9,ROW()-4),"")
A18: =IF(B18="","",ROW()-4) | N18: =IF(B18="","",IF(C18="","Conferma da indicare",IF(C18="No","",IF(C18="In attesa","Conferma da raccogliere",IF(OR(D18="",E18="",H18=""),"Dati pasto incompleti",IF(F18="","Esigenza da indicare",IF(AND(F18<>"Nessuna dichiarata",G18=""),"Dettaglio da verificare",IF(K18="","Stato da indicare",IF(AND(F18<>"Nessuna dichiarata",OR(I18="",J18="")),"Assegnazione incompleta",IF(OR(K18="Da verificare",K18="Da comunicare"),"Controllo umano richiesto",IF(AND(F18<>"Nessuna dichiarata",ISNUMBER(E18),E18-TODAY()<=$V$5,NOT(OR(K18="Confermato dal fornitore",K18="Chiuso"))),"Scadenza vicina: controllo umano",IF(AND(K18="Confermato dal fornitore",L18=""),"Data aggiornamento mancante","")))))))))))) | P18: =IFERROR(INDEX(Parametri!$A$5:$A$7,ROW()-4),"") | Q18: =IFERROR(INDEX(Parametri!$C$5:$C$8,ROW()-4),"") | R18: =IFERROR(INDEX(Parametri!$E$5:$E$11,ROW()-4),"") | S18: =IFERROR(INDEX(Parametri!$G$5:$G$7,ROW()-4),"") | T18: =IFERROR(INDEX(Parametri!$I$5:$I$8,ROW()-4),"") | U18: =IFERROR(INDEX(Parametri!$K$5:$K$9,ROW()-4),"")
A19: =IF(B19="","",ROW()-4) | N19: =IF(B19="","",IF(C19="","Conferma da indicare",IF(C19="No","",IF(C19="In attesa","Conferma da raccogliere",IF(OR(D19="",E19="",H19=""),"Dati pasto incompleti",IF(F19="","Esigenza da indicare",IF(AND(F19<>"Nessuna dichiarata",G19=""),"Dettaglio da verificare",IF(K19="","Stato da indicare",IF(AND(F19<>"Nessuna dichiarata",OR(I19="",J19="")),"Assegnazione incompleta",IF(OR(K19="Da verificare",K19="Da comunicare"),"Controllo umano richiesto",IF(AND(F19<>"Nessuna dichiarata",ISNUMBER(E19),E19-TODAY()<=$V$5,NOT(OR(K19="Confermato dal fornitore",K19="Chiuso"))),"Scadenza vicina: controllo umano",IF(AND(K19="Confermato dal fornitore",L19=""),"Data aggiornamento mancante","")))))))))))) | P19: =IFERROR(INDEX(Parametri!$A$5:$A$7,ROW()-4),"") | Q19: =IFERROR(INDEX(Parametri!$C$5:$C$8,ROW()-4),"") | R19: =IFERROR(INDEX(Parametri!$E$5:$E$11,ROW()-4),"") | S19: =IFERROR(INDEX(Parametri!$G$5:$G$7,ROW()-4),"") | T19: =IFERROR(INDEX(Parametri!$I$5:$I$8,ROW()-4),"") | U19: =IFERROR(INDEX(Parametri!$K$5:$K$9,ROW()-4),"")
A20: =IF(B20="","",ROW()-4) | N20: =IF(B20="","",IF(C20="","Conferma da indicare",IF(C20="No","",IF(C20="In attesa","Conferma da raccogliere",IF(OR(D20="",E20="",H20=""),"Dati pasto incompleti",IF(F20="","Esigenza da indicare",IF(AND(F20<>"Nessuna dichiarata",G20=""),"Dettaglio da verificare",IF(K20="","Stato da indicare",IF(AND(F20<>"Nessuna dichiarata",OR(I20="",J20="")),"Assegnazione incompleta",IF(OR(K20="Da verificare",K20="Da comunicare"),"Controllo umano richiesto",IF(AND(F20<>"Nessuna dichiarata",ISNUMBER(E20),E20-TODAY()<=$V$5,NOT(OR(K20="Confermato dal fornitore",K20="Chiuso"))),"Scadenza vicina: controllo umano",IF(AND(K20="Confermato dal fornitore",L20=""),"Data aggiornamento mancante","")))))))))))) | P20: =IFERROR(INDEX(Parametri!$A$5:$A$7,ROW()-4),"") | Q20: =IFERROR(INDEX(Parametri!$C$5:$C$8,ROW()-4),"") | R20: =IFERROR(INDEX(Parametri!$E$5:$E$11,ROW()-4),"") | S20: =IFERROR(INDEX(Parametri!$G$5:$G$7,ROW()-4),"") | T20: =IFERROR(INDEX(Parametri!$I$5:$I$8,ROW()-4),"") | U20: =IFERROR(INDEX(Parametri!$K$5:$K$9,ROW()-4),"")
A21: =IF(B21="","",ROW()-4) | N21: =IF(B21="","",IF(C21="","Conferma da indicare",IF(C21="No","",IF(C21="In attesa","Conferma da raccogliere",IF(OR(D21="",E21="",H21=""),"Dati pasto incompleti",IF(F21="","Esigenza da indicare",IF(AND(F21<>"Nessuna dichiarata",G21=""),"Dettaglio da verificare",IF(K21="","Stato da indicare",IF(AND(F21<>"Nessuna dichiarata",OR(I21="",J21="")),"Assegnazione incompleta",IF(OR(K21="Da verificare",K21="Da comunicare"),"Controllo umano richiesto",IF(AND(F21<>"Nessuna dichiarata",ISNUMBER(E21),E21-TODAY()<=$V$5,NOT(OR(K21="Confermato dal fornitore",K21="Chiuso"))),"Scadenza vicina: controllo umano",IF(AND(K21="Confermato dal fornitore",L21=""),"Data aggiornamento mancante","")))))))))))) | P21: =IFERROR(INDEX(Parametri!$A$5:$A$7,ROW()-4),"") | Q21: =IFERROR(INDEX(Parametri!$C$5:$C$8,ROW()-4),"") | R21: =IFERROR(INDEX(Parametri!$E$5:$E$11,ROW()-4),"") | S21: =IFERROR(INDEX(Parametri!$G$5:$G$7,ROW()-4),"") | T21: =IFERROR(INDEX(Parametri!$I$5:$I$8,ROW()-4),"") | U21: =IFERROR(INDEX(Parametri!$K$5:$K$9,ROW()-4),"")
A22: =IF(B22="","",ROW()-4) | N22: =IF(B22="","",IF(C22="","Conferma da indicare",IF(C22="No","",IF(C22="In attesa","Conferma da raccogliere",IF(OR(D22="",E22="",H22=""),"Dati pasto incompleti",IF(F22="","Esigenza da indicare",IF(AND(F22<>"Nessuna dichiarata",G22=""),"Dettaglio da verificare",IF(K22="","Stato da indicare",IF(AND(F22<>"Nessuna dichiarata",OR(I22="",J22="")),"Assegnazione incompleta",IF(OR(K22="Da verificare",K22="Da comunicare"),"Controllo umano richiesto",IF(AND(F22<>"Nessuna dichiarata",ISNUMBER(E22),E22-TODAY()<=$V$5,NOT(OR(K22="Confermato dal fornitore",K22="Chiuso"))),"Scadenza vicina: controllo umano",IF(AND(K22="Confermato dal fornitore",L22=""),"Data aggiornamento mancante","")))))))))))) | P22: =IFERROR(INDEX(Parametri!$A$5:$A$7,ROW()-4),"") | Q22: =IFERROR(INDEX(Parametri!$C$5:$C$8,ROW()-4),"") | R22: =IFERROR(INDEX(Parametri!$E$5:$E$11,ROW()-4),"") | S22: =IFERROR(INDEX(Parametri!$G$5:$G$7,ROW()-4),"") | T22: =IFERROR(INDEX(Parametri!$I$5:$I$8,ROW()-4),"") | U22: =IFERROR(INDEX(Parametri!$K$5:$K$9,ROW()-4),"")
A23: =IF(B23="","",ROW()-4) | N23: =IF(B23="","",IF(C23="","Conferma da indicare",IF(C23="No","",IF(C23="In attesa","Conferma da raccogliere",IF(OR(D23="",E23="",H23=""),"Dati pasto incompleti",IF(F23="","Esigenza da indicare",IF(AND(F23<>"Nessuna dichiarata",G23=""),"Dettaglio da verificare",IF(K23="","Stato da indicare",IF(AND(F23<>"Nessuna dichiarata",OR(I23="",J23="")),"Assegnazione incompleta",IF(OR(K23="Da verificare",K23="Da comunicare"),"Controllo umano richiesto",IF(AND(F23<>"Nessuna dichiarata",ISNUMBER(E23),E23-TODAY()<=$V$5,NOT(OR(K23="Confermato dal fornitore",K23="Chiuso"))),"Scadenza vicina: controllo umano",IF(AND(K23="Confermato dal fornitore",L23=""),"Data aggiornamento mancante","")))))))))))) | P23: =IFERROR(INDEX(Parametri!$A$5:$A$7,ROW()-4),"") | Q23: =IFERROR(INDEX(Parametri!$C$5:$C$8,ROW()-4),"") | R23: =IFERROR(INDEX(Parametri!$E$5:$E$11,ROW()-4),"") | S23: =IFERROR(INDEX(Parametri!$G$5:$G$7,ROW()-4),"") | T23: =IFERROR(INDEX(Parametri!$I$5:$I$8,ROW()-4),"") | U23: =IFERROR(INDEX(Parametri!$K$5:$K$9,ROW()-4),"")
A24: =IF(B24="","",ROW()-4) | N24: =IF(B24="","",IF(C24="","Conferma da indicare",IF(C24="No","",IF(C24="In attesa","Conferma da raccogliere",IF(OR(D24="",E24="",H24=""),"Dati pasto incompleti",IF(F24="","Esigenza da indicare",IF(AND(F24<>"Nessuna dichiarata",G24=""),"Dettaglio da verificare",IF(K24="","Stato da indicare",IF(AND(F24<>"Nessuna dichiarata",OR(I24="",J24="")),"Assegnazione incompleta",IF(OR(K24="Da verificare",K24="Da comunicare"),"Controllo umano richiesto",IF(AND(F24<>"Nessuna dichiarata",ISNUMBER(E24),E24-TODAY()<=$V$5,NOT(OR(K24="Confermato dal fornitore",K24="Chiuso"))),"Scadenza vicina: controllo umano",IF(AND(K24="Confermato dal fornitore",L24=""),"Data aggiornamento mancante","")))))))))))) | P24: =IFERROR(INDEX(Parametri!$A$5:$A$7,ROW()-4),"") | Q24: =IFERROR(INDEX(Parametri!$C$5:$C$8,ROW()-4),"") | R24: =IFERROR(INDEX(Parametri!$E$5:$E$11,ROW()-4),"") | S24: =IFERROR(INDEX(Parametri!$G$5:$G$7,ROW()-4),"") | T24: =IFERROR(INDEX(Parametri!$I$5:$I$8,ROW()-4),"") | U24: =IFERROR(INDEX(Parametri!$K$5:$K$9,ROW()-4),"")
A25: =IF(B25="","",ROW()-4) | N25: =IF(B25="","",IF(C25="","Conferma da indicare",IF(C25="No","",IF(C25="In attesa","Conferma da raccogliere",IF(OR(D25="",E25="",H25=""),"Dati pasto incompleti",IF(F25="","Esigenza da indicare",IF(AND(F25<>"Nessuna dichiarata",G25=""),"Dettaglio da verificare",IF(K25="","Stato da indicare",IF(AND(F25<>"Nessuna dichiarata",OR(I25="",J25="")),"Assegnazione incompleta",IF(OR(K25="Da verificare",K25="Da comunicare"),"Controllo umano richiesto",IF(AND(F25<>"Nessuna dichiarata",ISNUMBER(E25),E25-TODAY()<=$V$5,NOT(OR(K25="Confermato dal fornitore",K25="Chiuso"))),"Scadenza vicina: controllo umano",IF(AND(K25="Confermato dal fornitore",L25=""),"Data aggiornamento mancante","")))))))))))) | P25: =IFERROR(INDEX(Parametri!$A$5:$A$7,ROW()-4),"") | Q25: =IFERROR(INDEX(Parametri!$C$5:$C$8,ROW()-4),"") | R25: =IFERROR(INDEX(Parametri!$E$5:$E$11,ROW()-4),"") | S25: =IFERROR(INDEX(Parametri!$G$5:$G$7,ROW()-4),"") | T25: =IFERROR(INDEX(Parametri!$I$5:$I$8,ROW()-4),"") | U25: =IFERROR(INDEX(Parametri!$K$5:$K$9,ROW()-4),"")
A26: =IF(B26="","",ROW()-4) | N26: =IF(B26="","",IF(C26="","Conferma da indicare",IF(C26="No","",IF(C26="In attesa","Conferma da raccogliere",IF(OR(D26="",E26="",H26=""),"Dati pasto incompleti",IF(F26="","Esigenza da indicare",IF(AND(F26<>"Nessuna dichiarata",G26=""),"Dettaglio da verificare",IF(K26="","Stato da indicare",IF(AND(F26<>"Nessuna dichiarata",OR(I26="",J26="")),"Assegnazione incompleta",IF(OR(K26="Da verificare",K26="Da comunicare"),"Controllo umano richiesto",IF(AND(F26<>"Nessuna dichiarata",ISNUMBER(E26),E26-TODAY()<=$V$5,NOT(OR(K26="Confermato dal fornitore",K26="Chiuso"))),"Scadenza vicina: controllo umano",IF(AND(K26="Confermato dal fornitore",L26=""),"Data aggiornamento mancante","")))))))))))) | P26: =IFERROR(INDEX(Parametri!$A$5:$A$7,ROW()-4),"") | Q26: =IFERROR(INDEX(Parametri!$C$5:$C$8,ROW()-4),"") | R26: =IFERROR(INDEX(Parametri!$E$5:$E$11,ROW()-4),"") | S26: =IFERROR(INDEX(Parametri!$G$5:$G$7,ROW()-4),"") | T26: =IFERROR(INDEX(Parametri!$I$5:$I$8,ROW()-4),"") | U26: =IFERROR(INDEX(Parametri!$K$5:$K$9,ROW()-4),"")
... A124: =IF(B124="","",ROW()-4) | N124: =IF(B124="","",IF(C124="","Conferma da indicare",IF(C124="No","",IF(C124="In attesa","Conferma da raccogliere",IF(OR(D124="",E124="",H124=""),"Dati pasto incompleti",IF(F124="","Esigenza da indicare",IF(AND(F124<>"Nessuna dichiarata",G124=""),"Dettaglio da verificare",IF(K124="","Stato da indicare",IF(AND(F124<>"Nessuna dichiarata",OR(I124="",J124="")),"Assegnazione incompleta",IF(OR(K124="Da verificare",K124="Da comunicare"),"Controllo umano richiesto",IF(AND(F124<>"Nessuna dichiarata",ISNUMBER(E124),E124-TODAY()<=$V$5,NOT(OR(K124="Confermato dal fornitore",K124="Chiuso"))),"Scadenza vicina: controllo umano",IF(AND(K124="Confermato dal fornitore",L124=""),"Data aggiornamento mancante","")))))))))))) | P124: =IFERROR(INDEX(Parametri!$A$5:$A$7,ROW()-4),"") | Q124: =IFERROR(INDEX(Parametri!$C$5:$C$8,ROW()-4),"") | R124: =IFERROR(INDEX(Parametri!$E$5:$E$11,ROW()-4),"") | S124: =IFERROR(INDEX(Parametri!$G$5:$G$7,ROW()-4),"") | T124: =IFERROR(INDEX(Parametri!$I$5:$I$8,ROW()-4),"") | U124: =IFERROR(INDEX(Parametri!$K$5:$K$9,ROW()-4),"")

Sheet Parametri
A1: Esigenze alimentari invitati matrimonio — Parametri modificabili
A2: Elenchi, limiti e date sono modificabili; tutti i dati dimostrativi sono fittizi.
A4: Conferma presenza | C4: Attività / pasto | E4: Esigenza dichiarata | G4: Fornitore | I4: Responsabile | K4: Stato gestione | M4: Ipotesi modificabile | N4: Valore
A5: Sì | C5: Aperitivo dell'evento fittizio | E5: Nessuna dichiarata | G5: Catering Fittizio Aurora | I5: Responsabile Fittizio A | K5: Da verificare | M5: Giorni di preavviso per l'avviso | N5: 30
A6: No | C6: Cena dell'evento fittizio | E6: Vegetariano | G6: Pasticceria Fittizia Corallo | I6: Responsabile Fittizio B | K6: Da comunicare | M6: Quantità massima per riga | N6: 2
A7: In attesa | C7: Dessert dell'evento fittizio | E7: Vegano | G7: Servizio Fittizio Banchetti | I7: Responsabile Fittizio C | K7: Comunicato | M7: Importo extra massimo per riga | N7: 100
C8: Dopocena dell'evento fittizio | E8: Senza glutine dichiarato | I8: Responsabile Fittizio D | K8: Confermato dal fornitore | M8: Data minima ammessa | N8: 46023
E9: Senza lattosio | K9: Chiuso | M9: Data massima ammessa | N9: 47848
E10: Allergia dichiarata | M10: Data evento di riferimento | N10: 46553
E11: Altro da verificare
