Workbook

Sheet Riepilogo
A1: Riepilogo del flusso di cassa del matrimonio
A2: Data di calcolo | B2: =TODAY()
A3: Indicatore | B3: Valore | D3: Mese | E3: Entrate previste | F3: Uscite previste | G3: Saldo progressivo
A4: Saldo iniziale del piano | B4: =IF(Parametri!$B$3="","",Parametri!$B$3) | D4: =IF(Parametri!$B$5="","",IFERROR(DATE(YEAR(Parametri!$B$5),MONTH(Parametri!$B$5)+0,1),"")) | E4: =IF($D4="","",IFERROR(SUMIFS(Movimenti!$I$5:$I$124,Movimenti!$C$5:$C$124,"Entrata",Movimenti!$A$5:$A$124,">="&$D4,Movimenti!$A$5:$A$124,"<"&DATE(YEAR($D4),MONTH($D4)+1,1)),0)) | F4: =IF($D4="","",IFERROR(SUMIFS(Movimenti!$I$5:$I$124,Movimenti!$C$5:$C$124,"Uscita",Movimenti!$A$5:$A$124,">="&$D4,Movimenti!$A$5:$A$124,"<"&DATE(YEAR($D4),MONTH($D4)+1,1)),0)) | G4: =IF($D4="","",IFERROR(Parametri!$B$3+SUM($E$4:E4)-SUM($F$4:F4),""))
A5: Entrate previste | B5: =IF(COUNTIF(Movimenti!$E$5:$E$124,"<>")=0,"",SUMIF(Movimenti!$C$5:$C$124,"Entrata",Movimenti!$I$5:$I$124)) | D5: =IF(Parametri!$B$5="","",IFERROR(DATE(YEAR(Parametri!$B$5),MONTH(Parametri!$B$5)+1,1),"")) | E5: =IF($D5="","",IFERROR(SUMIFS(Movimenti!$I$5:$I$124,Movimenti!$C$5:$C$124,"Entrata",Movimenti!$A$5:$A$124,">="&$D5,Movimenti!$A$5:$A$124,"<"&DATE(YEAR($D5),MONTH($D5)+1,1)),0)) | F5: =IF($D5="","",IFERROR(SUMIFS(Movimenti!$I$5:$I$124,Movimenti!$C$5:$C$124,"Uscita",Movimenti!$A$5:$A$124,">="&$D5,Movimenti!$A$5:$A$124,"<"&DATE(YEAR($D5),MONTH($D5)+1,1)),0)) | G5: =IF($D5="","",IFERROR(Parametri!$B$3+SUM($E$4:E5)-SUM($F$4:F5),""))
A6: Uscite previste | B6: =IF(COUNTIF(Movimenti!$E$5:$E$124,"<>")=0,"",SUMIF(Movimenti!$C$5:$C$124,"Uscita",Movimenti!$I$5:$I$124)) | D6: =IF(Parametri!$B$5="","",IFERROR(DATE(YEAR(Parametri!$B$5),MONTH(Parametri!$B$5)+2,1),"")) | E6: =IF($D6="","",IFERROR(SUMIFS(Movimenti!$I$5:$I$124,Movimenti!$C$5:$C$124,"Entrata",Movimenti!$A$5:$A$124,">="&$D6,Movimenti!$A$5:$A$124,"<"&DATE(YEAR($D6),MONTH($D6)+1,1)),0)) | F6: =IF($D6="","",IFERROR(SUMIFS(Movimenti!$I$5:$I$124,Movimenti!$C$5:$C$124,"Uscita",Movimenti!$A$5:$A$124,">="&$D6,Movimenti!$A$5:$A$124,"<"&DATE(YEAR($D6),MONTH($D6)+1,1)),0)) | G6: =IF($D6="","",IFERROR(Parametri!$B$3+SUM($E$4:E6)-SUM($F$4:F6),""))
A7: Saldo finale previsto | B7: =IF(OR(B4="",B5="",B6=""),"",IFERROR(B4+B5-B6,"")) | D7: =IF(Parametri!$B$5="","",IFERROR(DATE(YEAR(Parametri!$B$5),MONTH(Parametri!$B$5)+3,1),"")) | E7: =IF($D7="","",IFERROR(SUMIFS(Movimenti!$I$5:$I$124,Movimenti!$C$5:$C$124,"Entrata",Movimenti!$A$5:$A$124,">="&$D7,Movimenti!$A$5:$A$124,"<"&DATE(YEAR($D7),MONTH($D7)+1,1)),0)) | F7: =IF($D7="","",IFERROR(SUMIFS(Movimenti!$I$5:$I$124,Movimenti!$C$5:$C$124,"Uscita",Movimenti!$A$5:$A$124,">="&$D7,Movimenti!$A$5:$A$124,"<"&DATE(YEAR($D7),MONTH($D7)+1,1)),0)) | G7: =IF($D7="","",IFERROR(Parametri!$B$3+SUM($E$4:E7)-SUM($F$4:F7),""))
A8: Entrate registrate | B8: =IF(COUNT(Movimenti!$J$5:$J$124)=0,"",SUMIF(Movimenti!$C$5:$C$124,"Entrata",Movimenti!$J$5:$J$124)) | D8: =IF(Parametri!$B$5="","",IFERROR(DATE(YEAR(Parametri!$B$5),MONTH(Parametri!$B$5)+4,1),"")) | E8: =IF($D8="","",IFERROR(SUMIFS(Movimenti!$I$5:$I$124,Movimenti!$C$5:$C$124,"Entrata",Movimenti!$A$5:$A$124,">="&$D8,Movimenti!$A$5:$A$124,"<"&DATE(YEAR($D8),MONTH($D8)+1,1)),0)) | F8: =IF($D8="","",IFERROR(SUMIFS(Movimenti!$I$5:$I$124,Movimenti!$C$5:$C$124,"Uscita",Movimenti!$A$5:$A$124,">="&$D8,Movimenti!$A$5:$A$124,"<"&DATE(YEAR($D8),MONTH($D8)+1,1)),0)) | G8: =IF($D8="","",IFERROR(Parametri!$B$3+SUM($E$4:E8)-SUM($F$4:F8),""))
A9: Uscite registrate | B9: =IF(COUNT(Movimenti!$J$5:$J$124)=0,"",SUMIF(Movimenti!$C$5:$C$124,"Uscita",Movimenti!$J$5:$J$124)) | D9: =IF(Parametri!$B$5="","",IFERROR(DATE(YEAR(Parametri!$B$5),MONTH(Parametri!$B$5)+5,1),"")) | E9: =IF($D9="","",IFERROR(SUMIFS(Movimenti!$I$5:$I$124,Movimenti!$C$5:$C$124,"Entrata",Movimenti!$A$5:$A$124,">="&$D9,Movimenti!$A$5:$A$124,"<"&DATE(YEAR($D9),MONTH($D9)+1,1)),0)) | F9: =IF($D9="","",IFERROR(SUMIFS(Movimenti!$I$5:$I$124,Movimenti!$C$5:$C$124,"Uscita",Movimenti!$A$5:$A$124,">="&$D9,Movimenti!$A$5:$A$124,"<"&DATE(YEAR($D9),MONTH($D9)+1,1)),0)) | G9: =IF($D9="","",IFERROR(Parametri!$B$3+SUM($E$4:E9)-SUM($F$4:F9),""))
A10: Disponibilità registrata | B10: =IF(OR(B4="",B8="",B9=""),"",IFERROR(B4+B8-B9,"")) | D10: =IF(Parametri!$B$5="","",IFERROR(DATE(YEAR(Parametri!$B$5),MONTH(Parametri!$B$5)+6,1),"")) | E10: =IF($D10="","",IFERROR(SUMIFS(Movimenti!$I$5:$I$124,Movimenti!$C$5:$C$124,"Entrata",Movimenti!$A$5:$A$124,">="&$D10,Movimenti!$A$5:$A$124,"<"&DATE(YEAR($D10),MONTH($D10)+1,1)),0)) | F10: =IF($D10="","",IFERROR(SUMIFS(Movimenti!$I$5:$I$124,Movimenti!$C$5:$C$124,"Uscita",Movimenti!$A$5:$A$124,">="&$D10,Movimenti!$A$5:$A$124,"<"&DATE(YEAR($D10),MONTH($D10)+1,1)),0)) | G10: =IF($D10="","",IFERROR(Parametri!$B$3+SUM($E$4:E10)-SUM($F$4:F10),""))
A11: Uscite previste non chiuse | B11: =IF(COUNTIF(Movimenti!$E$5:$E$124,"<>")=0,"",SUMIFS(Movimenti!$I$5:$I$124,Movimenti!$C$5:$C$124,"Uscita",Movimenti!$M$5:$M$124,"<>Pagato",Movimenti!$M$5:$M$124,"<>Annullato")) | D11: =IF(Parametri!$B$5="","",IFERROR(DATE(YEAR(Parametri!$B$5),MONTH(Parametri!$B$5)+7,1),"")) | E11: =IF($D11="","",IFERROR(SUMIFS(Movimenti!$I$5:$I$124,Movimenti!$C$5:$C$124,"Entrata",Movimenti!$A$5:$A$124,">="&$D11,Movimenti!$A$5:$A$124,"<"&DATE(YEAR($D11),MONTH($D11)+1,1)),0)) | F11: =IF($D11="","",IFERROR(SUMIFS(Movimenti!$I$5:$I$124,Movimenti!$C$5:$C$124,"Uscita",Movimenti!$A$5:$A$124,">="&$D11,Movimenti!$A$5:$A$124,"<"&DATE(YEAR($D11),MONTH($D11)+1,1)),0)) | G11: =IF($D11="","",IFERROR(Parametri!$B$3+SUM($E$4:E11)-SUM($F$4:F11),""))
A12: Movimenti scaduti da verificare | B12: =IF(COUNTIF(Movimenti!$E$5:$E$124,"<>")=0,"",COUNTIFS(Movimenti!$A$5:$A$124,"<"&TODAY(),Movimenti!$C$5:$C$124,"Uscita",Movimenti!$M$5:$M$124,"<>Pagato",Movimenti!$M$5:$M$124,"<>Annullato",Movimenti!$E$5:$E$124,"<>")) | D12: =IF(Parametri!$B$5="","",IFERROR(DATE(YEAR(Parametri!$B$5),MONTH(Parametri!$B$5)+8,1),"")) | E12: =IF($D12="","",IFERROR(SUMIFS(Movimenti!$I$5:$I$124,Movimenti!$C$5:$C$124,"Entrata",Movimenti!$A$5:$A$124,">="&$D12,Movimenti!$A$5:$A$124,"<"&DATE(YEAR($D12),MONTH($D12)+1,1)),0)) | F12: =IF($D12="","",IFERROR(SUMIFS(Movimenti!$I$5:$I$124,Movimenti!$C$5:$C$124,"Uscita",Movimenti!$A$5:$A$124,">="&$D12,Movimenti!$A$5:$A$124,"<"&DATE(YEAR($D12),MONTH($D12)+1,1)),0)) | G12: =IF($D12="","",IFERROR(Parametri!$B$3+SUM($E$4:E12)-SUM($F$4:F12),""))
A13: Giorni al matrimonio | B13: =IF(Parametri!$B$4="","",IFERROR(Parametri!$B$4-TODAY(),"")) | D13: =IF(Parametri!$B$5="","",IFERROR(DATE(YEAR(Parametri!$B$5),MONTH(Parametri!$B$5)+9,1),"")) | E13: =IF($D13="","",IFERROR(SUMIFS(Movimenti!$I$5:$I$124,Movimenti!$C$5:$C$124,"Entrata",Movimenti!$A$5:$A$124,">="&$D13,Movimenti!$A$5:$A$124,"<"&DATE(YEAR($D13),MONTH($D13)+1,1)),0)) | F13: =IF($D13="","",IFERROR(SUMIFS(Movimenti!$I$5:$I$124,Movimenti!$C$5:$C$124,"Uscita",Movimenti!$A$5:$A$124,">="&$D13,Movimenti!$A$5:$A$124,"<"&DATE(YEAR($D13),MONTH($D13)+1,1)),0)) | G13: =IF($D13="","",IFERROR(Parametri!$B$3+SUM($E$4:E13)-SUM($F$4:F13),""))
A14: Copertura delle uscite previste | B14: =IF(OR(B5="",B6="",B6=0),"",IFERROR((B4+B5)/B6,"")) | D14: =IF(Parametri!$B$5="","",IFERROR(DATE(YEAR(Parametri!$B$5),MONTH(Parametri!$B$5)+10,1),"")) | E14: =IF($D14="","",IFERROR(SUMIFS(Movimenti!$I$5:$I$124,Movimenti!$C$5:$C$124,"Entrata",Movimenti!$A$5:$A$124,">="&$D14,Movimenti!$A$5:$A$124,"<"&DATE(YEAR($D14),MONTH($D14)+1,1)),0)) | F14: =IF($D14="","",IFERROR(SUMIFS(Movimenti!$I$5:$I$124,Movimenti!$C$5:$C$124,"Uscita",Movimenti!$A$5:$A$124,">="&$D14,Movimenti!$A$5:$A$124,"<"&DATE(YEAR($D14),MONTH($D14)+1,1)),0)) | G14: =IF($D14="","",IFERROR(Parametri!$B$3+SUM($E$4:E14)-SUM($F$4:F14),""))
A15: Scostamento sui movimenti chiusi | B15: =IF(COUNT(Movimenti!$N$5:$N$124)=0,"",SUM(Movimenti!$N$5:$N$124)) | D15: =IF(Parametri!$B$5="","",IFERROR(DATE(YEAR(Parametri!$B$5),MONTH(Parametri!$B$5)+11,1),"")) | E15: =IF($D15="","",IFERROR(SUMIFS(Movimenti!$I$5:$I$124,Movimenti!$C$5:$C$124,"Entrata",Movimenti!$A$5:$A$124,">="&$D15,Movimenti!$A$5:$A$124,"<"&DATE(YEAR($D15),MONTH($D15)+1,1)),0)) | F15: =IF($D15="","",IFERROR(SUMIFS(Movimenti!$I$5:$I$124,Movimenti!$C$5:$C$124,"Uscita",Movimenti!$A$5:$A$124,">="&$D15,Movimenti!$A$5:$A$124,"<"&DATE(YEAR($D15),MONTH($D15)+1,1)),0)) | G15: =IF($D15="","",IFERROR(Parametri!$B$3+SUM($E$4:E15)-SUM($F$4:F15),""))
A16: Movimenti inseriti | B16: =COUNTIF(Movimenti!$E$5:$E$124,"<>")

Sheet Movimenti
A1: Registro del flusso di cassa del matrimonio
A2: Inserire una riga per ogni entrata o uscita. Le righe scadute e incomplete richiedono una verifica manuale.
A4: Data prevista | B4: Data effettiva | C4: Tipo | D4: Categoria | E4: Attività o causale | F4: Quantità | G4: Unità | H4: Importo unitario | I4: Importo previsto | J4: Importo effettivo | K4: Fornitore o origine | L4: Responsabile | M4: Stato | N4: Scostamento | O4: Mese
A5: 46256 | B5: 46257 | C5: Entrata | D5: Regali e contributi | E5: Contributo iniziale simulato | F5: 1 | G5: voce | H5: 3000 | I5: =IF(OR($A5="",$C5="",$F5="",$H5=""),"",IFERROR($F5*$H5,"")) | J5: 3000 | K5: Soggetto fittizio Alfa | L5: Coppia | M5: Incassato | N5: =IF(OR($C5="",$I5="",$J5="",$M5=""),"",IF(OR($M5="Pagato",$M5="Incassato"),IFERROR(IF($C5="Entrata",$J5-$I5,$I5-$J5),""),"")) | O5: =IF($A5="","",IFERROR(DATE(YEAR($A5),MONTH($A5),1),""))
A6: 46261 | B6: 46262 | C6: Uscita | D6: Location | E6: Acconto spazio dimostrativo | F6: 1 | G6: voce | H6: 1800 | I6: =IF(OR($A6="",$C6="",$F6="",$H6=""),"",IFERROR($F6*$H6,"")) | J6: 1800 | K6: Impresa fittizia Aurora | L6: Coppia | M6: Pagato | N6: =IF(OR($C6="",$I6="",$J6="",$M6=""),"",IF(OR($M6="Pagato",$M6="Incassato"),IFERROR(IF($C6="Entrata",$J6-$I6,$I6-$J6),""),"")) | O6: =IF($A6="","",IFERROR(DATE(YEAR($A6),MONTH($A6),1),""))
A7: 46266 | C7: Uscita | D7: Cartoleria | E7: Partecipazioni di prova | F7: 80 | G7: pezzi | H7: 3.5 | I7: =IF(OR($A7="",$C7="",$F7="",$H7=""),"",IFERROR($F7*$H7,"")) | K7: Laboratorio fittizio CartaLuce | L7: Referente fittizio Alfa | M7: Da verificare | N7: =IF(OR($C7="",$I7="",$J7="",$M7=""),"",IF(OR($M7="Pagato",$M7="Incassato"),IFERROR(IF($C7="Entrata",$J7-$I7,$I7-$J7),""),"")) | O7: =IF($A7="","",IFERROR(DATE(YEAR($A7),MONTH($A7),1),""))
A8: 46296 | C8: Entrata | D8: Regali e contributi | E8: Contributo futuro simulato | F8: 1 | G8: voce | H8: 1500 | I8: =IF(OR($A8="",$C8="",$F8="",$H8=""),"",IFERROR($F8*$H8,"")) | K8: Soggetto fittizio Beta | L8: Coppia | M8: Previsto | N8: =IF(OR($C8="",$I8="",$J8="",$M8=""),"",IF(OR($M8="Pagato",$M8="Incassato"),IFERROR(IF($C8="Entrata",$J8-$I8,$I8-$J8),""),"")) | O8: =IF($A8="","",IFERROR(DATE(YEAR($A8),MONTH($A8),1),""))
A9: 46321 | C9: Uscita | D9: Foto e video | E9: Servizio foto dimostrativo | F9: 1 | G9: voce | H9: 1200 | I9: =IF(OR($A9="",$C9="",$F9="",$H9=""),"",IFERROR($F9*$H9,"")) | K9: Studio fittizio Obiettivo | L9: Referente fittizio Beta | M9: Confermato | N9: =IF(OR($C9="",$I9="",$J9="",$M9=""),"",IF(OR($M9="Pagato",$M9="Incassato"),IFERROR(IF($C9="Entrata",$J9-$I9,$I9-$J9),""),"")) | O9: =IF($A9="","",IFERROR(DATE(YEAR($A9),MONTH($A9),1),""))
A10: 46356 | C10: Uscita | D10: Ristorazione | E10: Acconto banchetto simulato | F10: 80 | G10: persone | H10: 20 | I10: =IF(OR($A10="",$C10="",$F10="",$H10=""),"",IFERROR($F10*$H10,"")) | K10: Cucina fittizia Girasole | L10: Coppia | M10: Confermato | N10: =IF(OR($C10="",$I10="",$J10="",$M10=""),"",IF(OR($M10="Pagato",$M10="Incassato"),IFERROR(IF($C10="Entrata",$J10-$I10,$I10-$J10),""),"")) | O10: =IF($A10="","",IFERROR(DATE(YEAR($A10),MONTH($A10),1),""))
A11: 46391 | C11: Uscita | D11: Abbigliamento | E11: Abiti campione per il piano | F11: 2 | G11: pezzi | H11: 650 | I11: =IF(OR($A11="",$C11="",$F11="",$H11=""),"",IFERROR($F11*$H11,"")) | K11: Atelier fittizio Nuvola | L11: Referente fittizio Alfa | M11: Previsto | N11: =IF(OR($C11="",$I11="",$J11="",$M11=""),"",IF(OR($M11="Pagato",$M11="Incassato"),IFERROR(IF($C11="Entrata",$J11-$I11,$I11-$J11),""),"")) | O11: =IF($A11="","",IFERROR(DATE(YEAR($A11),MONTH($A11),1),""))
A12: 46431 | C12: Uscita | D12: Fiori e allestimenti | E12: Allestimento floreale di prova | F12: 1 | G12: voce | H12: 900 | I12: =IF(OR($A12="",$C12="",$F12="",$H12=""),"",IFERROR($F12*$H12,"")) | K12: Bottega fittizia Petalo | L12: Referente fittizio Beta | M12: Previsto | N12: =IF(OR($C12="",$I12="",$J12="",$M12=""),"",IF(OR($M12="Pagato",$M12="Incassato"),IFERROR(IF($C12="Entrata",$J12-$I12,$I12-$J12),""),"")) | O12: =IF($A12="","",IFERROR(DATE(YEAR($A12),MONTH($A12),1),""))
A13: 46481 | C13: Uscita | D13: Musica | E13: Servizio musicale dimostrativo | F13: 4 | G13: ore | H13: 180 | I13: =IF(OR($A13="",$C13="",$F13="",$H13=""),"",IFERROR($F13*$H13,"")) | K13: Ensemble fittizio Armonia | L13: Coppia | M13: Previsto | N13: =IF(OR($C13="",$I13="",$J13="",$M13=""),"",IF(OR($M13="Pagato",$M13="Incassato"),IFERROR(IF($C13="Entrata",$J13-$I13,$I13-$J13),""),"")) | O13: =IF($A13="","",IFERROR(DATE(YEAR($A13),MONTH($A13),1),""))
A14: 46569 | C14: Uscita | D14: Ristorazione | E14: Saldo banchetto simulato | F14: 80 | G14: persone | H14: 50 | I14: =IF(OR($A14="",$C14="",$F14="",$H14=""),"",IFERROR($F14*$H14,"")) | K14: Cucina fittizia Girasole | L14: Coppia | M14: Previsto | N14: =IF(OR($C14="",$I14="",$J14="",$M14=""),"",IF(OR($M14="Pagato",$M14="Incassato"),IFERROR(IF($C14="Entrata",$J14-$I14,$I14-$J14),""),"")) | O14: =IF($A14="","",IFERROR(DATE(YEAR($A14),MONTH($A14),1),""))
I15: =IF(OR($A15="",$C15="",$F15="",$H15=""),"",IFERROR($F15*$H15,"")) | N15: =IF(OR($C15="",$I15="",$J15="",$M15=""),"",IF(OR($M15="Pagato",$M15="Incassato"),IFERROR(IF($C15="Entrata",$J15-$I15,$I15-$J15),""),"")) | O15: =IF($A15="","",IFERROR(DATE(YEAR($A15),MONTH($A15),1),""))
I16: =IF(OR($A16="",$C16="",$F16="",$H16=""),"",IFERROR($F16*$H16,"")) | N16: =IF(OR($C16="",$I16="",$J16="",$M16=""),"",IF(OR($M16="Pagato",$M16="Incassato"),IFERROR(IF($C16="Entrata",$J16-$I16,$I16-$J16),""),"")) | O16: =IF($A16="","",IFERROR(DATE(YEAR($A16),MONTH($A16),1),""))
I17: =IF(OR($A17="",$C17="",$F17="",$H17=""),"",IFERROR($F17*$H17,"")) | N17: =IF(OR($C17="",$I17="",$J17="",$M17=""),"",IF(OR($M17="Pagato",$M17="Incassato"),IFERROR(IF($C17="Entrata",$J17-$I17,$I17-$J17),""),"")) | O17: =IF($A17="","",IFERROR(DATE(YEAR($A17),MONTH($A17),1),""))
I18: =IF(OR($A18="",$C18="",$F18="",$H18=""),"",IFERROR($F18*$H18,"")) | N18: =IF(OR($C18="",$I18="",$J18="",$M18=""),"",IF(OR($M18="Pagato",$M18="Incassato"),IFERROR(IF($C18="Entrata",$J18-$I18,$I18-$J18),""),"")) | O18: =IF($A18="","",IFERROR(DATE(YEAR($A18),MONTH($A18),1),""))
I19: =IF(OR($A19="",$C19="",$F19="",$H19=""),"",IFERROR($F19*$H19,"")) | N19: =IF(OR($C19="",$I19="",$J19="",$M19=""),"",IF(OR($M19="Pagato",$M19="Incassato"),IFERROR(IF($C19="Entrata",$J19-$I19,$I19-$J19),""),"")) | O19: =IF($A19="","",IFERROR(DATE(YEAR($A19),MONTH($A19),1),""))
I20: =IF(OR($A20="",$C20="",$F20="",$H20=""),"",IFERROR($F20*$H20,"")) | N20: =IF(OR($C20="",$I20="",$J20="",$M20=""),"",IF(OR($M20="Pagato",$M20="Incassato"),IFERROR(IF($C20="Entrata",$J20-$I20,$I20-$J20),""),"")) | O20: =IF($A20="","",IFERROR(DATE(YEAR($A20),MONTH($A20),1),""))
I21: =IF(OR($A21="",$C21="",$F21="",$H21=""),"",IFERROR($F21*$H21,"")) | N21: =IF(OR($C21="",$I21="",$J21="",$M21=""),"",IF(OR($M21="Pagato",$M21="Incassato"),IFERROR(IF($C21="Entrata",$J21-$I21,$I21-$J21),""),"")) | O21: =IF($A21="","",IFERROR(DATE(YEAR($A21),MONTH($A21),1),""))
I22: =IF(OR($A22="",$C22="",$F22="",$H22=""),"",IFERROR($F22*$H22,"")) | N22: =IF(OR($C22="",$I22="",$J22="",$M22=""),"",IF(OR($M22="Pagato",$M22="Incassato"),IFERROR(IF($C22="Entrata",$J22-$I22,$I22-$J22),""),"")) | O22: =IF($A22="","",IFERROR(DATE(YEAR($A22),MONTH($A22),1),""))
I23: =IF(OR($A23="",$C23="",$F23="",$H23=""),"",IFERROR($F23*$H23,"")) | N23: =IF(OR($C23="",$I23="",$J23="",$M23=""),"",IF(OR($M23="Pagato",$M23="Incassato"),IFERROR(IF($C23="Entrata",$J23-$I23,$I23-$J23),""),"")) | O23: =IF($A23="","",IFERROR(DATE(YEAR($A23),MONTH($A23),1),""))
I24: =IF(OR($A24="",$C24="",$F24="",$H24=""),"",IFERROR($F24*$H24,"")) | N24: =IF(OR($C24="",$I24="",$J24="",$M24=""),"",IF(OR($M24="Pagato",$M24="Incassato"),IFERROR(IF($C24="Entrata",$J24-$I24,$I24-$J24),""),"")) | O24: =IF($A24="","",IFERROR(DATE(YEAR($A24),MONTH($A24),1),""))
I25: =IF(OR($A25="",$C25="",$F25="",$H25=""),"",IFERROR($F25*$H25,"")) | N25: =IF(OR($C25="",$I25="",$J25="",$M25=""),"",IF(OR($M25="Pagato",$M25="Incassato"),IFERROR(IF($C25="Entrata",$J25-$I25,$I25-$J25),""),"")) | O25: =IF($A25="","",IFERROR(DATE(YEAR($A25),MONTH($A25),1),""))
I26: =IF(OR($A26="",$C26="",$F26="",$H26=""),"",IFERROR($F26*$H26,"")) | N26: =IF(OR($C26="",$I26="",$J26="",$M26=""),"",IF(OR($M26="Pagato",$M26="Incassato"),IFERROR(IF($C26="Entrata",$J26-$I26,$I26-$J26),""),"")) | O26: =IF($A26="","",IFERROR(DATE(YEAR($A26),MONTH($A26),1),""))
... I124: =IF(OR($A124="",$C124="",$F124="",$H124=""),"",IFERROR($F124*$H124,"")) | N124: =IF(OR($C124="",$I124="",$J124="",$M124=""),"",IF(OR($M124="Pagato",$M124="Incassato"),IFERROR(IF($C124="Entrata",$J124-$I124,$I124-$J124),""),"")) | O124: =IF($A124="","",IFERROR(DATE(YEAR($A124),MONTH($A124),1),""))

Sheet Parametri
A1: Parametri del flusso di cassa
A2: Ipotesi modificabili | D2: Controllo umano
A3: Saldo iniziale del piano | B3: 5000 | D3: Gli importi e le date sono ipotesi organizzative modificabili. Verificare manualmente preventivi, scadenze e registrazioni: il file non esegue pagamenti né controlli esterni.
A4: Data del matrimonio | B4: 46576
A5: Primo mese del riepilogo a 12 mesi | B5: 46235
A6: Data minima ammessa | B6: 45870
A7: Data massima ammessa | B7: 46941
A8: Importo massimo per voce | B8: 100000
A9: Quantità massima | B9: 10000
A10: Soglia di avviso per saldo basso | B10: 1000
A12: Elenchi modificabili usati dalle convalide
A13: Categoria | C13: Tipo | E13: Stato | G13: Responsabile | I13: Unità
A14: Location | C14: Entrata | E14: Previsto | G14: Coppia | I14: voce
A15: Ristorazione | C15: Uscita | E15: Confermato | G15: Referente fittizio Alfa | I15: persone
A16: Abbigliamento | E16: Pagato | G16: Referente fittizio Beta | I16: ore
A17: Foto e video | E17: Incassato | I17: pezzi
A18: Musica | E18: Annullato
A19: Fiori e allestimenti | E19: Da verificare
A20: Trasporti
A21: Cerimonia
A22: Cartoleria
A23: Regali e contributi
A24: Varie
