Workbook

Sheet Riepilogo
A1: Gestione accompagnatori matrimonio — Riepilogo
A2: Indicatori calcolati dal registro degli accompagnatori.
A4: Indicatore | B4: Valore
A5: Invitati registrati | B5: =COUNTIF(Accompagnatori!A5:A104,"<>")
A6: Invitati confermati | B6: =COUNTIF(Accompagnatori!B5:B104,"Sì")
A7: Accompagnatori autorizzati | B7: =COUNTIF(Accompagnatori!C5:C104,"Sì")
A8: Nomi accompagnatori inseriti | B8: =COUNTIFS(Accompagnatori!C5:C104,"Sì",Accompagnatori!D5:D104,"<>")
A9: Accompagnatori confermati | B9: =COUNTIFS(Accompagnatori!C5:C104,"Sì",Accompagnatori!E5:E104,"Sì")
A10: Accompagnatori in attesa | B10: =COUNTIFS(Accompagnatori!C5:C104,"Sì",Accompagnatori!E5:E104,"In attesa")
A11: Autorizzazioni senza nome | B11: =COUNTIFS(Accompagnatori!C5:C104,"Sì",Accompagnatori!D5:D104,"")
A12: Righe con dati da controllare | B12: =COUNTIF(Accompagnatori!H5:H104,"Verificare*")+COUNTIF(Accompagnatori!H5:H104,"Nome da inserire")+COUNTIF(Accompagnatori!H5:H104,"Conferma da registrare")+COUNTIF(Accompagnatori!H5:H104,"Conferma invitato da registrare")+COUNTIF(Accompagnatori!H5:H104,"Data da inserire")+COUNTIF(Accompagnatori!H5:H104,"Autorizzazione da indicare")+COUNTIF(Accompagnatori!H5:H104,"Invitato da inserire")
A13: Posti totali confermati (persone) | B13: =B6+B9
A14: Disponibilità indicativa accompagnatori (persone) | B14: =IF(Parametri!E7="","",IFERROR(MAX(0,Parametri!E7-B9),""))
A15: Completamento nomi autorizzati | B15: =IFERROR(B8/B7,"")
A16: Data più recente di conferma | B16: =IF(COUNT(Accompagnatori!F5:INDEX(Accompagnatori!F:F,104))=0,"",MAX(Accompagnatori!F5:INDEX(Accompagnatori!F:F,104)))

Sheet Accompagnatori
A1: Registro accompagnatori autorizzati e confermati
A2: Compilare le celle chiare; ogni avviso richiede un controllo umano.
A4: Invitato principale | B4: Conferma invitato | C4: Accompagnatore autorizzato | D4: Nome accompagnatore | E4: Conferma accompagnatore | F4: Data conferma accompagnatore | G4: Responsabile | H4: Stato controllo
A5: Invitato Fittizio 01 | B5: Sì | C5: Sì | D5: Accompagnatore Fittizio 01 | E5: Sì | F5: 46261 | G5: Responsabile Fittizio A | H5: =IF(A5="",IF(COUNTA(B5:G5)=0,"","Invitato da inserire"),IF(B5="","Conferma invitato da registrare",IF(C5="","Autorizzazione da indicare",IF(C5="No",IF(OR(D5<>"",E5<>"",F5<>""),"Verificare dati accompagnatore","Non previsto"),IF(C5<>"Sì","Verificare autorizzazione",IF(D5="","Nome da inserire",IF(AND(E5="Sì",B5<>"Sì"),"Verificare conferme",IF(E5="","Conferma da registrare",IF(E5="In attesa",IF(F5<>"","Verificare data","In attesa"),IF(E5="No",IF(F5<>"","Verificare data","Non partecipa"),IF(E5="Sì",IF(F5="","Data da inserire","Completo"),"Verificare conferma")))))))))))
A6: Invitato Fittizio 02 | B6: Sì | C6: Sì | D6: Accompagnatore Fittizio 02 | E6: In attesa | G6: Responsabile Fittizio B | H6: =IF(A6="",IF(COUNTA(B6:G6)=0,"","Invitato da inserire"),IF(B6="","Conferma invitato da registrare",IF(C6="","Autorizzazione da indicare",IF(C6="No",IF(OR(D6<>"",E6<>"",F6<>""),"Verificare dati accompagnatore","Non previsto"),IF(C6<>"Sì","Verificare autorizzazione",IF(D6="","Nome da inserire",IF(AND(E6="Sì",B6<>"Sì"),"Verificare conferme",IF(E6="","Conferma da registrare",IF(E6="In attesa",IF(F6<>"","Verificare data","In attesa"),IF(E6="No",IF(F6<>"","Verificare data","Non partecipa"),IF(E6="Sì",IF(F6="","Data da inserire","Completo"),"Verificare conferma")))))))))))
A7: Invitato Fittizio 03 | B7: In attesa | C7: Sì | G7: Responsabile Fittizio C | H7: =IF(A7="",IF(COUNTA(B7:G7)=0,"","Invitato da inserire"),IF(B7="","Conferma invitato da registrare",IF(C7="","Autorizzazione da indicare",IF(C7="No",IF(OR(D7<>"",E7<>"",F7<>""),"Verificare dati accompagnatore","Non previsto"),IF(C7<>"Sì","Verificare autorizzazione",IF(D7="","Nome da inserire",IF(AND(E7="Sì",B7<>"Sì"),"Verificare conferme",IF(E7="","Conferma da registrare",IF(E7="In attesa",IF(F7<>"","Verificare data","In attesa"),IF(E7="No",IF(F7<>"","Verificare data","Non partecipa"),IF(E7="Sì",IF(F7="","Data da inserire","Completo"),"Verificare conferma")))))))))))
A8: Invitato Fittizio 04 | B8: No | C8: No | G8: Responsabile Fittizio A | H8: =IF(A8="",IF(COUNTA(B8:G8)=0,"","Invitato da inserire"),IF(B8="","Conferma invitato da registrare",IF(C8="","Autorizzazione da indicare",IF(C8="No",IF(OR(D8<>"",E8<>"",F8<>""),"Verificare dati accompagnatore","Non previsto"),IF(C8<>"Sì","Verificare autorizzazione",IF(D8="","Nome da inserire",IF(AND(E8="Sì",B8<>"Sì"),"Verificare conferme",IF(E8="","Conferma da registrare",IF(E8="In attesa",IF(F8<>"","Verificare data","In attesa"),IF(E8="No",IF(F8<>"","Verificare data","Non partecipa"),IF(E8="Sì",IF(F8="","Data da inserire","Completo"),"Verificare conferma")))))))))))
A9: Invitato Fittizio 05 | B9: Sì | C9: No | G9: Responsabile Fittizio D | H9: =IF(A9="",IF(COUNTA(B9:G9)=0,"","Invitato da inserire"),IF(B9="","Conferma invitato da registrare",IF(C9="","Autorizzazione da indicare",IF(C9="No",IF(OR(D9<>"",E9<>"",F9<>""),"Verificare dati accompagnatore","Non previsto"),IF(C9<>"Sì","Verificare autorizzazione",IF(D9="","Nome da inserire",IF(AND(E9="Sì",B9<>"Sì"),"Verificare conferme",IF(E9="","Conferma da registrare",IF(E9="In attesa",IF(F9<>"","Verificare data","In attesa"),IF(E9="No",IF(F9<>"","Verificare data","Non partecipa"),IF(E9="Sì",IF(F9="","Data da inserire","Completo"),"Verificare conferma")))))))))))
A10: Invitato Fittizio 06 | B10: Sì | C10: Sì | D10: Accompagnatore Fittizio 06 | E10: No | G10: Responsabile Fittizio B | H10: =IF(A10="",IF(COUNTA(B10:G10)=0,"","Invitato da inserire"),IF(B10="","Conferma invitato da registrare",IF(C10="","Autorizzazione da indicare",IF(C10="No",IF(OR(D10<>"",E10<>"",F10<>""),"Verificare dati accompagnatore","Non previsto"),IF(C10<>"Sì","Verificare autorizzazione",IF(D10="","Nome da inserire",IF(AND(E10="Sì",B10<>"Sì"),"Verificare conferme",IF(E10="","Conferma da registrare",IF(E10="In attesa",IF(F10<>"","Verificare data","In attesa"),IF(E10="No",IF(F10<>"","Verificare data","Non partecipa"),IF(E10="Sì",IF(F10="","Data da inserire","Completo"),"Verificare conferma")))))))))))
A11: Invitato Fittizio 07 | B11: In attesa | C11: Sì | D11: Accompagnatore Fittizio 07 | E11: Sì | F11: 46273 | G11: Responsabile Fittizio C | H11: =IF(A11="",IF(COUNTA(B11:G11)=0,"","Invitato da inserire"),IF(B11="","Conferma invitato da registrare",IF(C11="","Autorizzazione da indicare",IF(C11="No",IF(OR(D11<>"",E11<>"",F11<>""),"Verificare dati accompagnatore","Non previsto"),IF(C11<>"Sì","Verificare autorizzazione",IF(D11="","Nome da inserire",IF(AND(E11="Sì",B11<>"Sì"),"Verificare conferme",IF(E11="","Conferma da registrare",IF(E11="In attesa",IF(F11<>"","Verificare data","In attesa"),IF(E11="No",IF(F11<>"","Verificare data","Non partecipa"),IF(E11="Sì",IF(F11="","Data da inserire","Completo"),"Verificare conferma")))))))))))
A12: Invitato Fittizio 08 | B12: Sì | C12: No | D12: Accompagnatore Fittizio 08 | E12: In attesa | F12: 46274 | G12: Responsabile Fittizio D | H12: =IF(A12="",IF(COUNTA(B12:G12)=0,"","Invitato da inserire"),IF(B12="","Conferma invitato da registrare",IF(C12="","Autorizzazione da indicare",IF(C12="No",IF(OR(D12<>"",E12<>"",F12<>""),"Verificare dati accompagnatore","Non previsto"),IF(C12<>"Sì","Verificare autorizzazione",IF(D12="","Nome da inserire",IF(AND(E12="Sì",B12<>"Sì"),"Verificare conferme",IF(E12="","Conferma da registrare",IF(E12="In attesa",IF(F12<>"","Verificare data","In attesa"),IF(E12="No",IF(F12<>"","Verificare data","Non partecipa"),IF(E12="Sì",IF(F12="","Data da inserire","Completo"),"Verificare conferma")))))))))))
A13: Invitato Fittizio 09 | B13: Sì | C13: Sì | D13: Accompagnatore Fittizio 09 | E13: Sì | G13: Responsabile Fittizio A | H13: =IF(A13="",IF(COUNTA(B13:G13)=0,"","Invitato da inserire"),IF(B13="","Conferma invitato da registrare",IF(C13="","Autorizzazione da indicare",IF(C13="No",IF(OR(D13<>"",E13<>"",F13<>""),"Verificare dati accompagnatore","Non previsto"),IF(C13<>"Sì","Verificare autorizzazione",IF(D13="","Nome da inserire",IF(AND(E13="Sì",B13<>"Sì"),"Verificare conferme",IF(E13="","Conferma da registrare",IF(E13="In attesa",IF(F13<>"","Verificare data","In attesa"),IF(E13="No",IF(F13<>"","Verificare data","Non partecipa"),IF(E13="Sì",IF(F13="","Data da inserire","Completo"),"Verificare conferma")))))))))))
A14: Invitato Fittizio 10 | B14: Sì | G14: Responsabile Fittizio B | H14: =IF(A14="",IF(COUNTA(B14:G14)=0,"","Invitato da inserire"),IF(B14="","Conferma invitato da registrare",IF(C14="","Autorizzazione da indicare",IF(C14="No",IF(OR(D14<>"",E14<>"",F14<>""),"Verificare dati accompagnatore","Non previsto"),IF(C14<>"Sì","Verificare autorizzazione",IF(D14="","Nome da inserire",IF(AND(E14="Sì",B14<>"Sì"),"Verificare conferme",IF(E14="","Conferma da registrare",IF(E14="In attesa",IF(F14<>"","Verificare data","In attesa"),IF(E14="No",IF(F14<>"","Verificare data","Non partecipa"),IF(E14="Sì",IF(F14="","Data da inserire","Completo"),"Verificare conferma")))))))))))
H15: =IF(A15="",IF(COUNTA(B15:G15)=0,"","Invitato da inserire"),IF(B15="","Conferma invitato da registrare",IF(C15="","Autorizzazione da indicare",IF(C15="No",IF(OR(D15<>"",E15<>"",F15<>""),"Verificare dati accompagnatore","Non previsto"),IF(C15<>"Sì","Verificare autorizzazione",IF(D15="","Nome da inserire",IF(AND(E15="Sì",B15<>"Sì"),"Verificare conferme",IF(E15="","Conferma da registrare",IF(E15="In attesa",IF(F15<>"","Verificare data","In attesa"),IF(E15="No",IF(F15<>"","Verificare data","Non partecipa"),IF(E15="Sì",IF(F15="","Data da inserire","Completo"),"Verificare conferma")))))))))))
H16: =IF(A16="",IF(COUNTA(B16:G16)=0,"","Invitato da inserire"),IF(B16="","Conferma invitato da registrare",IF(C16="","Autorizzazione da indicare",IF(C16="No",IF(OR(D16<>"",E16<>"",F16<>""),"Verificare dati accompagnatore","Non previsto"),IF(C16<>"Sì","Verificare autorizzazione",IF(D16="","Nome da inserire",IF(AND(E16="Sì",B16<>"Sì"),"Verificare conferme",IF(E16="","Conferma da registrare",IF(E16="In attesa",IF(F16<>"","Verificare data","In attesa"),IF(E16="No",IF(F16<>"","Verificare data","Non partecipa"),IF(E16="Sì",IF(F16="","Data da inserire","Completo"),"Verificare conferma")))))))))))
H17: =IF(A17="",IF(COUNTA(B17:G17)=0,"","Invitato da inserire"),IF(B17="","Conferma invitato da registrare",IF(C17="","Autorizzazione da indicare",IF(C17="No",IF(OR(D17<>"",E17<>"",F17<>""),"Verificare dati accompagnatore","Non previsto"),IF(C17<>"Sì","Verificare autorizzazione",IF(D17="","Nome da inserire",IF(AND(E17="Sì",B17<>"Sì"),"Verificare conferme",IF(E17="","Conferma da registrare",IF(E17="In attesa",IF(F17<>"","Verificare data","In attesa"),IF(E17="No",IF(F17<>"","Verificare data","Non partecipa"),IF(E17="Sì",IF(F17="","Data da inserire","Completo"),"Verificare conferma")))))))))))
H18: =IF(A18="",IF(COUNTA(B18:G18)=0,"","Invitato da inserire"),IF(B18="","Conferma invitato da registrare",IF(C18="","Autorizzazione da indicare",IF(C18="No",IF(OR(D18<>"",E18<>"",F18<>""),"Verificare dati accompagnatore","Non previsto"),IF(C18<>"Sì","Verificare autorizzazione",IF(D18="","Nome da inserire",IF(AND(E18="Sì",B18<>"Sì"),"Verificare conferme",IF(E18="","Conferma da registrare",IF(E18="In attesa",IF(F18<>"","Verificare data","In attesa"),IF(E18="No",IF(F18<>"","Verificare data","Non partecipa"),IF(E18="Sì",IF(F18="","Data da inserire","Completo"),"Verificare conferma")))))))))))
H19: =IF(A19="",IF(COUNTA(B19:G19)=0,"","Invitato da inserire"),IF(B19="","Conferma invitato da registrare",IF(C19="","Autorizzazione da indicare",IF(C19="No",IF(OR(D19<>"",E19<>"",F19<>""),"Verificare dati accompagnatore","Non previsto"),IF(C19<>"Sì","Verificare autorizzazione",IF(D19="","Nome da inserire",IF(AND(E19="Sì",B19<>"Sì"),"Verificare conferme",IF(E19="","Conferma da registrare",IF(E19="In attesa",IF(F19<>"","Verificare data","In attesa"),IF(E19="No",IF(F19<>"","Verificare data","Non partecipa"),IF(E19="Sì",IF(F19="","Data da inserire","Completo"),"Verificare conferma")))))))))))
H20: =IF(A20="",IF(COUNTA(B20:G20)=0,"","Invitato da inserire"),IF(B20="","Conferma invitato da registrare",IF(C20="","Autorizzazione da indicare",IF(C20="No",IF(OR(D20<>"",E20<>"",F20<>""),"Verificare dati accompagnatore","Non previsto"),IF(C20<>"Sì","Verificare autorizzazione",IF(D20="","Nome da inserire",IF(AND(E20="Sì",B20<>"Sì"),"Verificare conferme",IF(E20="","Conferma da registrare",IF(E20="In attesa",IF(F20<>"","Verificare data","In attesa"),IF(E20="No",IF(F20<>"","Verificare data","Non partecipa"),IF(E20="Sì",IF(F20="","Data da inserire","Completo"),"Verificare conferma")))))))))))
H21: =IF(A21="",IF(COUNTA(B21:G21)=0,"","Invitato da inserire"),IF(B21="","Conferma invitato da registrare",IF(C21="","Autorizzazione da indicare",IF(C21="No",IF(OR(D21<>"",E21<>"",F21<>""),"Verificare dati accompagnatore","Non previsto"),IF(C21<>"Sì","Verificare autorizzazione",IF(D21="","Nome da inserire",IF(AND(E21="Sì",B21<>"Sì"),"Verificare conferme",IF(E21="","Conferma da registrare",IF(E21="In attesa",IF(F21<>"","Verificare data","In attesa"),IF(E21="No",IF(F21<>"","Verificare data","Non partecipa"),IF(E21="Sì",IF(F21="","Data da inserire","Completo"),"Verificare conferma")))))))))))
H22: =IF(A22="",IF(COUNTA(B22:G22)=0,"","Invitato da inserire"),IF(B22="","Conferma invitato da registrare",IF(C22="","Autorizzazione da indicare",IF(C22="No",IF(OR(D22<>"",E22<>"",F22<>""),"Verificare dati accompagnatore","Non previsto"),IF(C22<>"Sì","Verificare autorizzazione",IF(D22="","Nome da inserire",IF(AND(E22="Sì",B22<>"Sì"),"Verificare conferme",IF(E22="","Conferma da registrare",IF(E22="In attesa",IF(F22<>"","Verificare data","In attesa"),IF(E22="No",IF(F22<>"","Verificare data","Non partecipa"),IF(E22="Sì",IF(F22="","Data da inserire","Completo"),"Verificare conferma")))))))))))
H23: =IF(A23="",IF(COUNTA(B23:G23)=0,"","Invitato da inserire"),IF(B23="","Conferma invitato da registrare",IF(C23="","Autorizzazione da indicare",IF(C23="No",IF(OR(D23<>"",E23<>"",F23<>""),"Verificare dati accompagnatore","Non previsto"),IF(C23<>"Sì","Verificare autorizzazione",IF(D23="","Nome da inserire",IF(AND(E23="Sì",B23<>"Sì"),"Verificare conferme",IF(E23="","Conferma da registrare",IF(E23="In attesa",IF(F23<>"","Verificare data","In attesa"),IF(E23="No",IF(F23<>"","Verificare data","Non partecipa"),IF(E23="Sì",IF(F23="","Data da inserire","Completo"),"Verificare conferma")))))))))))
H24: =IF(A24="",IF(COUNTA(B24:G24)=0,"","Invitato da inserire"),IF(B24="","Conferma invitato da registrare",IF(C24="","Autorizzazione da indicare",IF(C24="No",IF(OR(D24<>"",E24<>"",F24<>""),"Verificare dati accompagnatore","Non previsto"),IF(C24<>"Sì","Verificare autorizzazione",IF(D24="","Nome da inserire",IF(AND(E24="Sì",B24<>"Sì"),"Verificare conferme",IF(E24="","Conferma da registrare",IF(E24="In attesa",IF(F24<>"","Verificare data","In attesa"),IF(E24="No",IF(F24<>"","Verificare data","Non partecipa"),IF(E24="Sì",IF(F24="","Data da inserire","Completo"),"Verificare conferma")))))))))))
H25: =IF(A25="",IF(COUNTA(B25:G25)=0,"","Invitato da inserire"),IF(B25="","Conferma invitato da registrare",IF(C25="","Autorizzazione da indicare",IF(C25="No",IF(OR(D25<>"",E25<>"",F25<>""),"Verificare dati accompagnatore","Non previsto"),IF(C25<>"Sì","Verificare autorizzazione",IF(D25="","Nome da inserire",IF(AND(E25="Sì",B25<>"Sì"),"Verificare conferme",IF(E25="","Conferma da registrare",IF(E25="In attesa",IF(F25<>"","Verificare data","In attesa"),IF(E25="No",IF(F25<>"","Verificare data","Non partecipa"),IF(E25="Sì",IF(F25="","Data da inserire","Completo"),"Verificare conferma")))))))))))
H26: =IF(A26="",IF(COUNTA(B26:G26)=0,"","Invitato da inserire"),IF(B26="","Conferma invitato da registrare",IF(C26="","Autorizzazione da indicare",IF(C26="No",IF(OR(D26<>"",E26<>"",F26<>""),"Verificare dati accompagnatore","Non previsto"),IF(C26<>"Sì","Verificare autorizzazione",IF(D26="","Nome da inserire",IF(AND(E26="Sì",B26<>"Sì"),"Verificare conferme",IF(E26="","Conferma da registrare",IF(E26="In attesa",IF(F26<>"","Verificare data","In attesa"),IF(E26="No",IF(F26<>"","Verificare data","Non partecipa"),IF(E26="Sì",IF(F26="","Data da inserire","Completo"),"Verificare conferma")))))))))))
... H104: =IF(A104="",IF(COUNTA(B104:G104)=0,"","Invitato da inserire"),IF(B104="","Conferma invitato da registrare",IF(C104="","Autorizzazione da indicare",IF(C104="No",IF(OR(D104<>"",E104<>"",F104<>""),"Verificare dati accompagnatore","Non previsto"),IF(C104<>"Sì","Verificare autorizzazione",IF(D104="","Nome da inserire",IF(AND(E104="Sì",B104<>"Sì"),"Verificare conferme",IF(E104="","Conferma da registrare",IF(E104="In attesa",IF(F104<>"","Verificare data","In attesa"),IF(E104="No",IF(F104<>"","Verificare data","Non partecipa"),IF(E104="Sì",IF(F104="","Data da inserire","Completo"),"Verificare conferma")))))))))))

Sheet Parametri
A1: Parametri e opzioni del registro
A2: Modificare responsabili e limiti; mantenere le opzioni di conferma e autorizzazione.
A4: Opzioni conferma | B4: Opzioni autorizzazione | C4: Responsabili | D4: Parametro | E4: Valore
A5: In attesa | B5: Sì | C5: Responsabile Fittizio A | D5: Data minima conferma | E5: 45911
A6: Sì | B6: No | C6: Responsabile Fittizio B | D6: Data nozze fittizia | E6: 46556
A7: No | C7: Responsabile Fittizio C | D7: Capienza indicativa accompagnatori (persone) | E7: 60
C8: Responsabile Fittizio D
