Workbook

Sheet Riepilogo
A1: Lista invitati matrimonio — riepilogo
A3: Indicatore | B3: Valore | D3: Esito conferma | E3: Numero inviti
A4: Inviti registrati | B4: =IF(COUNTIF(Invitati!$B$5:$B$104,"<>")=0,"",COUNTIF(Invitati!$B$5:$B$104,"<>")) | D4: =Parametri!$A$9 | E4: =IF($B$4="","",COUNTIF(Invitati!$D$5:$D$104,Parametri!$A$9))
A5: Persone invitate | B5: =IF($B$4="","",SUM(Invitati!$C$5:$C$104)) | D5: =Parametri!$A$10 | E5: =IF($B$4="","",COUNTIF(Invitati!$D$5:$D$104,Parametri!$A$10))
A6: Persone confermate | B6: =IF($B$4="","",SUM(Invitati!$E$5:$E$104)) | D6: =Parametri!$A$11 | E6: =IF($B$4="","",COUNTIF(Invitati!$D$5:$D$104,Parametri!$A$11))
A7: Persone ancora in attesa | B7: =IF($B$4="","",SUMIF(Invitati!$D$5:$D$104,Parametri!$A$9,Invitati!$C$5:$C$104))
A8: Persone su inviti declinati | B8: =IF($B$4="","",SUMIF(Invitati!$D$5:$D$104,Parametri!$A$11,Invitati!$C$5:$C$104))
A9: Tasso di risposta | B9: =IF($B$4="","",IFERROR((COUNTIF(Invitati!$D$5:$D$104,Parametri!$A$10)+COUNTIF(Invitati!$D$5:$D$104,Parametri!$A$11))/$B$4,""))
A10: Posti residui sulla capienza pianificata | B10: =IF($B$4="","",IFERROR(Parametri!$B$5-$B$6,""))
A11: Righe da verificare | B11: =IF($B$4="","",COUNTIF(Invitati!$K$5:$K$104,"?*")-COUNTIF(Invitati!$K$5:$K$104,"OK"))
A12: Ultima risposta registrata | B12: =IF(COUNT(Invitati!$G$5:$G$104)=0,"",MAX(Invitati!$G$5:$G$104))
A13: Confermati rispetto agli invitati | B13: =IF($B$4="","",IFERROR($B$6/$B$5,""))

Sheet Invitati
A1: Lista invitati matrimonio
A2: Compila le celle color crema. Gli avvisi richiedono sempre una verifica manuale. Gli esempi sono interamente fittizi.
A4: Nucleo | B4: Invitato / referente | C4: Quantità invitata | D4: Conferma | E4: Quantità confermata | F4: Data invito | G4: Data risposta | H4: Responsabile | I4: Stato invito | J4: Giorni al termine | K4: Controllo manuale
A5: Nucleo Dimostrativo Aurora | B5: Ospite Fittizio 001 | C5: 1 | D5: Confermato | E5: 1 | F5: 46236 | G5: 46256 | H5: Responsabile Fittizio A | I5: Chiuso | J5: =IF(B5="","",IF(D5<>Parametri!$A$9,"",IFERROR(Parametri!$B$4-TODAY(),""))) | K5: =IF(B5="","",IF(OR(C5="",NOT(ISNUMBER(C5))),"Inserire quantità invitata",IF(D5="","Selezionare conferma",IF(AND(D5=Parametri!$A$10,OR(E5="",NOT(ISNUMBER(E5)),E5<0,E5>C5)),"Verificare quantità confermata",IF(AND(D5=Parametri!$A$11,OR(E5="",NOT(ISNUMBER(E5)),E5<>0)),"Impostare confermati a 0",IF(AND(D5=Parametri!$A$9,E5<>""),"Lasciare vuota quantità confermata",IF(AND(D5=Parametri!$A$9,F5=""),"Registrare data invito",IF(AND(OR(D5=Parametri!$A$10,D5=Parametri!$A$11),G5=""),"Registrare data risposta",IF(AND(ISNUMBER(F5),ISNUMBER(G5),G5<F5),"Verificare ordine delle date",IF(AND(ISNUMBER(G5),G5>TODAY()),"Verificare data risposta",IF(AND(OR(D5=Parametri!$A$10,D5=Parametri!$A$11),I5<>Parametri!$C$12),"Allineare stato a Chiuso",IF(AND(D5=Parametri!$A$9,ISNUMBER(J5),J5<0),"Termine superato: verificare",IF(AND(D5=Parametri!$A$9,ISNUMBER(J5),J5>=0,J5<=Parametri!$B$6),"Valutare un sollecito","OK")))))))))))))
A6: Nucleo Dimostrativo Brina | B6: Ospite Fittizio 002 | C6: 2 | D6: In attesa | F6: 46246 | H6: Responsabile Fittizio B | I6: Consegnato | J6: =IF(B6="","",IF(D6<>Parametri!$A$9,"",IFERROR(Parametri!$B$4-TODAY(),""))) | K6: =IF(B6="","",IF(OR(C6="",NOT(ISNUMBER(C6))),"Inserire quantità invitata",IF(D6="","Selezionare conferma",IF(AND(D6=Parametri!$A$10,OR(E6="",NOT(ISNUMBER(E6)),E6<0,E6>C6)),"Verificare quantità confermata",IF(AND(D6=Parametri!$A$11,OR(E6="",NOT(ISNUMBER(E6)),E6<>0)),"Impostare confermati a 0",IF(AND(D6=Parametri!$A$9,E6<>""),"Lasciare vuota quantità confermata",IF(AND(D6=Parametri!$A$9,F6=""),"Registrare data invito",IF(AND(OR(D6=Parametri!$A$10,D6=Parametri!$A$11),G6=""),"Registrare data risposta",IF(AND(ISNUMBER(F6),ISNUMBER(G6),G6<F6),"Verificare ordine delle date",IF(AND(ISNUMBER(G6),G6>TODAY()),"Verificare data risposta",IF(AND(OR(D6=Parametri!$A$10,D6=Parametri!$A$11),I6<>Parametri!$C$12),"Allineare stato a Chiuso",IF(AND(D6=Parametri!$A$9,ISNUMBER(J6),J6<0),"Termine superato: verificare",IF(AND(D6=Parametri!$A$9,ISNUMBER(J6),J6>=0,J6<=Parametri!$B$6),"Valutare un sollecito","OK")))))))))))))
A7: Nucleo Dimostrativo Corallo | B7: Ospite Fittizio 003 | C7: 1 | D7: Declinato | E7: 0 | F7: 46248 | G7: 46264 | H7: Responsabile Fittizio C | I7: Chiuso | J7: =IF(B7="","",IF(D7<>Parametri!$A$9,"",IFERROR(Parametri!$B$4-TODAY(),""))) | K7: =IF(B7="","",IF(OR(C7="",NOT(ISNUMBER(C7))),"Inserire quantità invitata",IF(D7="","Selezionare conferma",IF(AND(D7=Parametri!$A$10,OR(E7="",NOT(ISNUMBER(E7)),E7<0,E7>C7)),"Verificare quantità confermata",IF(AND(D7=Parametri!$A$11,OR(E7="",NOT(ISNUMBER(E7)),E7<>0)),"Impostare confermati a 0",IF(AND(D7=Parametri!$A$9,E7<>""),"Lasciare vuota quantità confermata",IF(AND(D7=Parametri!$A$9,F7=""),"Registrare data invito",IF(AND(OR(D7=Parametri!$A$10,D7=Parametri!$A$11),G7=""),"Registrare data risposta",IF(AND(ISNUMBER(F7),ISNUMBER(G7),G7<F7),"Verificare ordine delle date",IF(AND(ISNUMBER(G7),G7>TODAY()),"Verificare data risposta",IF(AND(OR(D7=Parametri!$A$10,D7=Parametri!$A$11),I7<>Parametri!$C$12),"Allineare stato a Chiuso",IF(AND(D7=Parametri!$A$9,ISNUMBER(J7),J7<0),"Termine superato: verificare",IF(AND(D7=Parametri!$A$9,ISNUMBER(J7),J7>=0,J7<=Parametri!$B$6),"Valutare un sollecito","OK")))))))))))))
A8: Nucleo Dimostrativo Dalia | B8: Ospite Fittizio 004 | C8: 3 | D8: Confermato | E8: 2 | F8: 46250 | G8: 46267 | H8: Responsabile Fittizio A | I8: Chiuso | J8: =IF(B8="","",IF(D8<>Parametri!$A$9,"",IFERROR(Parametri!$B$4-TODAY(),""))) | K8: =IF(B8="","",IF(OR(C8="",NOT(ISNUMBER(C8))),"Inserire quantità invitata",IF(D8="","Selezionare conferma",IF(AND(D8=Parametri!$A$10,OR(E8="",NOT(ISNUMBER(E8)),E8<0,E8>C8)),"Verificare quantità confermata",IF(AND(D8=Parametri!$A$11,OR(E8="",NOT(ISNUMBER(E8)),E8<>0)),"Impostare confermati a 0",IF(AND(D8=Parametri!$A$9,E8<>""),"Lasciare vuota quantità confermata",IF(AND(D8=Parametri!$A$9,F8=""),"Registrare data invito",IF(AND(OR(D8=Parametri!$A$10,D8=Parametri!$A$11),G8=""),"Registrare data risposta",IF(AND(ISNUMBER(F8),ISNUMBER(G8),G8<F8),"Verificare ordine delle date",IF(AND(ISNUMBER(G8),G8>TODAY()),"Verificare data risposta",IF(AND(OR(D8=Parametri!$A$10,D8=Parametri!$A$11),I8<>Parametri!$C$12),"Allineare stato a Chiuso",IF(AND(D8=Parametri!$A$9,ISNUMBER(J8),J8<0),"Termine superato: verificare",IF(AND(D8=Parametri!$A$9,ISNUMBER(J8),J8>=0,J8<=Parametri!$B$6),"Valutare un sollecito","OK")))))))))))))
A9: Nucleo Dimostrativo Edera | B9: Ospite Fittizio 005 | C9: 2 | D9: In attesa | F9: 46254 | H9: Responsabile Fittizio B | I9: Consegnato | J9: =IF(B9="","",IF(D9<>Parametri!$A$9,"",IFERROR(Parametri!$B$4-TODAY(),""))) | K9: =IF(B9="","",IF(OR(C9="",NOT(ISNUMBER(C9))),"Inserire quantità invitata",IF(D9="","Selezionare conferma",IF(AND(D9=Parametri!$A$10,OR(E9="",NOT(ISNUMBER(E9)),E9<0,E9>C9)),"Verificare quantità confermata",IF(AND(D9=Parametri!$A$11,OR(E9="",NOT(ISNUMBER(E9)),E9<>0)),"Impostare confermati a 0",IF(AND(D9=Parametri!$A$9,E9<>""),"Lasciare vuota quantità confermata",IF(AND(D9=Parametri!$A$9,F9=""),"Registrare data invito",IF(AND(OR(D9=Parametri!$A$10,D9=Parametri!$A$11),G9=""),"Registrare data risposta",IF(AND(ISNUMBER(F9),ISNUMBER(G9),G9<F9),"Verificare ordine delle date",IF(AND(ISNUMBER(G9),G9>TODAY()),"Verificare data risposta",IF(AND(OR(D9=Parametri!$A$10,D9=Parametri!$A$11),I9<>Parametri!$C$12),"Allineare stato a Chiuso",IF(AND(D9=Parametri!$A$9,ISNUMBER(J9),J9<0),"Termine superato: verificare",IF(AND(D9=Parametri!$A$9,ISNUMBER(J9),J9>=0,J9<=Parametri!$B$6),"Valutare un sollecito","OK")))))))))))))
A10: Nucleo Dimostrativo Fiordaliso | B10: Ospite Fittizio 006 | C10: 4 | D10: Confermato | E10: 4 | F10: 46252 | G10: 46268 | H10: Responsabile Fittizio C | I10: Chiuso | J10: =IF(B10="","",IF(D10<>Parametri!$A$9,"",IFERROR(Parametri!$B$4-TODAY(),""))) | K10: =IF(B10="","",IF(OR(C10="",NOT(ISNUMBER(C10))),"Inserire quantità invitata",IF(D10="","Selezionare conferma",IF(AND(D10=Parametri!$A$10,OR(E10="",NOT(ISNUMBER(E10)),E10<0,E10>C10)),"Verificare quantità confermata",IF(AND(D10=Parametri!$A$11,OR(E10="",NOT(ISNUMBER(E10)),E10<>0)),"Impostare confermati a 0",IF(AND(D10=Parametri!$A$9,E10<>""),"Lasciare vuota quantità confermata",IF(AND(D10=Parametri!$A$9,F10=""),"Registrare data invito",IF(AND(OR(D10=Parametri!$A$10,D10=Parametri!$A$11),G10=""),"Registrare data risposta",IF(AND(ISNUMBER(F10),ISNUMBER(G10),G10<F10),"Verificare ordine delle date",IF(AND(ISNUMBER(G10),G10>TODAY()),"Verificare data risposta",IF(AND(OR(D10=Parametri!$A$10,D10=Parametri!$A$11),I10<>Parametri!$C$12),"Allineare stato a Chiuso",IF(AND(D10=Parametri!$A$9,ISNUMBER(J10),J10<0),"Termine superato: verificare",IF(AND(D10=Parametri!$A$9,ISNUMBER(J10),J10>=0,J10<=Parametri!$B$6),"Valutare un sollecito","OK")))))))))))))
A11: Nucleo Dimostrativo Ginestra | B11: Ospite Fittizio 007 | C11: 1 | D11: In attesa | H11: Responsabile Fittizio A | I11: Da preparare | J11: =IF(B11="","",IF(D11<>Parametri!$A$9,"",IFERROR(Parametri!$B$4-TODAY(),""))) | K11: =IF(B11="","",IF(OR(C11="",NOT(ISNUMBER(C11))),"Inserire quantità invitata",IF(D11="","Selezionare conferma",IF(AND(D11=Parametri!$A$10,OR(E11="",NOT(ISNUMBER(E11)),E11<0,E11>C11)),"Verificare quantità confermata",IF(AND(D11=Parametri!$A$11,OR(E11="",NOT(ISNUMBER(E11)),E11<>0)),"Impostare confermati a 0",IF(AND(D11=Parametri!$A$9,E11<>""),"Lasciare vuota quantità confermata",IF(AND(D11=Parametri!$A$9,F11=""),"Registrare data invito",IF(AND(OR(D11=Parametri!$A$10,D11=Parametri!$A$11),G11=""),"Registrare data risposta",IF(AND(ISNUMBER(F11),ISNUMBER(G11),G11<F11),"Verificare ordine delle date",IF(AND(ISNUMBER(G11),G11>TODAY()),"Verificare data risposta",IF(AND(OR(D11=Parametri!$A$10,D11=Parametri!$A$11),I11<>Parametri!$C$12),"Allineare stato a Chiuso",IF(AND(D11=Parametri!$A$9,ISNUMBER(J11),J11<0),"Termine superato: verificare",IF(AND(D11=Parametri!$A$9,ISNUMBER(J11),J11>=0,J11<=Parametri!$B$6),"Valutare un sollecito","OK")))))))))))))
A12: Nucleo Dimostrativo Iris | B12: Ospite Fittizio 008 | C12: 2 | D12: Declinato | E12: 0 | F12: 46258 | G12: 46273 | H12: Responsabile Fittizio B | I12: Chiuso | J12: =IF(B12="","",IF(D12<>Parametri!$A$9,"",IFERROR(Parametri!$B$4-TODAY(),""))) | K12: =IF(B12="","",IF(OR(C12="",NOT(ISNUMBER(C12))),"Inserire quantità invitata",IF(D12="","Selezionare conferma",IF(AND(D12=Parametri!$A$10,OR(E12="",NOT(ISNUMBER(E12)),E12<0,E12>C12)),"Verificare quantità confermata",IF(AND(D12=Parametri!$A$11,OR(E12="",NOT(ISNUMBER(E12)),E12<>0)),"Impostare confermati a 0",IF(AND(D12=Parametri!$A$9,E12<>""),"Lasciare vuota quantità confermata",IF(AND(D12=Parametri!$A$9,F12=""),"Registrare data invito",IF(AND(OR(D12=Parametri!$A$10,D12=Parametri!$A$11),G12=""),"Registrare data risposta",IF(AND(ISNUMBER(F12),ISNUMBER(G12),G12<F12),"Verificare ordine delle date",IF(AND(ISNUMBER(G12),G12>TODAY()),"Verificare data risposta",IF(AND(OR(D12=Parametri!$A$10,D12=Parametri!$A$11),I12<>Parametri!$C$12),"Allineare stato a Chiuso",IF(AND(D12=Parametri!$A$9,ISNUMBER(J12),J12<0),"Termine superato: verificare",IF(AND(D12=Parametri!$A$9,ISNUMBER(J12),J12>=0,J12<=Parametri!$B$6),"Valutare un sollecito","OK")))))))))))))
A13: Nucleo Dimostrativo Lavanda | B13: Ospite Fittizio 009 | C13: 1 | D13: Confermato | E13: 1 | F13: 46260 | G13: 46275 | H13: Responsabile Fittizio C | I13: Chiuso | J13: =IF(B13="","",IF(D13<>Parametri!$A$9,"",IFERROR(Parametri!$B$4-TODAY(),""))) | K13: =IF(B13="","",IF(OR(C13="",NOT(ISNUMBER(C13))),"Inserire quantità invitata",IF(D13="","Selezionare conferma",IF(AND(D13=Parametri!$A$10,OR(E13="",NOT(ISNUMBER(E13)),E13<0,E13>C13)),"Verificare quantità confermata",IF(AND(D13=Parametri!$A$11,OR(E13="",NOT(ISNUMBER(E13)),E13<>0)),"Impostare confermati a 0",IF(AND(D13=Parametri!$A$9,E13<>""),"Lasciare vuota quantità confermata",IF(AND(D13=Parametri!$A$9,F13=""),"Registrare data invito",IF(AND(OR(D13=Parametri!$A$10,D13=Parametri!$A$11),G13=""),"Registrare data risposta",IF(AND(ISNUMBER(F13),ISNUMBER(G13),G13<F13),"Verificare ordine delle date",IF(AND(ISNUMBER(G13),G13>TODAY()),"Verificare data risposta",IF(AND(OR(D13=Parametri!$A$10,D13=Parametri!$A$11),I13<>Parametri!$C$12),"Allineare stato a Chiuso",IF(AND(D13=Parametri!$A$9,ISNUMBER(J13),J13<0),"Termine superato: verificare",IF(AND(D13=Parametri!$A$9,ISNUMBER(J13),J13>=0,J13<=Parametri!$B$6),"Valutare un sollecito","OK")))))))))))))
A14: Nucleo Dimostrativo Mimosa | B14: Ospite Fittizio 010 | C14: 3 | D14: In attesa | F14: 46264 | H14: Responsabile Fittizio A | I14: Consegnato | J14: =IF(B14="","",IF(D14<>Parametri!$A$9,"",IFERROR(Parametri!$B$4-TODAY(),""))) | K14: =IF(B14="","",IF(OR(C14="",NOT(ISNUMBER(C14))),"Inserire quantità invitata",IF(D14="","Selezionare conferma",IF(AND(D14=Parametri!$A$10,OR(E14="",NOT(ISNUMBER(E14)),E14<0,E14>C14)),"Verificare quantità confermata",IF(AND(D14=Parametri!$A$11,OR(E14="",NOT(ISNUMBER(E14)),E14<>0)),"Impostare confermati a 0",IF(AND(D14=Parametri!$A$9,E14<>""),"Lasciare vuota quantità confermata",IF(AND(D14=Parametri!$A$9,F14=""),"Registrare data invito",IF(AND(OR(D14=Parametri!$A$10,D14=Parametri!$A$11),G14=""),"Registrare data risposta",IF(AND(ISNUMBER(F14),ISNUMBER(G14),G14<F14),"Verificare ordine delle date",IF(AND(ISNUMBER(G14),G14>TODAY()),"Verificare data risposta",IF(AND(OR(D14=Parametri!$A$10,D14=Parametri!$A$11),I14<>Parametri!$C$12),"Allineare stato a Chiuso",IF(AND(D14=Parametri!$A$9,ISNUMBER(J14),J14<0),"Termine superato: verificare",IF(AND(D14=Parametri!$A$9,ISNUMBER(J14),J14>=0,J14<=Parametri!$B$6),"Valutare un sollecito","OK")))))))))))))
J15: =IF(B15="","",IF(D15<>Parametri!$A$9,"",IFERROR(Parametri!$B$4-TODAY(),""))) | K15: =IF(B15="","",IF(OR(C15="",NOT(ISNUMBER(C15))),"Inserire quantità invitata",IF(D15="","Selezionare conferma",IF(AND(D15=Parametri!$A$10,OR(E15="",NOT(ISNUMBER(E15)),E15<0,E15>C15)),"Verificare quantità confermata",IF(AND(D15=Parametri!$A$11,OR(E15="",NOT(ISNUMBER(E15)),E15<>0)),"Impostare confermati a 0",IF(AND(D15=Parametri!$A$9,E15<>""),"Lasciare vuota quantità confermata",IF(AND(D15=Parametri!$A$9,F15=""),"Registrare data invito",IF(AND(OR(D15=Parametri!$A$10,D15=Parametri!$A$11),G15=""),"Registrare data risposta",IF(AND(ISNUMBER(F15),ISNUMBER(G15),G15<F15),"Verificare ordine delle date",IF(AND(ISNUMBER(G15),G15>TODAY()),"Verificare data risposta",IF(AND(OR(D15=Parametri!$A$10,D15=Parametri!$A$11),I15<>Parametri!$C$12),"Allineare stato a Chiuso",IF(AND(D15=Parametri!$A$9,ISNUMBER(J15),J15<0),"Termine superato: verificare",IF(AND(D15=Parametri!$A$9,ISNUMBER(J15),J15>=0,J15<=Parametri!$B$6),"Valutare un sollecito","OK")))))))))))))
J16: =IF(B16="","",IF(D16<>Parametri!$A$9,"",IFERROR(Parametri!$B$4-TODAY(),""))) | K16: =IF(B16="","",IF(OR(C16="",NOT(ISNUMBER(C16))),"Inserire quantità invitata",IF(D16="","Selezionare conferma",IF(AND(D16=Parametri!$A$10,OR(E16="",NOT(ISNUMBER(E16)),E16<0,E16>C16)),"Verificare quantità confermata",IF(AND(D16=Parametri!$A$11,OR(E16="",NOT(ISNUMBER(E16)),E16<>0)),"Impostare confermati a 0",IF(AND(D16=Parametri!$A$9,E16<>""),"Lasciare vuota quantità confermata",IF(AND(D16=Parametri!$A$9,F16=""),"Registrare data invito",IF(AND(OR(D16=Parametri!$A$10,D16=Parametri!$A$11),G16=""),"Registrare data risposta",IF(AND(ISNUMBER(F16),ISNUMBER(G16),G16<F16),"Verificare ordine delle date",IF(AND(ISNUMBER(G16),G16>TODAY()),"Verificare data risposta",IF(AND(OR(D16=Parametri!$A$10,D16=Parametri!$A$11),I16<>Parametri!$C$12),"Allineare stato a Chiuso",IF(AND(D16=Parametri!$A$9,ISNUMBER(J16),J16<0),"Termine superato: verificare",IF(AND(D16=Parametri!$A$9,ISNUMBER(J16),J16>=0,J16<=Parametri!$B$6),"Valutare un sollecito","OK")))))))))))))
J17: =IF(B17="","",IF(D17<>Parametri!$A$9,"",IFERROR(Parametri!$B$4-TODAY(),""))) | K17: =IF(B17="","",IF(OR(C17="",NOT(ISNUMBER(C17))),"Inserire quantità invitata",IF(D17="","Selezionare conferma",IF(AND(D17=Parametri!$A$10,OR(E17="",NOT(ISNUMBER(E17)),E17<0,E17>C17)),"Verificare quantità confermata",IF(AND(D17=Parametri!$A$11,OR(E17="",NOT(ISNUMBER(E17)),E17<>0)),"Impostare confermati a 0",IF(AND(D17=Parametri!$A$9,E17<>""),"Lasciare vuota quantità confermata",IF(AND(D17=Parametri!$A$9,F17=""),"Registrare data invito",IF(AND(OR(D17=Parametri!$A$10,D17=Parametri!$A$11),G17=""),"Registrare data risposta",IF(AND(ISNUMBER(F17),ISNUMBER(G17),G17<F17),"Verificare ordine delle date",IF(AND(ISNUMBER(G17),G17>TODAY()),"Verificare data risposta",IF(AND(OR(D17=Parametri!$A$10,D17=Parametri!$A$11),I17<>Parametri!$C$12),"Allineare stato a Chiuso",IF(AND(D17=Parametri!$A$9,ISNUMBER(J17),J17<0),"Termine superato: verificare",IF(AND(D17=Parametri!$A$9,ISNUMBER(J17),J17>=0,J17<=Parametri!$B$6),"Valutare un sollecito","OK")))))))))))))
J18: =IF(B18="","",IF(D18<>Parametri!$A$9,"",IFERROR(Parametri!$B$4-TODAY(),""))) | K18: =IF(B18="","",IF(OR(C18="",NOT(ISNUMBER(C18))),"Inserire quantità invitata",IF(D18="","Selezionare conferma",IF(AND(D18=Parametri!$A$10,OR(E18="",NOT(ISNUMBER(E18)),E18<0,E18>C18)),"Verificare quantità confermata",IF(AND(D18=Parametri!$A$11,OR(E18="",NOT(ISNUMBER(E18)),E18<>0)),"Impostare confermati a 0",IF(AND(D18=Parametri!$A$9,E18<>""),"Lasciare vuota quantità confermata",IF(AND(D18=Parametri!$A$9,F18=""),"Registrare data invito",IF(AND(OR(D18=Parametri!$A$10,D18=Parametri!$A$11),G18=""),"Registrare data risposta",IF(AND(ISNUMBER(F18),ISNUMBER(G18),G18<F18),"Verificare ordine delle date",IF(AND(ISNUMBER(G18),G18>TODAY()),"Verificare data risposta",IF(AND(OR(D18=Parametri!$A$10,D18=Parametri!$A$11),I18<>Parametri!$C$12),"Allineare stato a Chiuso",IF(AND(D18=Parametri!$A$9,ISNUMBER(J18),J18<0),"Termine superato: verificare",IF(AND(D18=Parametri!$A$9,ISNUMBER(J18),J18>=0,J18<=Parametri!$B$6),"Valutare un sollecito","OK")))))))))))))
J19: =IF(B19="","",IF(D19<>Parametri!$A$9,"",IFERROR(Parametri!$B$4-TODAY(),""))) | K19: =IF(B19="","",IF(OR(C19="",NOT(ISNUMBER(C19))),"Inserire quantità invitata",IF(D19="","Selezionare conferma",IF(AND(D19=Parametri!$A$10,OR(E19="",NOT(ISNUMBER(E19)),E19<0,E19>C19)),"Verificare quantità confermata",IF(AND(D19=Parametri!$A$11,OR(E19="",NOT(ISNUMBER(E19)),E19<>0)),"Impostare confermati a 0",IF(AND(D19=Parametri!$A$9,E19<>""),"Lasciare vuota quantità confermata",IF(AND(D19=Parametri!$A$9,F19=""),"Registrare data invito",IF(AND(OR(D19=Parametri!$A$10,D19=Parametri!$A$11),G19=""),"Registrare data risposta",IF(AND(ISNUMBER(F19),ISNUMBER(G19),G19<F19),"Verificare ordine delle date",IF(AND(ISNUMBER(G19),G19>TODAY()),"Verificare data risposta",IF(AND(OR(D19=Parametri!$A$10,D19=Parametri!$A$11),I19<>Parametri!$C$12),"Allineare stato a Chiuso",IF(AND(D19=Parametri!$A$9,ISNUMBER(J19),J19<0),"Termine superato: verificare",IF(AND(D19=Parametri!$A$9,ISNUMBER(J19),J19>=0,J19<=Parametri!$B$6),"Valutare un sollecito","OK")))))))))))))
J20: =IF(B20="","",IF(D20<>Parametri!$A$9,"",IFERROR(Parametri!$B$4-TODAY(),""))) | K20: =IF(B20="","",IF(OR(C20="",NOT(ISNUMBER(C20))),"Inserire quantità invitata",IF(D20="","Selezionare conferma",IF(AND(D20=Parametri!$A$10,OR(E20="",NOT(ISNUMBER(E20)),E20<0,E20>C20)),"Verificare quantità confermata",IF(AND(D20=Parametri!$A$11,OR(E20="",NOT(ISNUMBER(E20)),E20<>0)),"Impostare confermati a 0",IF(AND(D20=Parametri!$A$9,E20<>""),"Lasciare vuota quantità confermata",IF(AND(D20=Parametri!$A$9,F20=""),"Registrare data invito",IF(AND(OR(D20=Parametri!$A$10,D20=Parametri!$A$11),G20=""),"Registrare data risposta",IF(AND(ISNUMBER(F20),ISNUMBER(G20),G20<F20),"Verificare ordine delle date",IF(AND(ISNUMBER(G20),G20>TODAY()),"Verificare data risposta",IF(AND(OR(D20=Parametri!$A$10,D20=Parametri!$A$11),I20<>Parametri!$C$12),"Allineare stato a Chiuso",IF(AND(D20=Parametri!$A$9,ISNUMBER(J20),J20<0),"Termine superato: verificare",IF(AND(D20=Parametri!$A$9,ISNUMBER(J20),J20>=0,J20<=Parametri!$B$6),"Valutare un sollecito","OK")))))))))))))
J21: =IF(B21="","",IF(D21<>Parametri!$A$9,"",IFERROR(Parametri!$B$4-TODAY(),""))) | K21: =IF(B21="","",IF(OR(C21="",NOT(ISNUMBER(C21))),"Inserire quantità invitata",IF(D21="","Selezionare conferma",IF(AND(D21=Parametri!$A$10,OR(E21="",NOT(ISNUMBER(E21)),E21<0,E21>C21)),"Verificare quantità confermata",IF(AND(D21=Parametri!$A$11,OR(E21="",NOT(ISNUMBER(E21)),E21<>0)),"Impostare confermati a 0",IF(AND(D21=Parametri!$A$9,E21<>""),"Lasciare vuota quantità confermata",IF(AND(D21=Parametri!$A$9,F21=""),"Registrare data invito",IF(AND(OR(D21=Parametri!$A$10,D21=Parametri!$A$11),G21=""),"Registrare data risposta",IF(AND(ISNUMBER(F21),ISNUMBER(G21),G21<F21),"Verificare ordine delle date",IF(AND(ISNUMBER(G21),G21>TODAY()),"Verificare data risposta",IF(AND(OR(D21=Parametri!$A$10,D21=Parametri!$A$11),I21<>Parametri!$C$12),"Allineare stato a Chiuso",IF(AND(D21=Parametri!$A$9,ISNUMBER(J21),J21<0),"Termine superato: verificare",IF(AND(D21=Parametri!$A$9,ISNUMBER(J21),J21>=0,J21<=Parametri!$B$6),"Valutare un sollecito","OK")))))))))))))
J22: =IF(B22="","",IF(D22<>Parametri!$A$9,"",IFERROR(Parametri!$B$4-TODAY(),""))) | K22: =IF(B22="","",IF(OR(C22="",NOT(ISNUMBER(C22))),"Inserire quantità invitata",IF(D22="","Selezionare conferma",IF(AND(D22=Parametri!$A$10,OR(E22="",NOT(ISNUMBER(E22)),E22<0,E22>C22)),"Verificare quantità confermata",IF(AND(D22=Parametri!$A$11,OR(E22="",NOT(ISNUMBER(E22)),E22<>0)),"Impostare confermati a 0",IF(AND(D22=Parametri!$A$9,E22<>""),"Lasciare vuota quantità confermata",IF(AND(D22=Parametri!$A$9,F22=""),"Registrare data invito",IF(AND(OR(D22=Parametri!$A$10,D22=Parametri!$A$11),G22=""),"Registrare data risposta",IF(AND(ISNUMBER(F22),ISNUMBER(G22),G22<F22),"Verificare ordine delle date",IF(AND(ISNUMBER(G22),G22>TODAY()),"Verificare data risposta",IF(AND(OR(D22=Parametri!$A$10,D22=Parametri!$A$11),I22<>Parametri!$C$12),"Allineare stato a Chiuso",IF(AND(D22=Parametri!$A$9,ISNUMBER(J22),J22<0),"Termine superato: verificare",IF(AND(D22=Parametri!$A$9,ISNUMBER(J22),J22>=0,J22<=Parametri!$B$6),"Valutare un sollecito","OK")))))))))))))
J23: =IF(B23="","",IF(D23<>Parametri!$A$9,"",IFERROR(Parametri!$B$4-TODAY(),""))) | K23: =IF(B23="","",IF(OR(C23="",NOT(ISNUMBER(C23))),"Inserire quantità invitata",IF(D23="","Selezionare conferma",IF(AND(D23=Parametri!$A$10,OR(E23="",NOT(ISNUMBER(E23)),E23<0,E23>C23)),"Verificare quantità confermata",IF(AND(D23=Parametri!$A$11,OR(E23="",NOT(ISNUMBER(E23)),E23<>0)),"Impostare confermati a 0",IF(AND(D23=Parametri!$A$9,E23<>""),"Lasciare vuota quantità confermata",IF(AND(D23=Parametri!$A$9,F23=""),"Registrare data invito",IF(AND(OR(D23=Parametri!$A$10,D23=Parametri!$A$11),G23=""),"Registrare data risposta",IF(AND(ISNUMBER(F23),ISNUMBER(G23),G23<F23),"Verificare ordine delle date",IF(AND(ISNUMBER(G23),G23>TODAY()),"Verificare data risposta",IF(AND(OR(D23=Parametri!$A$10,D23=Parametri!$A$11),I23<>Parametri!$C$12),"Allineare stato a Chiuso",IF(AND(D23=Parametri!$A$9,ISNUMBER(J23),J23<0),"Termine superato: verificare",IF(AND(D23=Parametri!$A$9,ISNUMBER(J23),J23>=0,J23<=Parametri!$B$6),"Valutare un sollecito","OK")))))))))))))
J24: =IF(B24="","",IF(D24<>Parametri!$A$9,"",IFERROR(Parametri!$B$4-TODAY(),""))) | K24: =IF(B24="","",IF(OR(C24="",NOT(ISNUMBER(C24))),"Inserire quantità invitata",IF(D24="","Selezionare conferma",IF(AND(D24=Parametri!$A$10,OR(E24="",NOT(ISNUMBER(E24)),E24<0,E24>C24)),"Verificare quantità confermata",IF(AND(D24=Parametri!$A$11,OR(E24="",NOT(ISNUMBER(E24)),E24<>0)),"Impostare confermati a 0",IF(AND(D24=Parametri!$A$9,E24<>""),"Lasciare vuota quantità confermata",IF(AND(D24=Parametri!$A$9,F24=""),"Registrare data invito",IF(AND(OR(D24=Parametri!$A$10,D24=Parametri!$A$11),G24=""),"Registrare data risposta",IF(AND(ISNUMBER(F24),ISNUMBER(G24),G24<F24),"Verificare ordine delle date",IF(AND(ISNUMBER(G24),G24>TODAY()),"Verificare data risposta",IF(AND(OR(D24=Parametri!$A$10,D24=Parametri!$A$11),I24<>Parametri!$C$12),"Allineare stato a Chiuso",IF(AND(D24=Parametri!$A$9,ISNUMBER(J24),J24<0),"Termine superato: verificare",IF(AND(D24=Parametri!$A$9,ISNUMBER(J24),J24>=0,J24<=Parametri!$B$6),"Valutare un sollecito","OK")))))))))))))
J25: =IF(B25="","",IF(D25<>Parametri!$A$9,"",IFERROR(Parametri!$B$4-TODAY(),""))) | K25: =IF(B25="","",IF(OR(C25="",NOT(ISNUMBER(C25))),"Inserire quantità invitata",IF(D25="","Selezionare conferma",IF(AND(D25=Parametri!$A$10,OR(E25="",NOT(ISNUMBER(E25)),E25<0,E25>C25)),"Verificare quantità confermata",IF(AND(D25=Parametri!$A$11,OR(E25="",NOT(ISNUMBER(E25)),E25<>0)),"Impostare confermati a 0",IF(AND(D25=Parametri!$A$9,E25<>""),"Lasciare vuota quantità confermata",IF(AND(D25=Parametri!$A$9,F25=""),"Registrare data invito",IF(AND(OR(D25=Parametri!$A$10,D25=Parametri!$A$11),G25=""),"Registrare data risposta",IF(AND(ISNUMBER(F25),ISNUMBER(G25),G25<F25),"Verificare ordine delle date",IF(AND(ISNUMBER(G25),G25>TODAY()),"Verificare data risposta",IF(AND(OR(D25=Parametri!$A$10,D25=Parametri!$A$11),I25<>Parametri!$C$12),"Allineare stato a Chiuso",IF(AND(D25=Parametri!$A$9,ISNUMBER(J25),J25<0),"Termine superato: verificare",IF(AND(D25=Parametri!$A$9,ISNUMBER(J25),J25>=0,J25<=Parametri!$B$6),"Valutare un sollecito","OK")))))))))))))
J26: =IF(B26="","",IF(D26<>Parametri!$A$9,"",IFERROR(Parametri!$B$4-TODAY(),""))) | K26: =IF(B26="","",IF(OR(C26="",NOT(ISNUMBER(C26))),"Inserire quantità invitata",IF(D26="","Selezionare conferma",IF(AND(D26=Parametri!$A$10,OR(E26="",NOT(ISNUMBER(E26)),E26<0,E26>C26)),"Verificare quantità confermata",IF(AND(D26=Parametri!$A$11,OR(E26="",NOT(ISNUMBER(E26)),E26<>0)),"Impostare confermati a 0",IF(AND(D26=Parametri!$A$9,E26<>""),"Lasciare vuota quantità confermata",IF(AND(D26=Parametri!$A$9,F26=""),"Registrare data invito",IF(AND(OR(D26=Parametri!$A$10,D26=Parametri!$A$11),G26=""),"Registrare data risposta",IF(AND(ISNUMBER(F26),ISNUMBER(G26),G26<F26),"Verificare ordine delle date",IF(AND(ISNUMBER(G26),G26>TODAY()),"Verificare data risposta",IF(AND(OR(D26=Parametri!$A$10,D26=Parametri!$A$11),I26<>Parametri!$C$12),"Allineare stato a Chiuso",IF(AND(D26=Parametri!$A$9,ISNUMBER(J26),J26<0),"Termine superato: verificare",IF(AND(D26=Parametri!$A$9,ISNUMBER(J26),J26>=0,J26<=Parametri!$B$6),"Valutare un sollecito","OK")))))))))))))
... J104: =IF(B104="","",IF(D104<>Parametri!$A$9,"",IFERROR(Parametri!$B$4-TODAY(),""))) | K104: =IF(B104="","",IF(OR(C104="",NOT(ISNUMBER(C104))),"Inserire quantità invitata",IF(D104="","Selezionare conferma",IF(AND(D104=Parametri!$A$10,OR(E104="",NOT(ISNUMBER(E104)),E104<0,E104>C104)),"Verificare quantità confermata",IF(AND(D104=Parametri!$A$11,OR(E104="",NOT(ISNUMBER(E104)),E104<>0)),"Impostare confermati a 0",IF(AND(D104=Parametri!$A$9,E104<>""),"Lasciare vuota quantità confermata",IF(AND(D104=Parametri!$A$9,F104=""),"Registrare data invito",IF(AND(OR(D104=Parametri!$A$10,D104=Parametri!$A$11),G104=""),"Registrare data risposta",IF(AND(ISNUMBER(F104),ISNUMBER(G104),G104<F104),"Verificare ordine delle date",IF(AND(ISNUMBER(G104),G104>TODAY()),"Verificare data risposta",IF(AND(OR(D104=Parametri!$A$10,D104=Parametri!$A$11),I104<>Parametri!$C$12),"Allineare stato a Chiuso",IF(AND(D104=Parametri!$A$9,ISNUMBER(J104),J104<0),"Termine superato: verificare",IF(AND(D104=Parametri!$A$9,ISNUMBER(J104),J104>=0,J104<=Parametri!$B$6),"Valutare un sollecito","OK")))))))))))))

Sheet Parametri
A1: Parametri della lista invitati
A2: Date, capacità, soglia ed elenchi sono modificabili. Tutte le voci dimostrative sono fittizie.
A3: Data matrimonio | B3: 46556
A4: Termine conferme | B4: 46521
A5: Capienza pianificata | B5: 120
A6: Soglia avviso prima del termine | B6: 30
A8: Esiti conferma | C8: Stati invito | E8: Responsabili
A9: In attesa | C9: Da preparare | E9: Responsabile Fittizio A
A10: Confermato | C10: Consegnato | E10: Responsabile Fittizio B
A11: Declinato | C11: Da sollecitare | E11: Responsabile Fittizio C
C12: Chiuso
A14: Mantieni una voce per riga e lo stesso significato operativo quando modifichi le etichette.
