Workbook

Sheet Riepilogo
A1: Riepilogo presenze
A2: Indicatori calcolati dal registro Presenze e dai limiti visibili nel foglio Parametri.
A3: Indicatore | B3: Valore | D3: Attività | E3: Presenze previste | F3: Limite
A4: Nuclei registrati | B4: =COUNTIF(Presenze!$A$5:$A$104,"<>") | D4: Cerimonia | E4: =IF($B$4=0,"",SUM(Presenze!$E$5:$E$104)) | F4: =IF($B$4=0,"",Parametri!$B$7)
A5: Persone invitate | B5: =IF($B$4=0,"",SUM(Presenze!$B$5:$B$104)) | D5: Ricevimento | E5: =IF($B$4=0,"",SUM(Presenze!$G$5:$G$104)) | F5: =IF($B$4=0,"",Parametri!$B$8)
A6: Conferme positive | B6: =IF($B$4=0,"",COUNTIF(Presenze!$C$5:$C$104,"Confermata"))
A7: Declinazioni | B7: =IF($B$4=0,"",COUNTIF(Presenze!$C$5:$C$104,"Declinata"))
A8: In attesa | B8: =IF($B$4=0,"",COUNTIF(Presenze!$C$5:$C$104,"In attesa"))
A9: Persone alla cerimonia | B9: =IF($B$4=0,"",SUM(Presenze!$E$5:$E$104))
A10: Posti residui cerimonia | B10: =IF(OR($B$4=0,NOT(ISNUMBER(Parametri!$B$7)),NOT(ISNUMBER($B$9))),"",Parametri!$B$7-$B$9)
A11: Persone al ricevimento | B11: =IF($B$4=0,"",SUM(Presenze!$G$5:$G$104))
A12: Posti residui ricevimento | B12: =IF(OR($B$4=0,NOT(ISNUMBER(Parametri!$B$8)),NOT(ISNUMBER($B$11))),"",Parametri!$B$8-$B$11)
A13: Tasso di risposta | B13: =IF($B$4=0,"",IFERROR(($B$6+$B$7)/$B$4,""))
A14: Righe da completare | B14: =IF($B$4=0,"",COUNTIF(Presenze!$J$5:$J$104,"Da completare"))
A15: Righe da verificare | B15: =IF($B$4=0,"",COUNTIF(Presenze!$J$5:$J$104,"Da verificare"))

Sheet Presenze
A1: Presenze cerimonia e ricevimento
A2: Celle gialle modificabili; esempi e ruoli sono fittizi. Gli avvisi richiedono un controllo umano.
A4: Invitato o nucleo | B4: Persone invitate | C4: Conferma | D4: Cerimonia | E4: Persone cerimonia | F4: Ricevimento | G4: Persone ricevimento | H4: Data risposta | I4: Responsabile | J4: Stato controllo
A5: Nucleo fittizio Aurora 01 | B5: 2 | C5: Confermata | D5: Sì | E5: 2 | F5: Sì | G5: 2 | H5: 46249 | I5: Coppia | J5: =IF(A5="","",IFERROR(IF(OR(B5="",C5="",D5="",F5="",I5="",AND(C5<>"In attesa",H5=""),AND(B5<>"",NOT(ISNUMBER(B5))),AND(E5<>"",NOT(ISNUMBER(E5))),AND(G5<>"",NOT(ISNUMBER(G5))),AND(H5<>"",NOT(ISNUMBER(H5))),AND(D5="Sì",E5=""),AND(F5="Sì",G5="")),"Da completare",IF(OR(AND(ISNUMBER(E5),ISNUMBER(B5),E5>B5),AND(ISNUMBER(G5),ISNUMBER(B5),G5>B5),AND(D5="Sì",ISNUMBER(E5),E5=0),AND(D5="No",ISNUMBER(E5),E5<>0),AND(D5="Da definire",ISNUMBER(E5),E5<>0),AND(F5="Sì",ISNUMBER(G5),G5=0),AND(F5="No",ISNUMBER(G5),G5<>0),AND(F5="Da definire",ISNUMBER(G5),G5<>0),AND(C5="Declinata",OR(D5<>"No",F5<>"No")),AND(C5="Confermata",OR(D5="Da definire",F5="Da definire",AND(D5="No",F5="No"))),AND(C5="In attesa",OR(H5<>"",D5<>"Da definire",F5<>"Da definire",AND(ISNUMBER(E5),E5<>0),AND(ISNUMBER(G5),G5<>0))),AND(ISNUMBER(H5),ISNUMBER(Parametri!$B$5),H5>Parametri!$B$5),AND(ISNUMBER(H5),ISNUMBER(Parametri!$B$6),H5<Parametri!$B$6),AND(ISNUMBER(H5),ISNUMBER(Parametri!$B$4),H5>Parametri!$B$4),AND(C5="In attesa",ISNUMBER(Parametri!$B$5),TODAY()>Parametri!$B$5)),"Da verificare","Coerente")),"Da verificare"))
A6: Nucleo fittizio Corallo 02 | B6: 4 | C6: Confermata | D6: Sì | E6: 4 | F6: No | G6: 0 | H6: 46253 | I6: Referente fittizio A | J6: =IF(A6="","",IFERROR(IF(OR(B6="",C6="",D6="",F6="",I6="",AND(C6<>"In attesa",H6=""),AND(B6<>"",NOT(ISNUMBER(B6))),AND(E6<>"",NOT(ISNUMBER(E6))),AND(G6<>"",NOT(ISNUMBER(G6))),AND(H6<>"",NOT(ISNUMBER(H6))),AND(D6="Sì",E6=""),AND(F6="Sì",G6="")),"Da completare",IF(OR(AND(ISNUMBER(E6),ISNUMBER(B6),E6>B6),AND(ISNUMBER(G6),ISNUMBER(B6),G6>B6),AND(D6="Sì",ISNUMBER(E6),E6=0),AND(D6="No",ISNUMBER(E6),E6<>0),AND(D6="Da definire",ISNUMBER(E6),E6<>0),AND(F6="Sì",ISNUMBER(G6),G6=0),AND(F6="No",ISNUMBER(G6),G6<>0),AND(F6="Da definire",ISNUMBER(G6),G6<>0),AND(C6="Declinata",OR(D6<>"No",F6<>"No")),AND(C6="Confermata",OR(D6="Da definire",F6="Da definire",AND(D6="No",F6="No"))),AND(C6="In attesa",OR(H6<>"",D6<>"Da definire",F6<>"Da definire",AND(ISNUMBER(E6),E6<>0),AND(ISNUMBER(G6),G6<>0))),AND(ISNUMBER(H6),ISNUMBER(Parametri!$B$5),H6>Parametri!$B$5),AND(ISNUMBER(H6),ISNUMBER(Parametri!$B$6),H6<Parametri!$B$6),AND(ISNUMBER(H6),ISNUMBER(Parametri!$B$4),H6>Parametri!$B$4),AND(C6="In attesa",ISNUMBER(Parametri!$B$5),TODAY()>Parametri!$B$5)),"Da verificare","Coerente")),"Da verificare"))
A7: Invitato fittizio Glicine 03 | B7: 1 | C7: Declinata | D7: No | E7: 0 | F7: No | G7: 0 | H7: 46256 | I7: Referente fittizio B | J7: =IF(A7="","",IFERROR(IF(OR(B7="",C7="",D7="",F7="",I7="",AND(C7<>"In attesa",H7=""),AND(B7<>"",NOT(ISNUMBER(B7))),AND(E7<>"",NOT(ISNUMBER(E7))),AND(G7<>"",NOT(ISNUMBER(G7))),AND(H7<>"",NOT(ISNUMBER(H7))),AND(D7="Sì",E7=""),AND(F7="Sì",G7="")),"Da completare",IF(OR(AND(ISNUMBER(E7),ISNUMBER(B7),E7>B7),AND(ISNUMBER(G7),ISNUMBER(B7),G7>B7),AND(D7="Sì",ISNUMBER(E7),E7=0),AND(D7="No",ISNUMBER(E7),E7<>0),AND(D7="Da definire",ISNUMBER(E7),E7<>0),AND(F7="Sì",ISNUMBER(G7),G7=0),AND(F7="No",ISNUMBER(G7),G7<>0),AND(F7="Da definire",ISNUMBER(G7),G7<>0),AND(C7="Declinata",OR(D7<>"No",F7<>"No")),AND(C7="Confermata",OR(D7="Da definire",F7="Da definire",AND(D7="No",F7="No"))),AND(C7="In attesa",OR(H7<>"",D7<>"Da definire",F7<>"Da definire",AND(ISNUMBER(E7),E7<>0),AND(ISNUMBER(G7),G7<>0))),AND(ISNUMBER(H7),ISNUMBER(Parametri!$B$5),H7>Parametri!$B$5),AND(ISNUMBER(H7),ISNUMBER(Parametri!$B$6),H7<Parametri!$B$6),AND(ISNUMBER(H7),ISNUMBER(Parametri!$B$4),H7>Parametri!$B$4),AND(C7="In attesa",ISNUMBER(Parametri!$B$5),TODAY()>Parametri!$B$5)),"Da verificare","Coerente")),"Da verificare"))
A8: Nucleo fittizio Nuvola 04 | B8: 3 | C8: In attesa | D8: Da definire | E8: 0 | F8: Da definire | G8: 0 | I8: Coppia | J8: =IF(A8="","",IFERROR(IF(OR(B8="",C8="",D8="",F8="",I8="",AND(C8<>"In attesa",H8=""),AND(B8<>"",NOT(ISNUMBER(B8))),AND(E8<>"",NOT(ISNUMBER(E8))),AND(G8<>"",NOT(ISNUMBER(G8))),AND(H8<>"",NOT(ISNUMBER(H8))),AND(D8="Sì",E8=""),AND(F8="Sì",G8="")),"Da completare",IF(OR(AND(ISNUMBER(E8),ISNUMBER(B8),E8>B8),AND(ISNUMBER(G8),ISNUMBER(B8),G8>B8),AND(D8="Sì",ISNUMBER(E8),E8=0),AND(D8="No",ISNUMBER(E8),E8<>0),AND(D8="Da definire",ISNUMBER(E8),E8<>0),AND(F8="Sì",ISNUMBER(G8),G8=0),AND(F8="No",ISNUMBER(G8),G8<>0),AND(F8="Da definire",ISNUMBER(G8),G8<>0),AND(C8="Declinata",OR(D8<>"No",F8<>"No")),AND(C8="Confermata",OR(D8="Da definire",F8="Da definire",AND(D8="No",F8="No"))),AND(C8="In attesa",OR(H8<>"",D8<>"Da definire",F8<>"Da definire",AND(ISNUMBER(E8),E8<>0),AND(ISNUMBER(G8),G8<>0))),AND(ISNUMBER(H8),ISNUMBER(Parametri!$B$5),H8>Parametri!$B$5),AND(ISNUMBER(H8),ISNUMBER(Parametri!$B$6),H8<Parametri!$B$6),AND(ISNUMBER(H8),ISNUMBER(Parametri!$B$4),H8>Parametri!$B$4),AND(C8="In attesa",ISNUMBER(Parametri!$B$5),TODAY()>Parametri!$B$5)),"Da verificare","Coerente")),"Da verificare"))
A9: Nucleo fittizio Cedro 05 | B9: 2 | C9: Confermata | D9: No | E9: 0 | F9: Sì | G9: 2 | H9: 46262 | I9: Referente fittizio A | J9: =IF(A9="","",IFERROR(IF(OR(B9="",C9="",D9="",F9="",I9="",AND(C9<>"In attesa",H9=""),AND(B9<>"",NOT(ISNUMBER(B9))),AND(E9<>"",NOT(ISNUMBER(E9))),AND(G9<>"",NOT(ISNUMBER(G9))),AND(H9<>"",NOT(ISNUMBER(H9))),AND(D9="Sì",E9=""),AND(F9="Sì",G9="")),"Da completare",IF(OR(AND(ISNUMBER(E9),ISNUMBER(B9),E9>B9),AND(ISNUMBER(G9),ISNUMBER(B9),G9>B9),AND(D9="Sì",ISNUMBER(E9),E9=0),AND(D9="No",ISNUMBER(E9),E9<>0),AND(D9="Da definire",ISNUMBER(E9),E9<>0),AND(F9="Sì",ISNUMBER(G9),G9=0),AND(F9="No",ISNUMBER(G9),G9<>0),AND(F9="Da definire",ISNUMBER(G9),G9<>0),AND(C9="Declinata",OR(D9<>"No",F9<>"No")),AND(C9="Confermata",OR(D9="Da definire",F9="Da definire",AND(D9="No",F9="No"))),AND(C9="In attesa",OR(H9<>"",D9<>"Da definire",F9<>"Da definire",AND(ISNUMBER(E9),E9<>0),AND(ISNUMBER(G9),G9<>0))),AND(ISNUMBER(H9),ISNUMBER(Parametri!$B$5),H9>Parametri!$B$5),AND(ISNUMBER(H9),ISNUMBER(Parametri!$B$6),H9<Parametri!$B$6),AND(ISNUMBER(H9),ISNUMBER(Parametri!$B$4),H9>Parametri!$B$4),AND(C9="In attesa",ISNUMBER(Parametri!$B$5),TODAY()>Parametri!$B$5)),"Da verificare","Coerente")),"Da verificare"))
A10: Nucleo fittizio Mosaico 06 | B10: 5 | C10: Confermata | D10: Sì | E10: 5 | F10: Sì | G10: 4 | H10: 46265 | I10: Referente fittizio B | J10: =IF(A10="","",IFERROR(IF(OR(B10="",C10="",D10="",F10="",I10="",AND(C10<>"In attesa",H10=""),AND(B10<>"",NOT(ISNUMBER(B10))),AND(E10<>"",NOT(ISNUMBER(E10))),AND(G10<>"",NOT(ISNUMBER(G10))),AND(H10<>"",NOT(ISNUMBER(H10))),AND(D10="Sì",E10=""),AND(F10="Sì",G10="")),"Da completare",IF(OR(AND(ISNUMBER(E10),ISNUMBER(B10),E10>B10),AND(ISNUMBER(G10),ISNUMBER(B10),G10>B10),AND(D10="Sì",ISNUMBER(E10),E10=0),AND(D10="No",ISNUMBER(E10),E10<>0),AND(D10="Da definire",ISNUMBER(E10),E10<>0),AND(F10="Sì",ISNUMBER(G10),G10=0),AND(F10="No",ISNUMBER(G10),G10<>0),AND(F10="Da definire",ISNUMBER(G10),G10<>0),AND(C10="Declinata",OR(D10<>"No",F10<>"No")),AND(C10="Confermata",OR(D10="Da definire",F10="Da definire",AND(D10="No",F10="No"))),AND(C10="In attesa",OR(H10<>"",D10<>"Da definire",F10<>"Da definire",AND(ISNUMBER(E10),E10<>0),AND(ISNUMBER(G10),G10<>0))),AND(ISNUMBER(H10),ISNUMBER(Parametri!$B$5),H10>Parametri!$B$5),AND(ISNUMBER(H10),ISNUMBER(Parametri!$B$6),H10<Parametri!$B$6),AND(ISNUMBER(H10),ISNUMBER(Parametri!$B$4),H10>Parametri!$B$4),AND(C10="In attesa",ISNUMBER(Parametri!$B$5),TODAY()>Parametri!$B$5)),"Da verificare","Coerente")),"Da verificare"))
A11: Nucleo fittizio Lavanda 07 | B11: 2 | C11: Confermata | D11: Sì | E11: 1 | F11: Sì | G11: 1 | H11: 46269 | I11: Coppia | J11: =IF(A11="","",IFERROR(IF(OR(B11="",C11="",D11="",F11="",I11="",AND(C11<>"In attesa",H11=""),AND(B11<>"",NOT(ISNUMBER(B11))),AND(E11<>"",NOT(ISNUMBER(E11))),AND(G11<>"",NOT(ISNUMBER(G11))),AND(H11<>"",NOT(ISNUMBER(H11))),AND(D11="Sì",E11=""),AND(F11="Sì",G11="")),"Da completare",IF(OR(AND(ISNUMBER(E11),ISNUMBER(B11),E11>B11),AND(ISNUMBER(G11),ISNUMBER(B11),G11>B11),AND(D11="Sì",ISNUMBER(E11),E11=0),AND(D11="No",ISNUMBER(E11),E11<>0),AND(D11="Da definire",ISNUMBER(E11),E11<>0),AND(F11="Sì",ISNUMBER(G11),G11=0),AND(F11="No",ISNUMBER(G11),G11<>0),AND(F11="Da definire",ISNUMBER(G11),G11<>0),AND(C11="Declinata",OR(D11<>"No",F11<>"No")),AND(C11="Confermata",OR(D11="Da definire",F11="Da definire",AND(D11="No",F11="No"))),AND(C11="In attesa",OR(H11<>"",D11<>"Da definire",F11<>"Da definire",AND(ISNUMBER(E11),E11<>0),AND(ISNUMBER(G11),G11<>0))),AND(ISNUMBER(H11),ISNUMBER(Parametri!$B$5),H11>Parametri!$B$5),AND(ISNUMBER(H11),ISNUMBER(Parametri!$B$6),H11<Parametri!$B$6),AND(ISNUMBER(H11),ISNUMBER(Parametri!$B$4),H11>Parametri!$B$4),AND(C11="In attesa",ISNUMBER(Parametri!$B$5),TODAY()>Parametri!$B$5)),"Da verificare","Coerente")),"Da verificare"))
A12: Nucleo fittizio Quarzo 08 | B12: 3 | C12: Confermata | D12: Sì | E12: 3 | F12: Da definire | G12: 0 | H12: 46272 | I12: Referente fittizio A | J12: =IF(A12="","",IFERROR(IF(OR(B12="",C12="",D12="",F12="",I12="",AND(C12<>"In attesa",H12=""),AND(B12<>"",NOT(ISNUMBER(B12))),AND(E12<>"",NOT(ISNUMBER(E12))),AND(G12<>"",NOT(ISNUMBER(G12))),AND(H12<>"",NOT(ISNUMBER(H12))),AND(D12="Sì",E12=""),AND(F12="Sì",G12="")),"Da completare",IF(OR(AND(ISNUMBER(E12),ISNUMBER(B12),E12>B12),AND(ISNUMBER(G12),ISNUMBER(B12),G12>B12),AND(D12="Sì",ISNUMBER(E12),E12=0),AND(D12="No",ISNUMBER(E12),E12<>0),AND(D12="Da definire",ISNUMBER(E12),E12<>0),AND(F12="Sì",ISNUMBER(G12),G12=0),AND(F12="No",ISNUMBER(G12),G12<>0),AND(F12="Da definire",ISNUMBER(G12),G12<>0),AND(C12="Declinata",OR(D12<>"No",F12<>"No")),AND(C12="Confermata",OR(D12="Da definire",F12="Da definire",AND(D12="No",F12="No"))),AND(C12="In attesa",OR(H12<>"",D12<>"Da definire",F12<>"Da definire",AND(ISNUMBER(E12),E12<>0),AND(ISNUMBER(G12),G12<>0))),AND(ISNUMBER(H12),ISNUMBER(Parametri!$B$5),H12>Parametri!$B$5),AND(ISNUMBER(H12),ISNUMBER(Parametri!$B$6),H12<Parametri!$B$6),AND(ISNUMBER(H12),ISNUMBER(Parametri!$B$4),H12>Parametri!$B$4),AND(C12="In attesa",ISNUMBER(Parametri!$B$5),TODAY()>Parametri!$B$5)),"Da verificare","Coerente")),"Da verificare"))
A13: Nucleo fittizio Verifica 09 | B13: 2 | C13: Confermata | D13: Sì | E13: 2 | F13: Sì | G13: 2 | I13: Referente fittizio B | J13: =IF(A13="","",IFERROR(IF(OR(B13="",C13="",D13="",F13="",I13="",AND(C13<>"In attesa",H13=""),AND(B13<>"",NOT(ISNUMBER(B13))),AND(E13<>"",NOT(ISNUMBER(E13))),AND(G13<>"",NOT(ISNUMBER(G13))),AND(H13<>"",NOT(ISNUMBER(H13))),AND(D13="Sì",E13=""),AND(F13="Sì",G13="")),"Da completare",IF(OR(AND(ISNUMBER(E13),ISNUMBER(B13),E13>B13),AND(ISNUMBER(G13),ISNUMBER(B13),G13>B13),AND(D13="Sì",ISNUMBER(E13),E13=0),AND(D13="No",ISNUMBER(E13),E13<>0),AND(D13="Da definire",ISNUMBER(E13),E13<>0),AND(F13="Sì",ISNUMBER(G13),G13=0),AND(F13="No",ISNUMBER(G13),G13<>0),AND(F13="Da definire",ISNUMBER(G13),G13<>0),AND(C13="Declinata",OR(D13<>"No",F13<>"No")),AND(C13="Confermata",OR(D13="Da definire",F13="Da definire",AND(D13="No",F13="No"))),AND(C13="In attesa",OR(H13<>"",D13<>"Da definire",F13<>"Da definire",AND(ISNUMBER(E13),E13<>0),AND(ISNUMBER(G13),G13<>0))),AND(ISNUMBER(H13),ISNUMBER(Parametri!$B$5),H13>Parametri!$B$5),AND(ISNUMBER(H13),ISNUMBER(Parametri!$B$6),H13<Parametri!$B$6),AND(ISNUMBER(H13),ISNUMBER(Parametri!$B$4),H13>Parametri!$B$4),AND(C13="In attesa",ISNUMBER(Parametri!$B$5),TODAY()>Parametri!$B$5)),"Da verificare","Coerente")),"Da verificare"))
A14: Nucleo fittizio Limite 10 | B14: 20 | C14: Confermata | D14: Sì | E14: 20 | F14: Sì | G14: 20 | H14: 46277 | I14: Coppia | J14: =IF(A14="","",IFERROR(IF(OR(B14="",C14="",D14="",F14="",I14="",AND(C14<>"In attesa",H14=""),AND(B14<>"",NOT(ISNUMBER(B14))),AND(E14<>"",NOT(ISNUMBER(E14))),AND(G14<>"",NOT(ISNUMBER(G14))),AND(H14<>"",NOT(ISNUMBER(H14))),AND(D14="Sì",E14=""),AND(F14="Sì",G14="")),"Da completare",IF(OR(AND(ISNUMBER(E14),ISNUMBER(B14),E14>B14),AND(ISNUMBER(G14),ISNUMBER(B14),G14>B14),AND(D14="Sì",ISNUMBER(E14),E14=0),AND(D14="No",ISNUMBER(E14),E14<>0),AND(D14="Da definire",ISNUMBER(E14),E14<>0),AND(F14="Sì",ISNUMBER(G14),G14=0),AND(F14="No",ISNUMBER(G14),G14<>0),AND(F14="Da definire",ISNUMBER(G14),G14<>0),AND(C14="Declinata",OR(D14<>"No",F14<>"No")),AND(C14="Confermata",OR(D14="Da definire",F14="Da definire",AND(D14="No",F14="No"))),AND(C14="In attesa",OR(H14<>"",D14<>"Da definire",F14<>"Da definire",AND(ISNUMBER(E14),E14<>0),AND(ISNUMBER(G14),G14<>0))),AND(ISNUMBER(H14),ISNUMBER(Parametri!$B$5),H14>Parametri!$B$5),AND(ISNUMBER(H14),ISNUMBER(Parametri!$B$6),H14<Parametri!$B$6),AND(ISNUMBER(H14),ISNUMBER(Parametri!$B$4),H14>Parametri!$B$4),AND(C14="In attesa",ISNUMBER(Parametri!$B$5),TODAY()>Parametri!$B$5)),"Da verificare","Coerente")),"Da verificare"))
J15: =IF(A15="","",IFERROR(IF(OR(B15="",C15="",D15="",F15="",I15="",AND(C15<>"In attesa",H15=""),AND(B15<>"",NOT(ISNUMBER(B15))),AND(E15<>"",NOT(ISNUMBER(E15))),AND(G15<>"",NOT(ISNUMBER(G15))),AND(H15<>"",NOT(ISNUMBER(H15))),AND(D15="Sì",E15=""),AND(F15="Sì",G15="")),"Da completare",IF(OR(AND(ISNUMBER(E15),ISNUMBER(B15),E15>B15),AND(ISNUMBER(G15),ISNUMBER(B15),G15>B15),AND(D15="Sì",ISNUMBER(E15),E15=0),AND(D15="No",ISNUMBER(E15),E15<>0),AND(D15="Da definire",ISNUMBER(E15),E15<>0),AND(F15="Sì",ISNUMBER(G15),G15=0),AND(F15="No",ISNUMBER(G15),G15<>0),AND(F15="Da definire",ISNUMBER(G15),G15<>0),AND(C15="Declinata",OR(D15<>"No",F15<>"No")),AND(C15="Confermata",OR(D15="Da definire",F15="Da definire",AND(D15="No",F15="No"))),AND(C15="In attesa",OR(H15<>"",D15<>"Da definire",F15<>"Da definire",AND(ISNUMBER(E15),E15<>0),AND(ISNUMBER(G15),G15<>0))),AND(ISNUMBER(H15),ISNUMBER(Parametri!$B$5),H15>Parametri!$B$5),AND(ISNUMBER(H15),ISNUMBER(Parametri!$B$6),H15<Parametri!$B$6),AND(ISNUMBER(H15),ISNUMBER(Parametri!$B$4),H15>Parametri!$B$4),AND(C15="In attesa",ISNUMBER(Parametri!$B$5),TODAY()>Parametri!$B$5)),"Da verificare","Coerente")),"Da verificare"))
J16: =IF(A16="","",IFERROR(IF(OR(B16="",C16="",D16="",F16="",I16="",AND(C16<>"In attesa",H16=""),AND(B16<>"",NOT(ISNUMBER(B16))),AND(E16<>"",NOT(ISNUMBER(E16))),AND(G16<>"",NOT(ISNUMBER(G16))),AND(H16<>"",NOT(ISNUMBER(H16))),AND(D16="Sì",E16=""),AND(F16="Sì",G16="")),"Da completare",IF(OR(AND(ISNUMBER(E16),ISNUMBER(B16),E16>B16),AND(ISNUMBER(G16),ISNUMBER(B16),G16>B16),AND(D16="Sì",ISNUMBER(E16),E16=0),AND(D16="No",ISNUMBER(E16),E16<>0),AND(D16="Da definire",ISNUMBER(E16),E16<>0),AND(F16="Sì",ISNUMBER(G16),G16=0),AND(F16="No",ISNUMBER(G16),G16<>0),AND(F16="Da definire",ISNUMBER(G16),G16<>0),AND(C16="Declinata",OR(D16<>"No",F16<>"No")),AND(C16="Confermata",OR(D16="Da definire",F16="Da definire",AND(D16="No",F16="No"))),AND(C16="In attesa",OR(H16<>"",D16<>"Da definire",F16<>"Da definire",AND(ISNUMBER(E16),E16<>0),AND(ISNUMBER(G16),G16<>0))),AND(ISNUMBER(H16),ISNUMBER(Parametri!$B$5),H16>Parametri!$B$5),AND(ISNUMBER(H16),ISNUMBER(Parametri!$B$6),H16<Parametri!$B$6),AND(ISNUMBER(H16),ISNUMBER(Parametri!$B$4),H16>Parametri!$B$4),AND(C16="In attesa",ISNUMBER(Parametri!$B$5),TODAY()>Parametri!$B$5)),"Da verificare","Coerente")),"Da verificare"))
J17: =IF(A17="","",IFERROR(IF(OR(B17="",C17="",D17="",F17="",I17="",AND(C17<>"In attesa",H17=""),AND(B17<>"",NOT(ISNUMBER(B17))),AND(E17<>"",NOT(ISNUMBER(E17))),AND(G17<>"",NOT(ISNUMBER(G17))),AND(H17<>"",NOT(ISNUMBER(H17))),AND(D17="Sì",E17=""),AND(F17="Sì",G17="")),"Da completare",IF(OR(AND(ISNUMBER(E17),ISNUMBER(B17),E17>B17),AND(ISNUMBER(G17),ISNUMBER(B17),G17>B17),AND(D17="Sì",ISNUMBER(E17),E17=0),AND(D17="No",ISNUMBER(E17),E17<>0),AND(D17="Da definire",ISNUMBER(E17),E17<>0),AND(F17="Sì",ISNUMBER(G17),G17=0),AND(F17="No",ISNUMBER(G17),G17<>0),AND(F17="Da definire",ISNUMBER(G17),G17<>0),AND(C17="Declinata",OR(D17<>"No",F17<>"No")),AND(C17="Confermata",OR(D17="Da definire",F17="Da definire",AND(D17="No",F17="No"))),AND(C17="In attesa",OR(H17<>"",D17<>"Da definire",F17<>"Da definire",AND(ISNUMBER(E17),E17<>0),AND(ISNUMBER(G17),G17<>0))),AND(ISNUMBER(H17),ISNUMBER(Parametri!$B$5),H17>Parametri!$B$5),AND(ISNUMBER(H17),ISNUMBER(Parametri!$B$6),H17<Parametri!$B$6),AND(ISNUMBER(H17),ISNUMBER(Parametri!$B$4),H17>Parametri!$B$4),AND(C17="In attesa",ISNUMBER(Parametri!$B$5),TODAY()>Parametri!$B$5)),"Da verificare","Coerente")),"Da verificare"))
J18: =IF(A18="","",IFERROR(IF(OR(B18="",C18="",D18="",F18="",I18="",AND(C18<>"In attesa",H18=""),AND(B18<>"",NOT(ISNUMBER(B18))),AND(E18<>"",NOT(ISNUMBER(E18))),AND(G18<>"",NOT(ISNUMBER(G18))),AND(H18<>"",NOT(ISNUMBER(H18))),AND(D18="Sì",E18=""),AND(F18="Sì",G18="")),"Da completare",IF(OR(AND(ISNUMBER(E18),ISNUMBER(B18),E18>B18),AND(ISNUMBER(G18),ISNUMBER(B18),G18>B18),AND(D18="Sì",ISNUMBER(E18),E18=0),AND(D18="No",ISNUMBER(E18),E18<>0),AND(D18="Da definire",ISNUMBER(E18),E18<>0),AND(F18="Sì",ISNUMBER(G18),G18=0),AND(F18="No",ISNUMBER(G18),G18<>0),AND(F18="Da definire",ISNUMBER(G18),G18<>0),AND(C18="Declinata",OR(D18<>"No",F18<>"No")),AND(C18="Confermata",OR(D18="Da definire",F18="Da definire",AND(D18="No",F18="No"))),AND(C18="In attesa",OR(H18<>"",D18<>"Da definire",F18<>"Da definire",AND(ISNUMBER(E18),E18<>0),AND(ISNUMBER(G18),G18<>0))),AND(ISNUMBER(H18),ISNUMBER(Parametri!$B$5),H18>Parametri!$B$5),AND(ISNUMBER(H18),ISNUMBER(Parametri!$B$6),H18<Parametri!$B$6),AND(ISNUMBER(H18),ISNUMBER(Parametri!$B$4),H18>Parametri!$B$4),AND(C18="In attesa",ISNUMBER(Parametri!$B$5),TODAY()>Parametri!$B$5)),"Da verificare","Coerente")),"Da verificare"))
J19: =IF(A19="","",IFERROR(IF(OR(B19="",C19="",D19="",F19="",I19="",AND(C19<>"In attesa",H19=""),AND(B19<>"",NOT(ISNUMBER(B19))),AND(E19<>"",NOT(ISNUMBER(E19))),AND(G19<>"",NOT(ISNUMBER(G19))),AND(H19<>"",NOT(ISNUMBER(H19))),AND(D19="Sì",E19=""),AND(F19="Sì",G19="")),"Da completare",IF(OR(AND(ISNUMBER(E19),ISNUMBER(B19),E19>B19),AND(ISNUMBER(G19),ISNUMBER(B19),G19>B19),AND(D19="Sì",ISNUMBER(E19),E19=0),AND(D19="No",ISNUMBER(E19),E19<>0),AND(D19="Da definire",ISNUMBER(E19),E19<>0),AND(F19="Sì",ISNUMBER(G19),G19=0),AND(F19="No",ISNUMBER(G19),G19<>0),AND(F19="Da definire",ISNUMBER(G19),G19<>0),AND(C19="Declinata",OR(D19<>"No",F19<>"No")),AND(C19="Confermata",OR(D19="Da definire",F19="Da definire",AND(D19="No",F19="No"))),AND(C19="In attesa",OR(H19<>"",D19<>"Da definire",F19<>"Da definire",AND(ISNUMBER(E19),E19<>0),AND(ISNUMBER(G19),G19<>0))),AND(ISNUMBER(H19),ISNUMBER(Parametri!$B$5),H19>Parametri!$B$5),AND(ISNUMBER(H19),ISNUMBER(Parametri!$B$6),H19<Parametri!$B$6),AND(ISNUMBER(H19),ISNUMBER(Parametri!$B$4),H19>Parametri!$B$4),AND(C19="In attesa",ISNUMBER(Parametri!$B$5),TODAY()>Parametri!$B$5)),"Da verificare","Coerente")),"Da verificare"))
J20: =IF(A20="","",IFERROR(IF(OR(B20="",C20="",D20="",F20="",I20="",AND(C20<>"In attesa",H20=""),AND(B20<>"",NOT(ISNUMBER(B20))),AND(E20<>"",NOT(ISNUMBER(E20))),AND(G20<>"",NOT(ISNUMBER(G20))),AND(H20<>"",NOT(ISNUMBER(H20))),AND(D20="Sì",E20=""),AND(F20="Sì",G20="")),"Da completare",IF(OR(AND(ISNUMBER(E20),ISNUMBER(B20),E20>B20),AND(ISNUMBER(G20),ISNUMBER(B20),G20>B20),AND(D20="Sì",ISNUMBER(E20),E20=0),AND(D20="No",ISNUMBER(E20),E20<>0),AND(D20="Da definire",ISNUMBER(E20),E20<>0),AND(F20="Sì",ISNUMBER(G20),G20=0),AND(F20="No",ISNUMBER(G20),G20<>0),AND(F20="Da definire",ISNUMBER(G20),G20<>0),AND(C20="Declinata",OR(D20<>"No",F20<>"No")),AND(C20="Confermata",OR(D20="Da definire",F20="Da definire",AND(D20="No",F20="No"))),AND(C20="In attesa",OR(H20<>"",D20<>"Da definire",F20<>"Da definire",AND(ISNUMBER(E20),E20<>0),AND(ISNUMBER(G20),G20<>0))),AND(ISNUMBER(H20),ISNUMBER(Parametri!$B$5),H20>Parametri!$B$5),AND(ISNUMBER(H20),ISNUMBER(Parametri!$B$6),H20<Parametri!$B$6),AND(ISNUMBER(H20),ISNUMBER(Parametri!$B$4),H20>Parametri!$B$4),AND(C20="In attesa",ISNUMBER(Parametri!$B$5),TODAY()>Parametri!$B$5)),"Da verificare","Coerente")),"Da verificare"))
J21: =IF(A21="","",IFERROR(IF(OR(B21="",C21="",D21="",F21="",I21="",AND(C21<>"In attesa",H21=""),AND(B21<>"",NOT(ISNUMBER(B21))),AND(E21<>"",NOT(ISNUMBER(E21))),AND(G21<>"",NOT(ISNUMBER(G21))),AND(H21<>"",NOT(ISNUMBER(H21))),AND(D21="Sì",E21=""),AND(F21="Sì",G21="")),"Da completare",IF(OR(AND(ISNUMBER(E21),ISNUMBER(B21),E21>B21),AND(ISNUMBER(G21),ISNUMBER(B21),G21>B21),AND(D21="Sì",ISNUMBER(E21),E21=0),AND(D21="No",ISNUMBER(E21),E21<>0),AND(D21="Da definire",ISNUMBER(E21),E21<>0),AND(F21="Sì",ISNUMBER(G21),G21=0),AND(F21="No",ISNUMBER(G21),G21<>0),AND(F21="Da definire",ISNUMBER(G21),G21<>0),AND(C21="Declinata",OR(D21<>"No",F21<>"No")),AND(C21="Confermata",OR(D21="Da definire",F21="Da definire",AND(D21="No",F21="No"))),AND(C21="In attesa",OR(H21<>"",D21<>"Da definire",F21<>"Da definire",AND(ISNUMBER(E21),E21<>0),AND(ISNUMBER(G21),G21<>0))),AND(ISNUMBER(H21),ISNUMBER(Parametri!$B$5),H21>Parametri!$B$5),AND(ISNUMBER(H21),ISNUMBER(Parametri!$B$6),H21<Parametri!$B$6),AND(ISNUMBER(H21),ISNUMBER(Parametri!$B$4),H21>Parametri!$B$4),AND(C21="In attesa",ISNUMBER(Parametri!$B$5),TODAY()>Parametri!$B$5)),"Da verificare","Coerente")),"Da verificare"))
J22: =IF(A22="","",IFERROR(IF(OR(B22="",C22="",D22="",F22="",I22="",AND(C22<>"In attesa",H22=""),AND(B22<>"",NOT(ISNUMBER(B22))),AND(E22<>"",NOT(ISNUMBER(E22))),AND(G22<>"",NOT(ISNUMBER(G22))),AND(H22<>"",NOT(ISNUMBER(H22))),AND(D22="Sì",E22=""),AND(F22="Sì",G22="")),"Da completare",IF(OR(AND(ISNUMBER(E22),ISNUMBER(B22),E22>B22),AND(ISNUMBER(G22),ISNUMBER(B22),G22>B22),AND(D22="Sì",ISNUMBER(E22),E22=0),AND(D22="No",ISNUMBER(E22),E22<>0),AND(D22="Da definire",ISNUMBER(E22),E22<>0),AND(F22="Sì",ISNUMBER(G22),G22=0),AND(F22="No",ISNUMBER(G22),G22<>0),AND(F22="Da definire",ISNUMBER(G22),G22<>0),AND(C22="Declinata",OR(D22<>"No",F22<>"No")),AND(C22="Confermata",OR(D22="Da definire",F22="Da definire",AND(D22="No",F22="No"))),AND(C22="In attesa",OR(H22<>"",D22<>"Da definire",F22<>"Da definire",AND(ISNUMBER(E22),E22<>0),AND(ISNUMBER(G22),G22<>0))),AND(ISNUMBER(H22),ISNUMBER(Parametri!$B$5),H22>Parametri!$B$5),AND(ISNUMBER(H22),ISNUMBER(Parametri!$B$6),H22<Parametri!$B$6),AND(ISNUMBER(H22),ISNUMBER(Parametri!$B$4),H22>Parametri!$B$4),AND(C22="In attesa",ISNUMBER(Parametri!$B$5),TODAY()>Parametri!$B$5)),"Da verificare","Coerente")),"Da verificare"))
J23: =IF(A23="","",IFERROR(IF(OR(B23="",C23="",D23="",F23="",I23="",AND(C23<>"In attesa",H23=""),AND(B23<>"",NOT(ISNUMBER(B23))),AND(E23<>"",NOT(ISNUMBER(E23))),AND(G23<>"",NOT(ISNUMBER(G23))),AND(H23<>"",NOT(ISNUMBER(H23))),AND(D23="Sì",E23=""),AND(F23="Sì",G23="")),"Da completare",IF(OR(AND(ISNUMBER(E23),ISNUMBER(B23),E23>B23),AND(ISNUMBER(G23),ISNUMBER(B23),G23>B23),AND(D23="Sì",ISNUMBER(E23),E23=0),AND(D23="No",ISNUMBER(E23),E23<>0),AND(D23="Da definire",ISNUMBER(E23),E23<>0),AND(F23="Sì",ISNUMBER(G23),G23=0),AND(F23="No",ISNUMBER(G23),G23<>0),AND(F23="Da definire",ISNUMBER(G23),G23<>0),AND(C23="Declinata",OR(D23<>"No",F23<>"No")),AND(C23="Confermata",OR(D23="Da definire",F23="Da definire",AND(D23="No",F23="No"))),AND(C23="In attesa",OR(H23<>"",D23<>"Da definire",F23<>"Da definire",AND(ISNUMBER(E23),E23<>0),AND(ISNUMBER(G23),G23<>0))),AND(ISNUMBER(H23),ISNUMBER(Parametri!$B$5),H23>Parametri!$B$5),AND(ISNUMBER(H23),ISNUMBER(Parametri!$B$6),H23<Parametri!$B$6),AND(ISNUMBER(H23),ISNUMBER(Parametri!$B$4),H23>Parametri!$B$4),AND(C23="In attesa",ISNUMBER(Parametri!$B$5),TODAY()>Parametri!$B$5)),"Da verificare","Coerente")),"Da verificare"))
J24: =IF(A24="","",IFERROR(IF(OR(B24="",C24="",D24="",F24="",I24="",AND(C24<>"In attesa",H24=""),AND(B24<>"",NOT(ISNUMBER(B24))),AND(E24<>"",NOT(ISNUMBER(E24))),AND(G24<>"",NOT(ISNUMBER(G24))),AND(H24<>"",NOT(ISNUMBER(H24))),AND(D24="Sì",E24=""),AND(F24="Sì",G24="")),"Da completare",IF(OR(AND(ISNUMBER(E24),ISNUMBER(B24),E24>B24),AND(ISNUMBER(G24),ISNUMBER(B24),G24>B24),AND(D24="Sì",ISNUMBER(E24),E24=0),AND(D24="No",ISNUMBER(E24),E24<>0),AND(D24="Da definire",ISNUMBER(E24),E24<>0),AND(F24="Sì",ISNUMBER(G24),G24=0),AND(F24="No",ISNUMBER(G24),G24<>0),AND(F24="Da definire",ISNUMBER(G24),G24<>0),AND(C24="Declinata",OR(D24<>"No",F24<>"No")),AND(C24="Confermata",OR(D24="Da definire",F24="Da definire",AND(D24="No",F24="No"))),AND(C24="In attesa",OR(H24<>"",D24<>"Da definire",F24<>"Da definire",AND(ISNUMBER(E24),E24<>0),AND(ISNUMBER(G24),G24<>0))),AND(ISNUMBER(H24),ISNUMBER(Parametri!$B$5),H24>Parametri!$B$5),AND(ISNUMBER(H24),ISNUMBER(Parametri!$B$6),H24<Parametri!$B$6),AND(ISNUMBER(H24),ISNUMBER(Parametri!$B$4),H24>Parametri!$B$4),AND(C24="In attesa",ISNUMBER(Parametri!$B$5),TODAY()>Parametri!$B$5)),"Da verificare","Coerente")),"Da verificare"))
J25: =IF(A25="","",IFERROR(IF(OR(B25="",C25="",D25="",F25="",I25="",AND(C25<>"In attesa",H25=""),AND(B25<>"",NOT(ISNUMBER(B25))),AND(E25<>"",NOT(ISNUMBER(E25))),AND(G25<>"",NOT(ISNUMBER(G25))),AND(H25<>"",NOT(ISNUMBER(H25))),AND(D25="Sì",E25=""),AND(F25="Sì",G25="")),"Da completare",IF(OR(AND(ISNUMBER(E25),ISNUMBER(B25),E25>B25),AND(ISNUMBER(G25),ISNUMBER(B25),G25>B25),AND(D25="Sì",ISNUMBER(E25),E25=0),AND(D25="No",ISNUMBER(E25),E25<>0),AND(D25="Da definire",ISNUMBER(E25),E25<>0),AND(F25="Sì",ISNUMBER(G25),G25=0),AND(F25="No",ISNUMBER(G25),G25<>0),AND(F25="Da definire",ISNUMBER(G25),G25<>0),AND(C25="Declinata",OR(D25<>"No",F25<>"No")),AND(C25="Confermata",OR(D25="Da definire",F25="Da definire",AND(D25="No",F25="No"))),AND(C25="In attesa",OR(H25<>"",D25<>"Da definire",F25<>"Da definire",AND(ISNUMBER(E25),E25<>0),AND(ISNUMBER(G25),G25<>0))),AND(ISNUMBER(H25),ISNUMBER(Parametri!$B$5),H25>Parametri!$B$5),AND(ISNUMBER(H25),ISNUMBER(Parametri!$B$6),H25<Parametri!$B$6),AND(ISNUMBER(H25),ISNUMBER(Parametri!$B$4),H25>Parametri!$B$4),AND(C25="In attesa",ISNUMBER(Parametri!$B$5),TODAY()>Parametri!$B$5)),"Da verificare","Coerente")),"Da verificare"))
J26: =IF(A26="","",IFERROR(IF(OR(B26="",C26="",D26="",F26="",I26="",AND(C26<>"In attesa",H26=""),AND(B26<>"",NOT(ISNUMBER(B26))),AND(E26<>"",NOT(ISNUMBER(E26))),AND(G26<>"",NOT(ISNUMBER(G26))),AND(H26<>"",NOT(ISNUMBER(H26))),AND(D26="Sì",E26=""),AND(F26="Sì",G26="")),"Da completare",IF(OR(AND(ISNUMBER(E26),ISNUMBER(B26),E26>B26),AND(ISNUMBER(G26),ISNUMBER(B26),G26>B26),AND(D26="Sì",ISNUMBER(E26),E26=0),AND(D26="No",ISNUMBER(E26),E26<>0),AND(D26="Da definire",ISNUMBER(E26),E26<>0),AND(F26="Sì",ISNUMBER(G26),G26=0),AND(F26="No",ISNUMBER(G26),G26<>0),AND(F26="Da definire",ISNUMBER(G26),G26<>0),AND(C26="Declinata",OR(D26<>"No",F26<>"No")),AND(C26="Confermata",OR(D26="Da definire",F26="Da definire",AND(D26="No",F26="No"))),AND(C26="In attesa",OR(H26<>"",D26<>"Da definire",F26<>"Da definire",AND(ISNUMBER(E26),E26<>0),AND(ISNUMBER(G26),G26<>0))),AND(ISNUMBER(H26),ISNUMBER(Parametri!$B$5),H26>Parametri!$B$5),AND(ISNUMBER(H26),ISNUMBER(Parametri!$B$6),H26<Parametri!$B$6),AND(ISNUMBER(H26),ISNUMBER(Parametri!$B$4),H26>Parametri!$B$4),AND(C26="In attesa",ISNUMBER(Parametri!$B$5),TODAY()>Parametri!$B$5)),"Da verificare","Coerente")),"Da verificare"))
... J104: =IF(A104="","",IFERROR(IF(OR(B104="",C104="",D104="",F104="",I104="",AND(C104<>"In attesa",H104=""),AND(B104<>"",NOT(ISNUMBER(B104))),AND(E104<>"",NOT(ISNUMBER(E104))),AND(G104<>"",NOT(ISNUMBER(G104))),AND(H104<>"",NOT(ISNUMBER(H104))),AND(D104="Sì",E104=""),AND(F104="Sì",G104="")),"Da completare",IF(OR(AND(ISNUMBER(E104),ISNUMBER(B104),E104>B104),AND(ISNUMBER(G104),ISNUMBER(B104),G104>B104),AND(D104="Sì",ISNUMBER(E104),E104=0),AND(D104="No",ISNUMBER(E104),E104<>0),AND(D104="Da definire",ISNUMBER(E104),E104<>0),AND(F104="Sì",ISNUMBER(G104),G104=0),AND(F104="No",ISNUMBER(G104),G104<>0),AND(F104="Da definire",ISNUMBER(G104),G104<>0),AND(C104="Declinata",OR(D104<>"No",F104<>"No")),AND(C104="Confermata",OR(D104="Da definire",F104="Da definire",AND(D104="No",F104="No"))),AND(C104="In attesa",OR(H104<>"",D104<>"Da definire",F104<>"Da definire",AND(ISNUMBER(E104),E104<>0),AND(ISNUMBER(G104),G104<>0))),AND(ISNUMBER(H104),ISNUMBER(Parametri!$B$5),H104>Parametri!$B$5),AND(ISNUMBER(H104),ISNUMBER(Parametri!$B$6),H104<Parametri!$B$6),AND(ISNUMBER(H104),ISNUMBER(Parametri!$B$4),H104>Parametri!$B$4),AND(C104="In attesa",ISNUMBER(Parametri!$B$5),TODAY()>Parametri!$B$5)),"Da verificare","Coerente")),"Da verificare"))

Sheet Parametri
A1: Parametri modificabili
A2: Ipotesi operative modificabili: verificare date e capacità con i referenti scelti.
A3: Parametro | B3: Valore | C3: Nota operativa
A4: Data evento | B4: 46557 | C4: Data proposta, modificabile.
A5: Termine conferme | B5: 46507 | C5: Scadenza organizzativa interna, modificabile.
A6: Data minima risposta | B6: 46097 | C6: Limite inferiore ammesso nel registro.
A7: Capacità cerimonia | B7: 90 | C7: Ipotesi di capienza da verificare.
A8: Capacità ricevimento | B8: 80 | C8: Ipotesi di capienza da verificare.
A9: Persone massime per riga | B9: 20 | C9: Limite operativo per un singolo nucleo.
A12: Conferma | B12: Presenza | C12: Responsabile
A13: In attesa | B13: Da definire | C13: Coppia
A14: Confermata | B14: Sì | C14: Referente fittizio A
A15: Declinata | B15: No | C15: Referente fittizio B
