Workbook

Sheet Riepilogo
A1: Riepilogo del registro spese matrimonio
A3: Indicatore | B3: Valore
A4: Budget complessivo indicativo | B4: =IF(Parametri!B2="","",Parametri!B2)
A5: Spese registrate | B5: =IF(COUNT(Spese!$F$4:$F$103)=0,"",SUM(Spese!$F$4:$F$103))
A6: Residuo indicativo | B6: =IF(OR(B4="",B5=""),"",IFERROR(B4-B5,""))
A7: Percentuale del budget usata | B7: =IF(OR(B4="",B5=""),"",IFERROR(B5/B4,""))
A8: Numero di voci di spesa | B8: =IF(COUNT(Spese!$F$4:$F$103)=0,"",COUNT(Spese!$F$4:$F$103))
A9: Totale con stato Pagato | B9: =IF(COUNTIFS(Spese!$I$4:$I$103,"Pagato",Spese!$F$4:$F$103,">0")=0,"",SUMIF(Spese!$I$4:$I$103,"Pagato",Spese!$F$4:$F$103))
A10: Totale con stato Da pagare | B10: =IF(COUNTIFS(Spese!$I$4:$I$103,"Da pagare",Spese!$F$4:$F$103,">0")=0,"",SUMIF(Spese!$I$4:$I$103,"Da pagare",Spese!$F$4:$F$103))
A11: Totale con stato Da verificare | B11: =IF(COUNTIFS(Spese!$I$4:$I$103,"Da verificare",Spese!$F$4:$F$103,">0")=0,"",SUMIF(Spese!$I$4:$I$103,"Da verificare",Spese!$F$4:$F$103))
A12: Giustificativi da controllare | B12: =IF(COUNT(Spese!$F$4:$F$103)=0,"",COUNTIFS(Spese!$F$4:$F$103,">0",Spese!$J$4:$J$103,"<>Presente"))
A13: Data della prima spesa | B13: =IF(COUNT(Spese!$A$4:$A$103)=0,"",MIN(Spese!$A$4:$A$103))
A14: Data dell'ultima spesa | B14: =IF(COUNT(Spese!$A$4:$A$103)=0,"",MAX(Spese!$A$4:$A$103))
A15: Budget assegnato alle categorie | B15: =IF(COUNT(Parametri!$B$6:$B$15)=0,"",SUM(Parametri!$B$6:$B$15))
A16: Differenza tra budget complessivo e categorie | B16: =IF(OR(B4="",B15=""),"",IFERROR(B4-B15,""))
A18: Categoria | B18: Budget indicativo | C18: Spesa registrata | D18: Residuo indicativo | E18: Percentuale usata
A19: =IF(Parametri!A6="","",Parametri!A6) | B19: =IF(Parametri!B6="","",Parametri!B6) | C19: =IF(A19="","",IF(COUNTIFS(Spese!$B$4:$B$103,A19,Spese!$F$4:$F$103,">0")=0,"",SUMIF(Spese!$B$4:$B$103,A19,Spese!$F$4:$F$103))) | D19: =IF(OR(A19="",B19=""),"",IFERROR(B19-IF(C19="",0,C19),"")) | E19: =IF(OR(B19="",C19=""),"",IFERROR(C19/B19,""))
A20: =IF(Parametri!A7="","",Parametri!A7) | B20: =IF(Parametri!B7="","",Parametri!B7) | C20: =IF(A20="","",IF(COUNTIFS(Spese!$B$4:$B$103,A20,Spese!$F$4:$F$103,">0")=0,"",SUMIF(Spese!$B$4:$B$103,A20,Spese!$F$4:$F$103))) | D20: =IF(OR(A20="",B20=""),"",IFERROR(B20-IF(C20="",0,C20),"")) | E20: =IF(OR(B20="",C20=""),"",IFERROR(C20/B20,""))
A21: =IF(Parametri!A8="","",Parametri!A8) | B21: =IF(Parametri!B8="","",Parametri!B8) | C21: =IF(A21="","",IF(COUNTIFS(Spese!$B$4:$B$103,A21,Spese!$F$4:$F$103,">0")=0,"",SUMIF(Spese!$B$4:$B$103,A21,Spese!$F$4:$F$103))) | D21: =IF(OR(A21="",B21=""),"",IFERROR(B21-IF(C21="",0,C21),"")) | E21: =IF(OR(B21="",C21=""),"",IFERROR(C21/B21,""))
A22: =IF(Parametri!A9="","",Parametri!A9) | B22: =IF(Parametri!B9="","",Parametri!B9) | C22: =IF(A22="","",IF(COUNTIFS(Spese!$B$4:$B$103,A22,Spese!$F$4:$F$103,">0")=0,"",SUMIF(Spese!$B$4:$B$103,A22,Spese!$F$4:$F$103))) | D22: =IF(OR(A22="",B22=""),"",IFERROR(B22-IF(C22="",0,C22),"")) | E22: =IF(OR(B22="",C22=""),"",IFERROR(C22/B22,""))
A23: =IF(Parametri!A10="","",Parametri!A10) | B23: =IF(Parametri!B10="","",Parametri!B10) | C23: =IF(A23="","",IF(COUNTIFS(Spese!$B$4:$B$103,A23,Spese!$F$4:$F$103,">0")=0,"",SUMIF(Spese!$B$4:$B$103,A23,Spese!$F$4:$F$103))) | D23: =IF(OR(A23="",B23=""),"",IFERROR(B23-IF(C23="",0,C23),"")) | E23: =IF(OR(B23="",C23=""),"",IFERROR(C23/B23,""))
A24: =IF(Parametri!A11="","",Parametri!A11) | B24: =IF(Parametri!B11="","",Parametri!B11) | C24: =IF(A24="","",IF(COUNTIFS(Spese!$B$4:$B$103,A24,Spese!$F$4:$F$103,">0")=0,"",SUMIF(Spese!$B$4:$B$103,A24,Spese!$F$4:$F$103))) | D24: =IF(OR(A24="",B24=""),"",IFERROR(B24-IF(C24="",0,C24),"")) | E24: =IF(OR(B24="",C24=""),"",IFERROR(C24/B24,""))
A25: =IF(Parametri!A12="","",Parametri!A12) | B25: =IF(Parametri!B12="","",Parametri!B12) | C25: =IF(A25="","",IF(COUNTIFS(Spese!$B$4:$B$103,A25,Spese!$F$4:$F$103,">0")=0,"",SUMIF(Spese!$B$4:$B$103,A25,Spese!$F$4:$F$103))) | D25: =IF(OR(A25="",B25=""),"",IFERROR(B25-IF(C25="",0,C25),"")) | E25: =IF(OR(B25="",C25=""),"",IFERROR(C25/B25,""))
A26: =IF(Parametri!A13="","",Parametri!A13) | B26: =IF(Parametri!B13="","",Parametri!B13) | C26: =IF(A26="","",IF(COUNTIFS(Spese!$B$4:$B$103,A26,Spese!$F$4:$F$103,">0")=0,"",SUMIF(Spese!$B$4:$B$103,A26,Spese!$F$4:$F$103))) | D26: =IF(OR(A26="",B26=""),"",IFERROR(B26-IF(C26="",0,C26),"")) | E26: =IF(OR(B26="",C26=""),"",IFERROR(C26/B26,""))
A27: =IF(Parametri!A14="","",Parametri!A14) | B27: =IF(Parametri!B14="","",Parametri!B14) | C27: =IF(A27="","",IF(COUNTIFS(Spese!$B$4:$B$103,A27,Spese!$F$4:$F$103,">0")=0,"",SUMIF(Spese!$B$4:$B$103,A27,Spese!$F$4:$F$103))) | D27: =IF(OR(A27="",B27=""),"",IFERROR(B27-IF(C27="",0,C27),"")) | E27: =IF(OR(B27="",C27=""),"",IFERROR(C27/B27,""))
A28: =IF(Parametri!A15="","",Parametri!A15) | B28: =IF(Parametri!B15="","",Parametri!B15) | C28: =IF(A28="","",IF(COUNTIFS(Spese!$B$4:$B$103,A28,Spese!$F$4:$F$103,">0")=0,"",SUMIF(Spese!$B$4:$B$103,A28,Spese!$F$4:$F$103))) | D28: =IF(OR(A28="",B28=""),"",IFERROR(B28-IF(C28="",0,C28),"")) | E28: =IF(OR(B28="",C28=""),"",IFERROR(C28/B28,""))

Sheet Spese
A1: Registro spese matrimonio Excel
A2: Le celle gialle sono modificabili; gli avvisi richiedono un controllo umano.
A3: Data | B3: Categoria | C3: Attività o spesa | D3: Quantità | E3: Importo unitario | F3: Totale | G3: Fornitore | H3: Responsabile | I3: Stato | J3: Giustificativo
A4: 46023 | B4: Location | C4: Esempio fittizio — acconto per spazio cerimonia | D4: 1 | E4: 2500 | F4: =IF(OR(D4="",E4=""),"",IFERROR(D4*E4,"")) | G4: Fornitore Fittizio Aurora S.r.l. | H4: Referente Fittizio A | I4: Pagato | J4: Presente | L4: =Parametri!A6 | M4: =Parametri!D6 | N4: =Parametri!F6 | O4: =Parametri!B18
A5: 46244 | B5: Ristorazione | C5: Esempio fittizio — servizio pasti per invitati | D5: 80 | E5: 95 | F5: =IF(OR(D5="",E5=""),"",IFERROR(D5*E5,"")) | G5: Fornitore Fittizio Tavola S.r.l. | H5: Referente Fittizio B | I5: Da pagare | J5: Da verificare | L5: =Parametri!A7 | M5: =Parametri!D7 | N5: =Parametri!F7 | O5: =Parametri!B19
A6: 46252 | B6: Abiti | C6: Esempio fittizio — abiti per la coppia | D6: 2 | E6: 1100 | F6: =IF(OR(D6="",E6=""),"",IFERROR(D6*E6,"")) | G6: Fornitore Fittizio Seta S.n.c. | H6: Referente Fittizio A | I6: Pagato | J6: Presente | L6: =Parametri!A8 | M6: =Parametri!D8 | N6: =Parametri!F8 | O6: =Parametri!B20
A7: 46258 | B7: Fotografia | C7: Esempio fittizio — servizio fotografico | D7: 1 | E7: 1800 | F7: =IF(OR(D7="",E7=""),"",IFERROR(D7*E7,"")) | G7: Fornitore Fittizio Scatto S.r.l. | H7: Referente Fittizio C | I7: Da verificare | J7: Presente | L7: =Parametri!A9 | M7: =IFERROR("","") | N7: =IFERROR("","") | O7: =Parametri!B21
A8: 46265 | B8: Musica | C8: Esempio fittizio — accompagnamento musicale | D8: 1 | E8: 900 | F8: =IF(OR(D8="",E8=""),"",IFERROR(D8*E8,"")) | G8: Fornitore Fittizio Nota S.r.l. | H8: Referente Fittizio B | I8: Da pagare | J8: Non disponibile | L8: =Parametri!A10 | M8: =IFERROR("","") | N8: =IFERROR("","") | O8: =Parametri!B3
A9: 46271 | B9: Fiori e decorazioni | C9: Esempio fittizio — composizioni decorative | D9: 1 | E9: 1250 | F9: =IF(OR(D9="",E9=""),"",IFERROR(D9*E9,"")) | G9: Fornitore Fittizio Petalo S.a.s. | H9: Referente Fittizio D | I9: Pagato | J9: Da verificare | L9: =Parametri!A11 | M9: =IFERROR("","") | N9: =IFERROR("","") | O9: =IFERROR("","")
A10: 46276 | B10: Trasporti | C10: Esempio fittizio — mezzi per gli spostamenti | D10: 2 | E10: 380 | F10: =IF(OR(D10="",E10=""),"",IFERROR(D10*E10,"")) | G10: Fornitore Fittizio Ruota S.r.l. | H10: Referente Fittizio C | I10: Pagato | J10: Presente | L10: =Parametri!A12 | M10: =IFERROR("","") | N10: =IFERROR("","") | O10: =IFERROR("","")
A11: 46283 | B11: Partecipazioni | C11: Esempio fittizio — stampa partecipazioni | D11: 80 | E11: 3.2 | F11: =IF(OR(D11="",E11=""),"",IFERROR(D11*E11,"")) | G11: Fornitore Fittizio Carta S.n.c. | H11: Referente Fittizio D | I11: Pagato | J11: Presente | L11: =Parametri!A13 | M11: =IFERROR("","") | N11: =IFERROR("","") | O11: =IFERROR("","")
A12: 46290 | B12: Bomboniere | C12: Esempio fittizio — confezioni ricordo | D12: 80 | E12: 7.5 | F12: =IF(OR(D12="",E12=""),"",IFERROR(D12*E12,"")) | G12: Fornitore Fittizio Ricordo S.r.l. | H12: Referente Fittizio A | I12: Da pagare | J12: Da verificare | L12: =Parametri!A14 | M12: =IFERROR("","") | N12: =IFERROR("","") | O12: =IFERROR("","")
A13: 46297 | B13: Cerimonia | C13: Esempio fittizio — materiali per la cerimonia | D13: 1 | E13: 500 | F13: =IF(OR(D13="",E13=""),"",IFERROR(D13*E13,"")) | G13: Fornitore Fittizio Arco S.a.s. | H13: Referente Fittizio B | I13: Da verificare | J13: Non disponibile | L13: =Parametri!A15 | M13: =IFERROR("","") | N13: =IFERROR("","") | O13: =IFERROR("","")
F14: =IF(OR(D14="",E14=""),"",IFERROR(D14*E14,"")) | L14: =IFERROR("","") | M14: =IFERROR("","") | N14: =IFERROR("","") | O14: =IFERROR("","")
F15: =IF(OR(D15="",E15=""),"",IFERROR(D15*E15,"")) | L15: =IFERROR("","") | M15: =IFERROR("","") | N15: =IFERROR("","") | O15: =IFERROR("","")
F16: =IF(OR(D16="",E16=""),"",IFERROR(D16*E16,"")) | L16: =IFERROR("","") | M16: =IFERROR("","") | N16: =IFERROR("","") | O16: =IFERROR("","")
F17: =IF(OR(D17="",E17=""),"",IFERROR(D17*E17,"")) | L17: =IFERROR("","") | M17: =IFERROR("","") | N17: =IFERROR("","") | O17: =IFERROR("","")
F18: =IF(OR(D18="",E18=""),"",IFERROR(D18*E18,"")) | L18: =IFERROR("","") | M18: =IFERROR("","") | N18: =IFERROR("","") | O18: =IFERROR("","")
F19: =IF(OR(D19="",E19=""),"",IFERROR(D19*E19,"")) | L19: =IFERROR("","") | M19: =IFERROR("","") | N19: =IFERROR("","") | O19: =IFERROR("","")
F20: =IF(OR(D20="",E20=""),"",IFERROR(D20*E20,"")) | L20: =IFERROR("","") | M20: =IFERROR("","") | N20: =IFERROR("","") | O20: =IFERROR("","")
F21: =IF(OR(D21="",E21=""),"",IFERROR(D21*E21,"")) | L21: =IFERROR("","") | M21: =IFERROR("","") | N21: =IFERROR("","") | O21: =IFERROR("","")
F22: =IF(OR(D22="",E22=""),"",IFERROR(D22*E22,"")) | L22: =IFERROR("","") | M22: =IFERROR("","") | N22: =IFERROR("","") | O22: =IFERROR("","")
F23: =IF(OR(D23="",E23=""),"",IFERROR(D23*E23,"")) | L23: =IFERROR("","") | M23: =IFERROR("","") | N23: =IFERROR("","") | O23: =IFERROR("","")
F24: =IF(OR(D24="",E24=""),"",IFERROR(D24*E24,"")) | L24: =IFERROR("","") | M24: =IFERROR("","") | N24: =IFERROR("","") | O24: =IFERROR("","")
F25: =IF(OR(D25="",E25=""),"",IFERROR(D25*E25,"")) | L25: =IFERROR("","") | M25: =IFERROR("","") | N25: =IFERROR("","") | O25: =IFERROR("","")
... F103: =IF(OR(D103="",E103=""),"",IFERROR(D103*E103,"")) | L103: =IFERROR("","") | M103: =IFERROR("","") | N103: =IFERROR("","") | O103: =IFERROR("","")

Sheet Parametri
A1: Parametri modificabili del registro spese
A2: Budget complessivo indicativo | B2: 25000
A3: Soglia interna di controllo giustificativo | B3: 500
A5: Categoria | B5: Budget indicativo | D5: Stato spesa | F5: Stato giustificativo
A6: Location | B6: 5000 | D6: Pagato | F6: Presente
A7: Ristorazione | B7: 9000 | D7: Da pagare | F7: Da verificare
A8: Abiti | B8: 2800 | D8: Da verificare | F8: Non disponibile
A9: Fotografia | B9: 2200
A10: Musica | B10: 1200
A11: Fiori e decorazioni | B11: 1600
A12: Trasporti | B12: 1000
A13: Partecipazioni | B13: 500
A14: Bomboniere | B14: 900
A15: Cerimonia | B15: 800
A17: Limite di inserimento | B17: Valore modificabile
A18: Data minima del registro | B18: 46023
A19: Data massima del registro | B19: 47118
A20: Quantità massima per voce | B20: 5000
A21: Importo unitario massimo | B21: 100000
