Workbook

Sheet Riepilogo
A1: Ripartizione spese tra sposi
A3: Indicatore | B3: Valore
A4: Totale spese attive | B4: =IF(COUNTIF(Spese!$B$5:$B$104,"<>")=0,"",IFERROR(SUMIFS(Spese!$E$5:$E$104,Spese!$I$5:$I$104,Parametri!$D$4)+SUMIFS(Spese!$E$5:$E$104,Spese!$I$5:$I$104,Parametri!$D$5)+SUMIFS(Spese!$E$5:$E$104,Spese!$I$5:$I$104,Parametri!$D$6),""))
A5: Totale già pagato | B5: =IF(COUNTIF(Spese!$B$5:$B$104,"<>")=0,"",IFERROR(SUMIFS(Spese!$E$5:$E$104,Spese!$I$5:$I$104,Parametri!$D$6),""))
A6: Residuo non pagato | B6: =IF(COUNTIF(Spese!$B$5:$B$104,"<>")=0,"",IFERROR(SUMIFS(Spese!$E$5:$E$104,Spese!$I$5:$I$104,Parametri!$D$4)+SUMIFS(Spese!$E$5:$E$104,Spese!$I$5:$I$104,Parametri!$D$5),""))
A7: Quota complessiva sposa | B7: =IF(COUNTIF(Spese!$B$5:$B$104,"<>")=0,"",IFERROR(SUM(Spese!$K$5:$K$104),""))
A8: Quota complessiva sposo | B8: =IF(COUNTIF(Spese!$B$5:$B$104,"<>")=0,"",IFERROR(SUM(Spese!$L$5:$L$104),""))
A9: Anticipato dalla sposa | B9: =IF(COUNTIF(Spese!$B$5:$B$104,"<>")=0,"",IFERROR(SUM(Spese!$M$5:$M$104),""))
A10: Anticipato dallo sposo | B10: =IF(COUNTIF(Spese!$B$5:$B$104,"<>")=0,"",IFERROR(SUM(Spese!$N$5:$N$104),""))
A11: Quota sposa sulle spese pagate | B11: =IF(COUNTIF(Spese!$B$5:$B$104,"<>")=0,"",IFERROR(SUMIFS(Spese!$K$5:$K$104,Spese!$I$5:$I$104,Parametri!$D$6),""))
A12: Quota sposo sulle spese pagate | B12: =IF(COUNTIF(Spese!$B$5:$B$104,"<>")=0,"",IFERROR(SUMIFS(Spese!$L$5:$L$104,Spese!$I$5:$I$104,Parametri!$D$6),""))
A13: Conguaglio netto verso la sposa | B13: =IF(OR(B9="",B11=""),"",IFERROR(B9-B11,""))
A14: Direzione del conguaglio | B14: =IF(B13="","",IF(B13>0,"Lo sposo rimborsa la sposa",IF(B13<0,"La sposa rimborsa lo sposo","Nessun conguaglio")))
A15: Importo del conguaglio | B15: =IF(B13="","",IFERROR(ABS(B13),""))
A16: Voci da controllare | B16: =IF(COUNTIF(Spese!$B$5:$B$104,"<>")=0,"",IFERROR(COUNTIFS(Spese!$I$5:$I$104,Parametri!$D$6,Spese!$F$5:$F$104,Parametri!$E$6)+COUNTIFS(Spese!$I$5:$I$104,"<>"&Parametri!$D$6,Spese!$I$5:$I$104,"<>",Spese!$F$5:$F$104,"<>"&Parametri!$E$6,Spese!$F$5:$F$104,"<>"),""))
D19: Stato | E19: Importo
D20: =Parametri!$D$4 | E20: =IF(COUNTIF(Spese!$B$5:$B$104,"<>")=0,0,IFERROR(SUMIFS(Spese!$E$5:$E$104,Spese!$I$5:$I$104,$D20),0))
D21: =Parametri!$D$5 | E21: =IF(COUNTIF(Spese!$B$5:$B$104,"<>")=0,0,IFERROR(SUMIFS(Spese!$E$5:$E$104,Spese!$I$5:$I$104,$D21),0))
D22: =Parametri!$D$6 | E22: =IF(COUNTIF(Spese!$B$5:$B$104,"<>")=0,0,IFERROR(SUMIFS(Spese!$E$5:$E$104,Spese!$I$5:$I$104,$D22),0))
D23: =Parametri!$D$7 | E23: =IF(COUNTIF(Spese!$B$5:$B$104,"<>")=0,0,IFERROR(SUMIFS(Spese!$E$5:$E$104,Spese!$I$5:$I$104,$D23),0))

Sheet Spese
A1: Registro delle spese e delle ripartizioni
A2: Esempi fittizi | B2: Gli avvisi richiedono un controllo umano.
A4: Data | B4: Attività | C4: Fornitore fittizio | D4: Quantità | E4: Importo totale (€) | F4: Pagato da | G4: Quota sposa (%) | H4: Quota sposo (%) | I4: Stato | J4: Responsabile | K4: Quota sposa (€) | L4: Quota sposo (€) | M4: Anticipo sposa (€) | N4: Anticipo sposo (€)
A5: 46281 | B5: Caparra della location | C5: Villa Fittizia dei Gelsi | D5: 1 | E5: 5000 | F5: Sposa | G5: 0.5 | H5: =IF(OR($B5="",$G5=""),"",IFERROR(1-$G5,"")) | I5: Pagata | J5: Entrambi | K5: =IF(OR($B5="",$E5="",$G5="",$I5="",$I5=$R$8),"",IFERROR($E5*$G5,"")) | L5: =IF(OR($B5="",$E5="",$H5="",$I5="",$I5=$R$8),"",IFERROR($E5*$H5,"")) | M5: =IF(OR($B5="",$E5="",$I5<>$R$7,$F5<>$S$5),"",IFERROR($E5,"")) | N5: =IF(OR($B5="",$E5="",$I5<>$R$7,$F5<>$S$6),"",IFERROR($E5,"")) | P5: =Parametri!$B$4 | Q5: =Parametri!$B$5 | R5: =Parametri!$D$4 | S5: =Parametri!$E$4 | T5: =Parametri!$F$4
A6: 46288 | B6: Servizio fotografico | C6: Studio Immaginario Luce | D6: 1 | E6: 1800 | F6: Sposo | G6: 0.5 | H6: =IF(OR($B6="",$G6=""),"",IFERROR(1-$G6,"")) | I6: Pagata | J6: Entrambi | K6: =IF(OR($B6="",$E6="",$G6="",$I6="",$I6=$R$8),"",IFERROR($E6*$G6,"")) | L6: =IF(OR($B6="",$E6="",$H6="",$I6="",$I6=$R$8),"",IFERROR($E6*$H6,"")) | M6: =IF(OR($B6="",$E6="",$I6<>$R$7,$F6<>$S$5),"",IFERROR($E6,"")) | N6: =IF(OR($B6="",$E6="",$I6<>$R$7,$F6<>$S$6),"",IFERROR($E6,"")) | P6: =Parametri!$B$6 | R6: =Parametri!$D$5 | S6: =Parametri!$E$5 | T6: =Parametri!$F$5
A7: 46301 | B7: Musica del ricevimento | C7: Quartetto Fittizio Armonia | D7: 1 | E7: 1200 | F7: Non pagato | G7: 0.5 | H7: =IF(OR($B7="",$G7=""),"",IFERROR(1-$G7,"")) | I7: Confermata | J7: Sposo | K7: =IF(OR($B7="",$E7="",$G7="",$I7="",$I7=$R$8),"",IFERROR($E7*$G7,"")) | L7: =IF(OR($B7="",$E7="",$H7="",$I7="",$I7=$R$8),"",IFERROR($E7*$H7,"")) | M7: =IF(OR($B7="",$E7="",$I7<>$R$7,$F7<>$S$5),"",IFERROR($E7,"")) | N7: =IF(OR($B7="",$E7="",$I7<>$R$7,$F7<>$S$6),"",IFERROR($E7,"")) | P7: =Parametri!$B$7 | R7: =Parametri!$D$6 | S7: =Parametri!$E$6 | T7: =Parametri!$F$6
A8: 46316 | B8: Abito della sposa | C8: Atelier Esempio Nuvola | D8: 1 | E8: 2600 | F8: Sposa | G8: 1 | H8: =IF(OR($B8="",$G8=""),"",IFERROR(1-$G8,"")) | I8: Pagata | J8: Sposa | K8: =IF(OR($B8="",$E8="",$G8="",$I8="",$I8=$R$8),"",IFERROR($E8*$G8,"")) | L8: =IF(OR($B8="",$E8="",$H8="",$I8="",$I8=$R$8),"",IFERROR($E8*$H8,"")) | M8: =IF(OR($B8="",$E8="",$I8<>$R$7,$F8<>$S$5),"",IFERROR($E8,"")) | N8: =IF(OR($B8="",$E8="",$I8<>$R$7,$F8<>$S$6),"",IFERROR($E8,"")) | P8: =Parametri!$B$8 | R8: =Parametri!$D$7
A9: 46334 | B9: Bomboniere | C9: Laboratorio Fittizio Confetti | D9: 90 | E9: 810 | F9: Non pagato | G9: 0.5 | H9: =IF(OR($B9="",$G9=""),"",IFERROR(1-$G9,"")) | I9: Prevista | J9: Sposa | K9: =IF(OR($B9="",$E9="",$G9="",$I9="",$I9=$R$8),"",IFERROR($E9*$G9,"")) | L9: =IF(OR($B9="",$E9="",$H9="",$I9="",$I9=$R$8),"",IFERROR($E9*$H9,"")) | M9: =IF(OR($B9="",$E9="",$I9<>$R$7,$F9<>$S$5),"",IFERROR($E9,"")) | N9: =IF(OR($B9="",$E9="",$I9<>$R$7,$F9<>$S$6),"",IFERROR($E9,""))
A10: 46351 | B10: Composizioni floreali | C10: Fioreria Immaginaria Petalo | D10: 1 | E10: 1450 | F10: Sposo | G10: 0.5 | H10: =IF(OR($B10="",$G10=""),"",IFERROR(1-$G10,"")) | I10: Pagata | J10: Sposa | K10: =IF(OR($B10="",$E10="",$G10="",$I10="",$I10=$R$8),"",IFERROR($E10*$G10,"")) | L10: =IF(OR($B10="",$E10="",$H10="",$I10="",$I10=$R$8),"",IFERROR($E10*$H10,"")) | M10: =IF(OR($B10="",$E10="",$I10<>$R$7,$F10<>$S$5),"",IFERROR($E10,"")) | N10: =IF(OR($B10="",$E10="",$I10<>$R$7,$F10<>$S$6),"",IFERROR($E10,""))
A11: 46371 | B11: Navette per gli ospiti | C11: Navette Esempio Felice | D11: 2 | E11: 900 | F11: Non pagato | G11: 0.4 | H11: =IF(OR($B11="",$G11=""),"",IFERROR(1-$G11,"")) | I11: Confermata | J11: Sposo | K11: =IF(OR($B11="",$E11="",$G11="",$I11="",$I11=$R$8),"",IFERROR($E11*$G11,"")) | L11: =IF(OR($B11="",$E11="",$H11="",$I11="",$I11=$R$8),"",IFERROR($E11*$H11,"")) | M11: =IF(OR($B11="",$E11="",$I11<>$R$7,$F11<>$S$5),"",IFERROR($E11,"")) | N11: =IF(OR($B11="",$E11="",$I11<>$R$7,$F11<>$S$6),"",IFERROR($E11,""))
A12: 46396 | B12: Torta nuziale | C12: Pasticceria Fittizia Zucchero | D12: 1 | E12: 680 | F12: Non pagato | G12: 0.5 | H12: =IF(OR($B12="",$G12=""),"",IFERROR(1-$G12,"")) | I12: Prevista | J12: Entrambi | K12: =IF(OR($B12="",$E12="",$G12="",$I12="",$I12=$R$8),"",IFERROR($E12*$G12,"")) | L12: =IF(OR($B12="",$E12="",$H12="",$I12="",$I12=$R$8),"",IFERROR($E12*$H12,"")) | M12: =IF(OR($B12="",$E12="",$I12<>$R$7,$F12<>$S$5),"",IFERROR($E12,"")) | N12: =IF(OR($B12="",$E12="",$I12<>$R$7,$F12<>$S$6),"",IFERROR($E12,""))
A13: 46421 | B13: Stampa degli inviti | C13: Tipografia Immaginaria Carta | D13: 80 | E13: 320 | F13: Sposa | G13: 0.5 | H13: =IF(OR($B13="",$G13=""),"",IFERROR(1-$G13,"")) | I13: Pagata | J13: Sposa | K13: =IF(OR($B13="",$E13="",$G13="",$I13="",$I13=$R$8),"",IFERROR($E13*$G13,"")) | L13: =IF(OR($B13="",$E13="",$H13="",$I13="",$I13=$R$8),"",IFERROR($E13*$H13,"")) | M13: =IF(OR($B13="",$E13="",$I13<>$R$7,$F13<>$S$5),"",IFERROR($E13,"")) | N13: =IF(OR($B13="",$E13="",$I13<>$R$7,$F13<>$S$6),"",IFERROR($E13,""))
A14: 46446 | B14: Scenografia luminosa | C14: Effetti Fittizi Cometa | D14: 1 | E14: 750 | F14: Non pagato | G14: 0.5 | H14: =IF(OR($B14="",$G14=""),"",IFERROR(1-$G14,"")) | I14: Annullata | J14: Entrambi | K14: =IF(OR($B14="",$E14="",$G14="",$I14="",$I14=$R$8),"",IFERROR($E14*$G14,"")) | L14: =IF(OR($B14="",$E14="",$H14="",$I14="",$I14=$R$8),"",IFERROR($E14*$H14,"")) | M14: =IF(OR($B14="",$E14="",$I14<>$R$7,$F14<>$S$5),"",IFERROR($E14,"")) | N14: =IF(OR($B14="",$E14="",$I14<>$R$7,$F14<>$S$6),"",IFERROR($E14,""))
H15: =IF(OR($B15="",$G15=""),"",IFERROR(1-$G15,"")) | K15: =IF(OR($B15="",$E15="",$G15="",$I15="",$I15=$R$8),"",IFERROR($E15*$G15,"")) | L15: =IF(OR($B15="",$E15="",$H15="",$I15="",$I15=$R$8),"",IFERROR($E15*$H15,"")) | M15: =IF(OR($B15="",$E15="",$I15<>$R$7,$F15<>$S$5),"",IFERROR($E15,"")) | N15: =IF(OR($B15="",$E15="",$I15<>$R$7,$F15<>$S$6),"",IFERROR($E15,""))
H16: =IF(OR($B16="",$G16=""),"",IFERROR(1-$G16,"")) | K16: =IF(OR($B16="",$E16="",$G16="",$I16="",$I16=$R$8),"",IFERROR($E16*$G16,"")) | L16: =IF(OR($B16="",$E16="",$H16="",$I16="",$I16=$R$8),"",IFERROR($E16*$H16,"")) | M16: =IF(OR($B16="",$E16="",$I16<>$R$7,$F16<>$S$5),"",IFERROR($E16,"")) | N16: =IF(OR($B16="",$E16="",$I16<>$R$7,$F16<>$S$6),"",IFERROR($E16,""))
H17: =IF(OR($B17="",$G17=""),"",IFERROR(1-$G17,"")) | K17: =IF(OR($B17="",$E17="",$G17="",$I17="",$I17=$R$8),"",IFERROR($E17*$G17,"")) | L17: =IF(OR($B17="",$E17="",$H17="",$I17="",$I17=$R$8),"",IFERROR($E17*$H17,"")) | M17: =IF(OR($B17="",$E17="",$I17<>$R$7,$F17<>$S$5),"",IFERROR($E17,"")) | N17: =IF(OR($B17="",$E17="",$I17<>$R$7,$F17<>$S$6),"",IFERROR($E17,""))
H18: =IF(OR($B18="",$G18=""),"",IFERROR(1-$G18,"")) | K18: =IF(OR($B18="",$E18="",$G18="",$I18="",$I18=$R$8),"",IFERROR($E18*$G18,"")) | L18: =IF(OR($B18="",$E18="",$H18="",$I18="",$I18=$R$8),"",IFERROR($E18*$H18,"")) | M18: =IF(OR($B18="",$E18="",$I18<>$R$7,$F18<>$S$5),"",IFERROR($E18,"")) | N18: =IF(OR($B18="",$E18="",$I18<>$R$7,$F18<>$S$6),"",IFERROR($E18,""))
H19: =IF(OR($B19="",$G19=""),"",IFERROR(1-$G19,"")) | K19: =IF(OR($B19="",$E19="",$G19="",$I19="",$I19=$R$8),"",IFERROR($E19*$G19,"")) | L19: =IF(OR($B19="",$E19="",$H19="",$I19="",$I19=$R$8),"",IFERROR($E19*$H19,"")) | M19: =IF(OR($B19="",$E19="",$I19<>$R$7,$F19<>$S$5),"",IFERROR($E19,"")) | N19: =IF(OR($B19="",$E19="",$I19<>$R$7,$F19<>$S$6),"",IFERROR($E19,""))
H20: =IF(OR($B20="",$G20=""),"",IFERROR(1-$G20,"")) | K20: =IF(OR($B20="",$E20="",$G20="",$I20="",$I20=$R$8),"",IFERROR($E20*$G20,"")) | L20: =IF(OR($B20="",$E20="",$H20="",$I20="",$I20=$R$8),"",IFERROR($E20*$H20,"")) | M20: =IF(OR($B20="",$E20="",$I20<>$R$7,$F20<>$S$5),"",IFERROR($E20,"")) | N20: =IF(OR($B20="",$E20="",$I20<>$R$7,$F20<>$S$6),"",IFERROR($E20,""))
H21: =IF(OR($B21="",$G21=""),"",IFERROR(1-$G21,"")) | K21: =IF(OR($B21="",$E21="",$G21="",$I21="",$I21=$R$8),"",IFERROR($E21*$G21,"")) | L21: =IF(OR($B21="",$E21="",$H21="",$I21="",$I21=$R$8),"",IFERROR($E21*$H21,"")) | M21: =IF(OR($B21="",$E21="",$I21<>$R$7,$F21<>$S$5),"",IFERROR($E21,"")) | N21: =IF(OR($B21="",$E21="",$I21<>$R$7,$F21<>$S$6),"",IFERROR($E21,""))
H22: =IF(OR($B22="",$G22=""),"",IFERROR(1-$G22,"")) | K22: =IF(OR($B22="",$E22="",$G22="",$I22="",$I22=$R$8),"",IFERROR($E22*$G22,"")) | L22: =IF(OR($B22="",$E22="",$H22="",$I22="",$I22=$R$8),"",IFERROR($E22*$H22,"")) | M22: =IF(OR($B22="",$E22="",$I22<>$R$7,$F22<>$S$5),"",IFERROR($E22,"")) | N22: =IF(OR($B22="",$E22="",$I22<>$R$7,$F22<>$S$6),"",IFERROR($E22,""))
H23: =IF(OR($B23="",$G23=""),"",IFERROR(1-$G23,"")) | K23: =IF(OR($B23="",$E23="",$G23="",$I23="",$I23=$R$8),"",IFERROR($E23*$G23,"")) | L23: =IF(OR($B23="",$E23="",$H23="",$I23="",$I23=$R$8),"",IFERROR($E23*$H23,"")) | M23: =IF(OR($B23="",$E23="",$I23<>$R$7,$F23<>$S$5),"",IFERROR($E23,"")) | N23: =IF(OR($B23="",$E23="",$I23<>$R$7,$F23<>$S$6),"",IFERROR($E23,""))
H24: =IF(OR($B24="",$G24=""),"",IFERROR(1-$G24,"")) | K24: =IF(OR($B24="",$E24="",$G24="",$I24="",$I24=$R$8),"",IFERROR($E24*$G24,"")) | L24: =IF(OR($B24="",$E24="",$H24="",$I24="",$I24=$R$8),"",IFERROR($E24*$H24,"")) | M24: =IF(OR($B24="",$E24="",$I24<>$R$7,$F24<>$S$5),"",IFERROR($E24,"")) | N24: =IF(OR($B24="",$E24="",$I24<>$R$7,$F24<>$S$6),"",IFERROR($E24,""))
H25: =IF(OR($B25="",$G25=""),"",IFERROR(1-$G25,"")) | K25: =IF(OR($B25="",$E25="",$G25="",$I25="",$I25=$R$8),"",IFERROR($E25*$G25,"")) | L25: =IF(OR($B25="",$E25="",$H25="",$I25="",$I25=$R$8),"",IFERROR($E25*$H25,"")) | M25: =IF(OR($B25="",$E25="",$I25<>$R$7,$F25<>$S$5),"",IFERROR($E25,"")) | N25: =IF(OR($B25="",$E25="",$I25<>$R$7,$F25<>$S$6),"",IFERROR($E25,""))
H26: =IF(OR($B26="",$G26=""),"",IFERROR(1-$G26,"")) | K26: =IF(OR($B26="",$E26="",$G26="",$I26="",$I26=$R$8),"",IFERROR($E26*$G26,"")) | L26: =IF(OR($B26="",$E26="",$H26="",$I26="",$I26=$R$8),"",IFERROR($E26*$H26,"")) | M26: =IF(OR($B26="",$E26="",$I26<>$R$7,$F26<>$S$5),"",IFERROR($E26,"")) | N26: =IF(OR($B26="",$E26="",$I26<>$R$7,$F26<>$S$6),"",IFERROR($E26,""))
... H104: =IF(OR($B104="",$G104=""),"",IFERROR(1-$G104,"")) | K104: =IF(OR($B104="",$E104="",$G104="",$I104="",$I104=$R$8),"",IFERROR($E104*$G104,"")) | L104: =IF(OR($B104="",$E104="",$H104="",$I104="",$I104=$R$8),"",IFERROR($E104*$H104,"")) | M104: =IF(OR($B104="",$E104="",$I104<>$R$7,$F104<>$S$5),"",IFERROR($E104,"")) | N104: =IF(OR($B104="",$E104="",$I104<>$R$7,$F104<>$S$6),"",IFERROR($E104,""))

Sheet Parametri
A1: Parametri modificabili
A2: Ipotesi operative | B2: Controllare manualmente la coerenza di date, importi ed elenchi.
A3: Parametro | B3: Valore | D3: Stati | E3: Pagato da | F3: Responsabile
A4: Data minima registrabile | B4: 46023 | D4: Prevista | E4: Sposa | F4: Sposa
A5: Data massima registrabile | B5: 47118 | D5: Confermata | E5: Sposo | F5: Sposo
A6: Quantità massima per voce | B6: 500 | D6: Pagata | E6: Non pagato | F6: Entrambi
A7: Importo massimo per voce (€) | B7: 50000 | D7: Annullata
A8: Soglia importo da verificare (€) | B8: 5000
