Workbook

Sheet Riepilogo
A1: Scostamento budget matrimonio
A2: Indicatori calcolati dal registro Budget; tutti gli esempi inseriti sono fittizi.
A4: Indicatore | B4: Valore | D4: Categoria | E4: Preventivo | F4: Consuntivo
A5: Preventivo totale | B5: =IF(COUNTIF(Budget!$B$5:$B$104,"<>")=0,"",SUM(Budget!$F$5:$F$104)) | D5: =Parametri!A5 | E5: =IF(COUNTIF(Budget!$A$5:$A$104,D5)=0,NA(),SUMIF(Budget!$A$5:$A$104,D5,Budget!$F$5:$F$104)) | F5: =IF(COUNTIFS(Budget!$A$5:$A$104,D5,Budget!$H$5:$H$104,">=0")=0,NA(),SUMIF(Budget!$A$5:$A$104,D5,Budget!$H$5:$H$104))
A6: Impegnato totale | B6: =IF(COUNT(Budget!$G$5:$G$104)=0,"",SUM(Budget!$G$5:$G$104)) | D6: =Parametri!A6 | E6: =IF(COUNTIF(Budget!$A$5:$A$104,D6)=0,NA(),SUMIF(Budget!$A$5:$A$104,D6,Budget!$F$5:$F$104)) | F6: =IF(COUNTIFS(Budget!$A$5:$A$104,D6,Budget!$H$5:$H$104,">=0")=0,NA(),SUMIF(Budget!$A$5:$A$104,D6,Budget!$H$5:$H$104))
A7: Consuntivo registrato | B7: =IF(COUNT(Budget!$H$5:$H$104)=0,"",SUM(Budget!$H$5:$H$104)) | D7: =Parametri!A7 | E7: =IF(COUNTIF(Budget!$A$5:$A$104,D7)=0,NA(),SUMIF(Budget!$A$5:$A$104,D7,Budget!$F$5:$F$104)) | F7: =IF(COUNTIFS(Budget!$A$5:$A$104,D7,Budget!$H$5:$H$104,">=0")=0,NA(),SUMIF(Budget!$A$5:$A$104,D7,Budget!$H$5:$H$104))
A8: Scostamento impegnato | B8: =IF(OR(B5="",B6=""),"",IFERROR(B6-B5,"")) | D8: =Parametri!A8 | E8: =IF(COUNTIF(Budget!$A$5:$A$104,D8)=0,NA(),SUMIF(Budget!$A$5:$A$104,D8,Budget!$F$5:$F$104)) | F8: =IF(COUNTIFS(Budget!$A$5:$A$104,D8,Budget!$H$5:$H$104,">=0")=0,NA(),SUMIF(Budget!$A$5:$A$104,D8,Budget!$H$5:$H$104))
A9: Scostamento consuntivo | B9: =IF(OR(B5="",B7=""),"",IFERROR(B7-B5,"")) | D9: =Parametri!A9 | E9: =IF(COUNTIF(Budget!$A$5:$A$104,D9)=0,NA(),SUMIF(Budget!$A$5:$A$104,D9,Budget!$F$5:$F$104)) | F9: =IF(COUNTIFS(Budget!$A$5:$A$104,D9,Budget!$H$5:$H$104,">=0")=0,NA(),SUMIF(Budget!$A$5:$A$104,D9,Budget!$H$5:$H$104))
A10: % scostamento consuntivo | B10: =IF(OR(B5="",B7=""),"",IFERROR((B7-B5)/B5,"")) | D10: =Parametri!A10 | E10: =IF(COUNTIF(Budget!$A$5:$A$104,D10)=0,NA(),SUMIF(Budget!$A$5:$A$104,D10,Budget!$F$5:$F$104)) | F10: =IF(COUNTIFS(Budget!$A$5:$A$104,D10,Budget!$H$5:$H$104,">=0")=0,NA(),SUMIF(Budget!$A$5:$A$104,D10,Budget!$H$5:$H$104))
A11: Voci inserite | B11: =COUNTIF(Budget!$B$5:$B$104,"<>") | D11: =Parametri!A11 | E11: =IF(COUNTIF(Budget!$A$5:$A$104,D11)=0,NA(),SUMIF(Budget!$A$5:$A$104,D11,Budget!$F$5:$F$104)) | F11: =IF(COUNTIFS(Budget!$A$5:$A$104,D11,Budget!$H$5:$H$104,">=0")=0,NA(),SUMIF(Budget!$A$5:$A$104,D11,Budget!$H$5:$H$104))
A12: Voci oltre preventivo | B12: =COUNTIF(Budget!$M$5:$M$104,">0") | D12: =Parametri!A12 | E12: =IF(COUNTIF(Budget!$A$5:$A$104,D12)=0,NA(),SUMIF(Budget!$A$5:$A$104,D12,Budget!$F$5:$F$104)) | F12: =IF(COUNTIFS(Budget!$A$5:$A$104,D12,Budget!$H$5:$H$104,">=0")=0,NA(),SUMIF(Budget!$A$5:$A$104,D12,Budget!$H$5:$H$104))
A13: Voci da verificare | B13: =COUNTIF(Budget!$K$5:$K$104,"Da verificare") | D13: =Parametri!A13 | E13: =IF(COUNTIF(Budget!$A$5:$A$104,D13)=0,NA(),SUMIF(Budget!$A$5:$A$104,D13,Budget!$F$5:$F$104)) | F13: =IF(COUNTIFS(Budget!$A$5:$A$104,D13,Budget!$H$5:$H$104,">=0")=0,NA(),SUMIF(Budget!$A$5:$A$104,D13,Budget!$H$5:$H$104))
A14: Copertura consuntivi | B14: =IFERROR(COUNT(Budget!$H$5:$H$104)/COUNTIF(Budget!$B$5:$B$104,"<>"),"") | D14: =Parametri!A14 | E14: =IF(COUNTIF(Budget!$A$5:$A$104,D14)=0,NA(),SUMIF(Budget!$A$5:$A$104,D14,Budget!$F$5:$F$104)) | F14: =IF(COUNTIFS(Budget!$A$5:$A$104,D14,Budget!$H$5:$H$104,">=0")=0,NA(),SUMIF(Budget!$A$5:$A$104,D14,Budget!$H$5:$H$104))

Sheet Budget
A1: Registro scostamenti del budget
A2: Modificare le celle gialle. Gli avvisi evidenziano voci da controllare manualmente.
A4: Categoria | B4: Voce o attività | C4: Data | D4: Quantità | E4: Preventivo unitario (€) | F4: Preventivo totale (€) | G4: Impegnato (€) | H4: Consuntivo registrato (€) | I4: Fornitore | J4: Responsabile | K4: Stato | L4: Scostamento impegnato (€) | M4: Scostamento consuntivo (€) | N4: Scostamento consuntivo (%)
A5: Cerimonia | B5: Allestimento rito simbolico fittizio | C5: 46296 | D5: 1 | E5: 1200 | F5: =IF(OR(B5="",D5="",E5=""),"",IFERROR(D5*E5,"")) | G5: 1250 | H5: 1280 | I5: Impresa Altare di Carta (fittizia) | J5: Referente cerimonia fittizio | K5: Completato | L5: =IF(OR(B5="",F5="",G5=""),"",IFERROR(G5-F5,"")) | M5: =IF(OR(B5="",F5="",H5=""),"",IFERROR(H5-F5,"")) | N5: =IF(OR(B5="",F5="",H5="",F5=0),"",IFERROR((H5-F5)/F5,""))
A6: Ricevimento | B6: Ricevimento dimostrativo fittizio | C6: 46321 | D6: 90 | E6: 145 | F6: =IF(OR(B6="",D6="",E6=""),"",IFERROR(D6*E6,"")) | G6: 13200 | H6: 13410 | I6: Villa Arcobaleno Immaginaria (fittizia) | J6: Referente ricevimento fittizio | K6: In corso | L6: =IF(OR(B6="",F6="",G6=""),"",IFERROR(G6-F6,"")) | M6: =IF(OR(B6="",F6="",H6=""),"",IFERROR(H6-F6,"")) | N6: =IF(OR(B6="",F6="",H6="",F6=0),"",IFERROR((H6-F6)/F6,""))
A7: Abiti | B7: Abiti di prova inventati | C7: 46346 | D7: 2 | E7: 1350 | F7: =IF(OR(B7="",D7="",E7=""),"",IFERROR(D7*E7,"")) | G7: 2600 | H7: 2650 | I7: Atelier Ago di Luna (fittizio) | J7: Coppia fittizia | K7: Completato | L7: =IF(OR(B7="",F7="",G7=""),"",IFERROR(G7-F7,"")) | M7: =IF(OR(B7="",F7="",H7=""),"",IFERROR(H7-F7,"")) | N7: =IF(OR(B7="",F7="",H7="",F7=0),"",IFERROR((H7-F7)/F7,""))
A8: Foto e video | B8: Servizio fotografico dimostrativo | C8: 46361 | D8: 1 | E8: 2400 | F8: =IF(OR(B8="",D8="",E8=""),"",IFERROR(D8*E8,"")) | G8: 2500 | H8: 2475 | I8: Studio Foto Sogno Inventato (fittizio) | J8: Referente budget fittizio | K8: Confermato | L8: =IF(OR(B8="",F8="",G8=""),"",IFERROR(G8-F8,"")) | M8: =IF(OR(B8="",F8="",H8=""),"",IFERROR(H8-F8,"")) | N8: =IF(OR(B8="",F8="",H8="",F8=0),"",IFERROR((H8-F8)/F8,""))
A9: Musica | B9: Intrattenimento musicale fittizio | C9: 46376 | D9: 5 | E9: 180 | F9: =IF(OR(B9="",D9="",E9=""),"",IFERROR(D9*E9,"")) | G9: 950 | H9: 940 | I9: Gruppo Note di Cartone (fittizio) | J9: Coordinatore fittizio | K9: In corso | L9: =IF(OR(B9="",F9="",G9=""),"",IFERROR(G9-F9,"")) | M9: =IF(OR(B9="",F9="",H9=""),"",IFERROR(H9-F9,"")) | N9: =IF(OR(B9="",F9="",H9="",F9=0),"",IFERROR((H9-F9)/F9,""))
A10: Fiori e allestimenti | B10: Composizioni floreali immaginarie | C10: 46396 | D10: 1 | E10: 2100 | F10: =IF(OR(B10="",D10="",E10=""),"",IFERROR(D10*E10,"")) | G10: 2050 | H10: 2180 | I10: Laboratorio Petali Finti (fittizio) | J10: Referente cerimonia fittizio | K10: Da verificare | L10: =IF(OR(B10="",F10="",G10=""),"",IFERROR(G10-F10,"")) | M10: =IF(OR(B10="",F10="",H10=""),"",IFERROR(H10-F10,"")) | N10: =IF(OR(B10="",F10="",H10="",F10=0),"",IFERROR((H10-F10)/F10,""))
A11: Trasporti | B11: Noleggi di trasporto dimostrativi | C11: 46416 | D11: 3 | E11: 320 | F11: =IF(OR(B11="",D11="",E11=""),"",IFERROR(D11*E11,"")) | G11: 960 | H11: 900 | I11: Noleggio Ruote di Fantasia (fittizio) | J11: Referente ospiti fittizio | K11: Completato | L11: =IF(OR(B11="",F11="",G11=""),"",IFERROR(G11-F11,"")) | M11: =IF(OR(B11="",F11="",H11=""),"",IFERROR(H11-F11,"")) | N11: =IF(OR(B11="",F11="",H11="",F11=0),"",IFERROR((H11-F11)/F11,""))
A12: Partecipazioni | B12: Partecipazioni cartacee di fantasia | C12: 46436 | D12: 90 | E12: 3.8 | F12: =IF(OR(B12="",D12="",E12=""),"",IFERROR(D12*E12,"")) | G12: 360 | H12: 355 | I12: Tipografia Inchiostro Immaginario (fittizia) | J12: Coppia fittizia | K12: Completato | L12: =IF(OR(B12="",F12="",G12=""),"",IFERROR(G12-F12,"")) | M12: =IF(OR(B12="",F12="",H12=""),"",IFERROR(H12-F12,"")) | N12: =IF(OR(B12="",F12="",H12="",F12=0),"",IFERROR((H12-F12)/F12,""))
A13: Bomboniere | B13: Ricordi per ospiti inventati | C13: 46456 | D13: 90 | E13: 8.5 | F13: =IF(OR(B13="",D13="",E13=""),"",IFERROR(D13*E13,"")) | G13: 810 | H13: 790 | I13: Officina Ricordi di Carta (fittizia) | J13: Referente ospiti fittizio | K13: Confermato | L13: =IF(OR(B13="",F13="",G13=""),"",IFERROR(G13-F13,"")) | M13: =IF(OR(B13="",F13="",H13=""),"",IFERROR(H13-F13,"")) | N13: =IF(OR(B13="",F13="",H13="",F13=0),"",IFERROR((H13-F13)/F13,""))
A14: Varie | B14: Fondo per dettagli dimostrativi | C14: 46476 | D14: 1 | E14: 750 | F14: =IF(OR(B14="",D14="",E14=""),"",IFERROR(D14*E14,"")) | G14: 600 | H14: 880 | I14: Servizi Stella Inventata (fittizi) | J14: Referente budget fittizio | K14: Da verificare | L14: =IF(OR(B14="",F14="",G14=""),"",IFERROR(G14-F14,"")) | M14: =IF(OR(B14="",F14="",H14=""),"",IFERROR(H14-F14,"")) | N14: =IF(OR(B14="",F14="",H14="",F14=0),"",IFERROR((H14-F14)/F14,""))
F15: =IF(OR(B15="",D15="",E15=""),"",IFERROR(D15*E15,"")) | L15: =IF(OR(B15="",F15="",G15=""),"",IFERROR(G15-F15,"")) | M15: =IF(OR(B15="",F15="",H15=""),"",IFERROR(H15-F15,"")) | N15: =IF(OR(B15="",F15="",H15="",F15=0),"",IFERROR((H15-F15)/F15,""))
F16: =IF(OR(B16="",D16="",E16=""),"",IFERROR(D16*E16,"")) | L16: =IF(OR(B16="",F16="",G16=""),"",IFERROR(G16-F16,"")) | M16: =IF(OR(B16="",F16="",H16=""),"",IFERROR(H16-F16,"")) | N16: =IF(OR(B16="",F16="",H16="",F16=0),"",IFERROR((H16-F16)/F16,""))
F17: =IF(OR(B17="",D17="",E17=""),"",IFERROR(D17*E17,"")) | L17: =IF(OR(B17="",F17="",G17=""),"",IFERROR(G17-F17,"")) | M17: =IF(OR(B17="",F17="",H17=""),"",IFERROR(H17-F17,"")) | N17: =IF(OR(B17="",F17="",H17="",F17=0),"",IFERROR((H17-F17)/F17,""))
F18: =IF(OR(B18="",D18="",E18=""),"",IFERROR(D18*E18,"")) | L18: =IF(OR(B18="",F18="",G18=""),"",IFERROR(G18-F18,"")) | M18: =IF(OR(B18="",F18="",H18=""),"",IFERROR(H18-F18,"")) | N18: =IF(OR(B18="",F18="",H18="",F18=0),"",IFERROR((H18-F18)/F18,""))
F19: =IF(OR(B19="",D19="",E19=""),"",IFERROR(D19*E19,"")) | L19: =IF(OR(B19="",F19="",G19=""),"",IFERROR(G19-F19,"")) | M19: =IF(OR(B19="",F19="",H19=""),"",IFERROR(H19-F19,"")) | N19: =IF(OR(B19="",F19="",H19="",F19=0),"",IFERROR((H19-F19)/F19,""))
F20: =IF(OR(B20="",D20="",E20=""),"",IFERROR(D20*E20,"")) | L20: =IF(OR(B20="",F20="",G20=""),"",IFERROR(G20-F20,"")) | M20: =IF(OR(B20="",F20="",H20=""),"",IFERROR(H20-F20,"")) | N20: =IF(OR(B20="",F20="",H20="",F20=0),"",IFERROR((H20-F20)/F20,""))
F21: =IF(OR(B21="",D21="",E21=""),"",IFERROR(D21*E21,"")) | L21: =IF(OR(B21="",F21="",G21=""),"",IFERROR(G21-F21,"")) | M21: =IF(OR(B21="",F21="",H21=""),"",IFERROR(H21-F21,"")) | N21: =IF(OR(B21="",F21="",H21="",F21=0),"",IFERROR((H21-F21)/F21,""))
F22: =IF(OR(B22="",D22="",E22=""),"",IFERROR(D22*E22,"")) | L22: =IF(OR(B22="",F22="",G22=""),"",IFERROR(G22-F22,"")) | M22: =IF(OR(B22="",F22="",H22=""),"",IFERROR(H22-F22,"")) | N22: =IF(OR(B22="",F22="",H22="",F22=0),"",IFERROR((H22-F22)/F22,""))
F23: =IF(OR(B23="",D23="",E23=""),"",IFERROR(D23*E23,"")) | L23: =IF(OR(B23="",F23="",G23=""),"",IFERROR(G23-F23,"")) | M23: =IF(OR(B23="",F23="",H23=""),"",IFERROR(H23-F23,"")) | N23: =IF(OR(B23="",F23="",H23="",F23=0),"",IFERROR((H23-F23)/F23,""))
F24: =IF(OR(B24="",D24="",E24=""),"",IFERROR(D24*E24,"")) | L24: =IF(OR(B24="",F24="",G24=""),"",IFERROR(G24-F24,"")) | M24: =IF(OR(B24="",F24="",H24=""),"",IFERROR(H24-F24,"")) | N24: =IF(OR(B24="",F24="",H24="",F24=0),"",IFERROR((H24-F24)/F24,""))
F25: =IF(OR(B25="",D25="",E25=""),"",IFERROR(D25*E25,"")) | L25: =IF(OR(B25="",F25="",G25=""),"",IFERROR(G25-F25,"")) | M25: =IF(OR(B25="",F25="",H25=""),"",IFERROR(H25-F25,"")) | N25: =IF(OR(B25="",F25="",H25="",F25=0),"",IFERROR((H25-F25)/F25,""))
F26: =IF(OR(B26="",D26="",E26=""),"",IFERROR(D26*E26,"")) | L26: =IF(OR(B26="",F26="",G26=""),"",IFERROR(G26-F26,"")) | M26: =IF(OR(B26="",F26="",H26=""),"",IFERROR(H26-F26,"")) | N26: =IF(OR(B26="",F26="",H26="",F26=0),"",IFERROR((H26-F26)/F26,""))
... F104: =IF(OR(B104="",D104="",E104=""),"",IFERROR(D104*E104,"")) | L104: =IF(OR(B104="",F104="",G104=""),"",IFERROR(G104-F104,"")) | M104: =IF(OR(B104="",F104="",H104=""),"",IFERROR(H104-F104,"")) | N104: =IF(OR(B104="",F104="",H104="",F104=0),"",IFERROR((H104-F104)/F104,""))

Sheet Parametri
A1: Parametri modificabili
A2: Elenchi e limiti organizzativi di esempio; verificare ogni scelta prima dell'uso.
A4: Categorie | C4: Stati | E4: Responsabili | G4: Parametro | H4: Valore
A5: Cerimonia | C5: Pianificato | E5: Coppia fittizia | G5: Data minima ammessa | H5: 46276
A6: Ricevimento | C6: Preventivo ricevuto | E6: Referente budget fittizio | G6: Data massima ammessa | H6: 47006
A7: Abiti | C7: Confermato | E7: Referente cerimonia fittizio | G7: Quantità massima per voce | H7: 10000
A8: Foto e video | C8: In corso | E8: Referente ricevimento fittizio | G8: Importo massimo per campo | H8: 500000
A9: Musica | C9: Completato | E9: Referente ospiti fittizio
A10: Fiori e allestimenti | C10: Da verificare | E10: Coordinatore fittizio
A11: Trasporti
A12: Partecipazioni
A13: Bomboniere
A14: Varie
A17: Gli importi e i limiti sono ipotesi modificabili; gli avvisi richiedono sempre un controllo umano.
